Workbook

Sheet 目次・索引
B1: チャイルドシートアセスメント試験機種 目次・索引
B3: メーカー名等 | C3: 製品名 | D3: 固定方式 | E3: 用途
B4: アップリカ | C4: =HYPERLINK("#2009年度以降の試験結果一覧!D"&MATCH("エアグルーヴ*",'2009年度以降の試験結果一覧'!D:D,0),"エアグルーヴ") -> エアグルーヴ | D4: ベルト | E4: 幼児専用
B5: アップリカ | C5: =HYPERLINK("#2009年度以降の試験結果一覧!D"&MATCH("クルリラ [ISO-FIX固定]",'2009年度以降の試験結果一覧'!D:D,0),"クルリラ [ISO-FIX固定]") -> クルリラ [ISO-FIX固定] | D5: ISO-FIX・ﾍﾞﾙﾄ兼用 | E5: 乳児用・幼児用(兼用ﾀｲﾌﾟ)
B6: アップリカ | C6: =HYPERLINK("#2009年度以降の試験結果一覧!D"&MATCH("クルリラ [ベルト固定]",'2009年度以降の試験結果一覧'!D:D,0),"クルリラ [ベルト固定]") -> クルリラ [ベルト固定] | D6: ISO-FIX・ﾍﾞﾙﾄ兼用 | E6: 乳児用・幼児用(兼用ﾀｲﾌﾟ)
B7: アップリカ | C7: =HYPERLINK("#2009年度以降の試験結果一覧!D"&MATCH("クルリラ エックス プラス AB",'2009年度以降の試験結果一覧'!D:D,0),"クルリラ エックス プラス AB") -> クルリラ エックス プラス AB | D7: ISO-FIX | E7: 乳児用・幼児用(兼用ﾀｲﾌﾟ)
B8: アップリカ | C8: =HYPERLINK("#2009年度以降の試験結果一覧!D"&MATCH("クルリラ ビッテ エックス*",'2009年度以降の試験結果一覧'!D:D,0),"クルリラ ビッテ エックス") -> クルリラ ビッテ エックス | D8: ISO-FIX | E8: 乳児用・幼児用(兼用ﾀｲﾌﾟ)
B9: アップリカ | C9: =HYPERLINK("#2009年度以降の試験結果一覧!D"&MATCH("クルリラ ビッテ エックス AB*",'2009年度以降の試験結果一覧'!D:D,0),"クルリラ ビッテ エックス AB") -> クルリラ ビッテ エックス AB | D9: ISO-FIX | E9: 乳児用・幼児用(兼用ﾀｲﾌﾟ)
B10: アップリカ | C10: =HYPERLINK("#2009年度以降の試験結果一覧!D"&MATCH("クルリラ ビッテ エックス プラス",'2009年度以降の試験結果一覧'!D:D,0),"クルリラ ビッテ エックス プラス") -> クルリラ ビッテ エックス プラス | D10: ISO-FIX | E10: 乳児用・幼児用(兼用ﾀｲﾌﾟ)
B11: アップリカ | C11: =HYPERLINK("#2009年度以降の試験結果一覧!D"&MATCH("クルリラ ビッテ エックス プラス AB",'2009年度以降の試験結果一覧'!D:D,0),"クルリラ ビッテ エックス プラス AB") -> クルリラ ビッテ エックス プラス AB | D11: ISO-FIX | E11: 乳児用・幼児用(兼用ﾀｲﾌﾟ)
B12: アップリカ | C12: =HYPERLINK("#2009年度以降の試験結果一覧!D"&MATCH("クルリラ プラス 360°セーフティー*",'2009年度以降の試験結果一覧'!D:D,0),"クルリラ プラス 360°セーフティー") -> クルリラ プラス 360°セーフティー | D12: ISO-FIX | E12: 乳児用・幼児用(兼用ﾀｲﾌﾟ)
B13: アップリカ | C13: =HYPERLINK("#2009年度以降の試験結果一覧!D"&MATCH("クルリラ プロテクト",'2009年度以降の試験結果一覧'!D:D,0),"クルリラ プロテクト") -> クルリラ プロテクト | D13: ISO-FIX | E13: 乳児用・幼児用(兼用ﾀｲﾌﾟ)
B14: アップリカ | C14: =HYPERLINK("#2009年度以降の試験結果一覧!D"&MATCH("*G-FIX [ISO-FIX固定]",'2009年度以降の試験結果一覧'!D:D,0),"グレコ・G-FIX [ISO-FIX固定]") -> グレコ・G-FIX [ISO-FIX固定] | D14: ISO-FIX・ﾍﾞﾙﾄ兼用 | E14: 乳児用・幼児用(兼用ﾀｲﾌﾟ)
B15: アップリカ | C15: =HYPERLINK("#2009年度以降の試験結果一覧!D"&MATCH("*G-FIX [ベルト固定]*",'2009年度以降の試験結果一覧'!D:D,0),"グレコ・G-FIX [ベルト固定]") -> グレコ・G-FIX [ベルト固定] | D15: ISO-FIX・ﾍﾞﾙﾄ兼用 | E15: 乳児用・幼児用(兼用ﾀｲﾌﾟ)
B16: アップリカ | C16: =HYPERLINK("#2009年度以降の試験結果一覧!D"&MATCH("グレコ・GT*",'2009年度以降の試験結果一覧'!D:D,0),"グレコ・GT") -> グレコ・GT | D16: ベルト | E16: 乳児用・幼児用(兼用ﾀｲﾌﾟ)
B17: アップリカ | C17: =HYPERLINK("#2009年度以降の試験結果一覧!D"&MATCH("*マイルストーン*",'2009年度以降の試験結果一覧'!D:D,0),"グレコ・マイルストーン") -> グレコ・マイルストーン | D17: ベルト | E17: 乳児用・幼児用(兼用ﾀｲﾌﾟ)
B18: アップリカ | C18: =HYPERLINK("#2008年度以前の試験結果一覧!D"&MATCH("*ムービングサポート*",'2008年度以前の試験結果一覧'!D:D,0),"チャイルド&ジュニアシートムービングサポート") -> チャイルド&ジュニアシートムービングサポート | D18: ベルト | E18: 幼児専用
B19: アップリカ | C19: {=HYPERLINK("#2009年度以降の試験結果一覧!D"&MATCH("フラディア グロウ ISOFIX*"&17,'2009年度以降の試験結果一覧'!D:D&'2009年度以降の試験結果一覧'!F:F,0),"ディアターン プラス ISOFIX(試験:ﾌﾗﾃﾞｨｱｸﾞﾛｳISOFIX)")} -> ディアターン プラス ISOFIX(試験:ﾌﾗﾃﾞｨｱｸﾞﾛｳISOFIX) | D19: ISO-FIX | E19: 乳児用・幼児用(兼用ﾀｲﾌﾟ)
B20: アップリカ | C20: =HYPERLINK("#2008年度以前の試験結果一覧!D"&MATCH("*イージーターン６００*",'2008年度以前の試験結果一覧'!D:D,0),"ニューボーンベッドイージーターン600") -> ニューボーンベッドイージーターン600 | D20: ベルト | E20: 乳児用・幼児用(兼用ﾀｲﾌﾟ)
B21: アップリカ | C21: =HYPERLINK("#2008年度以前の試験結果一覧!D"&MATCH("*サーモ１０００*",'2008年度以前の試験結果一覧'!D:D,0),"ニューボーンベッドイージーターンWエアーサーモ1000") -> ニューボーンベッドイージーターンWエアーサーモ1000 | D21: ベルト | E21: 乳児用・幼児用(兼用ﾀｲﾌﾟ)
B22: アップリカ | C22: =HYPERLINK("#2008年度以前の試験結果一覧!D"&MATCH("*ワイド＆ロング*",'2008年度以前の試験結果一覧'!D:D,0),"ニューボーンベッドワイド＆ロング") -> ニューボーンベッドワイド＆ロング | D22: ベルト | E22: 乳児用・幼児用(兼用ﾀｲﾌﾟ)
B23: アップリカ | C23: {=HYPERLINK("#2009年度以降の試験結果一覧!D"&MATCH("フォームフィット*"&18,'2009年度以降の試験結果一覧'!D:D&'2009年度以降の試験結果一覧'!F:F,0),"フォームフィット")} -> フォームフィット | D23: ISO-FIX | E23: 幼児専用
B24: アップリカ | C24: =HYPERLINK("#2009年度以降の試験結果一覧!D"&MATCH("フォームフィット ネクスト",'2009年度以降の試験結果一覧'!D:D,0),"フォームフィット ネクスト") -> フォームフィット ネクスト | D24: ISO-FIX | E24: 幼児専用
B25: アップリカ | C25: {=HYPERLINK("#2009年度以降の試験結果一覧!D"&MATCH("フォームフィット ISOFIX 360°セーフティー*",'2009年度以降の試験結果一覧'!D:D,0),"フォームフィット ISOFIX 360°セーフティー")} -> フォームフィット ISOFIX 360°セーフティー | D25: ISO-FIX | E25: 幼児専用
B26: アップリカ | C26: {=HYPERLINK("#2009年度以降の試験結果一覧!D"&MATCH("フォームフィット ISOFIX 360°セーフティー*",'2009年度以降の試験結果一覧'!D:D,0),"フォームフィット ISOFIX セーフティープラス(試験:ﾌｫｰﾑﾌｨｯﾄISOFIX360°ｾｰﾌﾃｨｰ)")} -> フォームフィット ISOFIX セーフティープラス(試験:ﾌｫｰﾑﾌｨｯﾄISOFIX360°ｾｰﾌﾃｨｰ) | D26: ISO-FIX | E26: 幼児専用
B27: アップリカ | C27: {=HYPERLINK("#2009年度以降の試験結果一覧!D"&MATCH("*045087"&"フラディア*",'2009年度以降の試験結果一覧'!C:C&'2009年度以降の試験結果一覧'!D:D,0),"フラディア")} -> フラディア | D27: ベルト | E27: 乳児用・幼児用(兼用ﾀｲﾌﾟ)
B28: アップリカ | C28: {=HYPERLINK("#2009年度以降の試験結果一覧!D"&MATCH("フラディア グロウ*"&16,'2009年度以降の試験結果一覧'!D:D&'2009年度以降の試験結果一覧'!F:F,0),"フラディア グロウ")} -> フラディア グロウ | D28: ベルト | E28: 乳児用・幼児用(兼用ﾀｲﾌﾟ)
B29: アップリカ | C29: {=HYPERLINK("#2009年度以降の試験結果一覧!D"&MATCH("フラディア グロウ ISOFIX*"&17,'2009年度以降の試験結果一覧'!D:D&'2009年度以降の試験結果一覧'!F:F,0),"フラディア グロウ ISOFIX")} -> フラディア グロウ ISOFIX | D29: ISO-FIX | E29: 乳児用・幼児用(兼用ﾀｲﾌﾟ)
B30: アップリカ | C30: {=HYPERLINK("#2009年度以降の試験結果一覧!D"&MATCH("フラディア グロウ ISOFIX 360°セーフティー*"&19,'2009年度以降の試験結果一覧'!D:D&'2009年度以降の試験結果一覧'!F:F,0),"フラディア グロウ ISOFIX 360°セーフティー")} -> フラディア グロウ ISOFIX 360°セーフティー | D30: ISO-FIX | E30: 乳児用・幼児用(兼用ﾀｲﾌﾟ)
B31: アップリカ | C31: {=HYPERLINK("#2009年度以降の試験結果一覧!D"&MATCH("フラディア グロウ ISOFIX 360°セーフティー*"&19,'2009年度以降の試験結果一覧'!D:D&'2009年度以降の試験結果一覧'!F:F,0),"フラディア グロウ ISOFIX セーフティープラス(試験:ﾌﾗﾃﾞｨｱｸﾞﾛｳISOFIX360°ｾｰﾌﾃｨ)")} -> フラディア グロウ ISOFIX セーフティープラス(試験:ﾌﾗﾃﾞｨｱｸﾞﾛｳISOFIX360°ｾｰﾌﾃｨ) | D31: ISO-FIX | E31: 乳児用・幼児用(兼用ﾀｲﾌﾟ)
B32: アップリカ | C32: {=HYPERLINK("#2009年度以降の試験結果一覧!D"&MATCH("フラディア グロウ ISOFIX セーフティープラス AB*",'2009年度以降の試験結果一覧'!D:D,0),"フラディア グロウ ISOFIX セーフティープラス AB")} -> フラディア グロウ ISOFIX セーフティープラス AB | D32: ISO-FIX | E32: 乳児用・幼児用(兼用ﾀｲﾌﾟ)
B33: アップリカ | C33: {=HYPERLINK("#2009年度以降の試験結果一覧!D"&MATCH("フラディア プラス*",'2009年度以降の試験結果一覧'!D:D,0),"フラディア プラス")} -> フラディア プラス | D33: ISO-FIX | E33: 乳児用・幼児用(兼用ﾀｲﾌﾟ)
B34: アップリカ | C34: =HYPERLINK("#2008年度以前の試験結果一覧!D"&MATCH("ベッティーノ*",'2008年度以前の試験結果一覧'!D:D,0),"ベッティーノSTD") -> ベッティーノSTD | D34: ベルト | E34: 乳児用・幼児用(兼用ﾀｲﾌﾟ)
B35: アップリカ | C35: =HYPERLINK("#2008年度以前の試験結果一覧!D"&MATCH("*Jターンサーモ*",'2008年度以前の試験結果一覧'!D:D,0),"マシュマロJターンサーモ") -> マシュマロJターンサーモ | D35: ベルト | E35: 乳児用・幼児用(兼用ﾀｲﾌﾟ)
B36: アップリカ | C36: =HYPERLINK("#2008年度以前の試験結果一覧!D"&MATCH("*ネオサーモ*",'2008年度以前の試験結果一覧'!D:D,0),"マシュマロJターンネオサーモ") -> マシュマロJターンネオサーモ | D36: ベルト | E36: 乳児用・幼児用(兼用ﾀｲﾌﾟ)
B37: アップリカ | C37: =HYPERLINK("#2008年度以前の試験結果一覧!D"&MATCH("*Ｊフィックスサーモ*",'2008年度以前の試験結果一覧'!D:D,0),"マシュマロJフィックスサーモ") -> マシュマロJフィックスサーモ | D37: ベルト | E37: 乳児用・幼児用(兼用ﾀｲﾌﾟ)
B38: アップリカ | C38: =HYPERLINK("#2008年度以前の試験結果一覧!D"&MATCH("*エアーインパクトⅡ*",'2008年度以前の試験結果一覧'!D:D,0),"マシュマロエアーインパクトⅡ") -> マシュマロエアーインパクトⅡ | D38: ベルト | E38: 幼児専用
B39: アップリカ | C39: =HYPERLINK("#2008年度以前の試験結果一覧!D"&MATCH("*エアー8 サポート*",'2008年度以前の試験結果一覧'!D:D,0),"マシュマロジュニアエアー8 サポート") -> マシュマロジュニアエアー8 サポート | D39: ベルト | E39: 幼児専用
B40: アップリカ | C40: =HYPERLINK("#2008年度以前の試験結果一覧!D"&MATCH("*V シールド*",'2008年度以前の試験結果一覧'!D:D,0),"マシュマロフィッツV シールド") -> マシュマロフィッツV シールド | D40: ベルト | E40: 幼児専用
B41: アップリカ | C41: =HYPERLINK("#2008年度以前の試験結果一覧!D"&MATCH("*Wサーモ*",'2008年度以前の試験結果一覧'!D:D,0),"マシュマロベッドWサーモ") -> マシュマロベッドWサーモ | D41: ベルト | E41: 乳児用・幼児用(兼用ﾀｲﾌﾟ)
...

Sheet 2009年度以降の試験結果一覧
A1: =HYPERLINK("#'目次・索引'!B1","索引へ戻る") -> 索引へ戻る | D1: チャイルドシート試験結果一覧表（2009年度以降）
A3: 2009年度以降の結果表 （2008年度以前の結果は、「2008年度以前の試験結果一覧」シートをご覧ください。）
D4: 自動車製作者等の申し出による委託試験機種 | AH4: (注) 2015年より評価方法を変更したため結果を赤字としています。2014年までの結果と単純比較はできません。
A5: カテゴリー | B5: 固定方式 | C5: 指定番号 | D5: 通称名 | E5: メーカー名等 | F5: 試験実施年度 | G5: 適合基準 | H5: 前面衝突試験 （乳児用[ベッド型]） | P5: 前面衝突試験 （乳児用） | Y5: 前面衝突試験 （幼児用） | AH5: 使用性評価試験 (注） （乳児用[ベッド型]） | AM5: 使用性評価試験 (注） （乳児用） | AR5: 使用性評価試験 (注） （幼児用） | AW5: 特記事項
H6: 評価 | I6: 取付部等の破損 | J6: ベッド 底面 の 傾き （°） | K6: 頭部 移動量 （mm） | M6: 胸部に 生じる力 （m/s2） | O6: その他の事象 | P6: 評価 | Q6: 取付部等の破損 | R6: シート バック の傾き （°） | T6: 頭部 の はみ 出し （mm） | V6: 胸部に 生じる力 （m/s2） | X6: その他の事象 | Y6: 評価 | Z6: 取付部等の破損 | AA6: 頭部 移動量 （mm） | AC6: 頭部に 生じる力 （m/s2） | AE6: 胸部に 生じる力 （m/s2） | AG6: その他の事象 | AH6: 取扱説明書等 | AI6: 本体表示 | AJ6: 本体機構 | AK6: 取付性 | AL6: 装着性 | AM6: 取扱説明書等 | AN6: 本体表示 | AO6: 本体機構 | AP6: 取付性 | AQ6: 装着性 | AR6: 取扱説明書等 | AS6: 本体表示 | AT6: 本体機構 | AU6: 取付性 | AV6: 装着性
A8: 乳児専用 | B8: ISO-FIX／ベルト固定 (兼用タイプ) | C8: R129-030570 | D8: Joie・ベビーシート アイ・スナグ2[ISO-FIX固定] | E8: (株)カトージ | F8: 24 | G8: R129 | P8: 優 | Q8: ◎ | R8: ◎ | S8: 47 | T8: ◎ | V8: ◎ | W8: 483.7 | X8: なし | AM8: 4 | AN8: 2 | AO8: 2 | AP8: 5 | AQ8: 2 | AW8: ISO-FIX固定（I-Base使用）
A9: 乳児専用 | B9: ISO-FIX／ベルト固定 (兼用タイプ) | C9: R129-030570 | D9: Joie・ベビーシート アイ・スナグ2 [ベルト固定] | E9: (株)カトージ | F9: 24 | G9: R129 | P9: 優 | Q9: ◎ | R9: ◎ | S9: 40 | T9: ◎ | V9: ◎ | W9: 403.9 | X9: なし | AM9: 4 | AN9: 3 | AO9: 2 | AP9: 3 | AQ9: 2 | AW9: ベルト固定
A10: 乳児専用 | B10: ISO-FIX／ベルト固定 (兼用タイプ) | C10: E11 040250 | D10: Joie・ジェム [ISO-FIX固定] | E10: (株)カトージ | F10: 20 | G10: R44 04 | P10: 優 | Q10: ◎ | R10: ◎ | S10: 35 | T10: ◎ | V10: ◎ | W10: 404.5 | X10: なし | AM10: 1 | AN10: 3 | AO10: 3 | AP10: 5 | AQ10: 2
A11: 乳児専用 | B11: ISO-FIX／ベルト固定 (兼用タイプ) | C11: E11 040250 | D11: Joie・ジェム [ベルト固定] | E11: (株)カトージ | F11: 20 | G11: R44 04 | P11: 優 | Q11: ◎ | R11: ◎ | S11: 33 | T11: ◎ | V11: ◎ | W11: 466 | X11: なし | AM11: 1 | AN11: 3 | AO11: 3 | AP11: 3 | AQ11: 2 | AW11: ベルト固定
A12: 乳児専用 | B12: ベルト 固定 | C12: E11 041502 | D12: Joie・ジュバ | E12: (株)カトージ | F12: 17 | G12: R44 04 | P12: 優 | Q12: ◎ | R12: ◎ | S12: 38 | T12: ◎ | V12: ◎ | W12: 416.7 | X12: なし | AM12: 4 | AN12: 2 | AO12: 3 | AP12: 3 | AQ12: 2
A13: 乳児専用 | B13: ベルト 固定 | C13: E4 04443409 | D13: マムズキャリーブライトⅡ | E13: (株)シーエー産商 | F13: 17 | G13: R44 04 | P13: 優 | Q13: ◎ | R13: ◎ | S13: 31 | T13: ◎ | V13: ◎ | W13: 379.1 | X13: なし | AM13: 1 | AN13: 4 | AO13: 4 | AP13: 3 | AQ13: 3
A14: 乳児専用 | B14: ベルト 固定 | C14: E1 04301146 | D14: レーマー・ベビーセーフプレミアム | E14: VCJコーポレーション(株) | F14: 09 | G14: R44 04 | P14: 優 | Q14: ◎ | R14: ◎ | S14: 39 | T14: ◎ | V14: ◎ | W14: 485.4 | X14: なし | AM14: 5 | AN14: 4.2 | AO14: 3 | AP14: 5 | AQ14: 4
A15: 乳児専用 | B15: ベルト 固定 | C15: E1 03301179 | D15: ベビーズシート | E15: (株)日本育児 | F15: 09 | G15: R44 03 | P15: 良 | Q15: ◎ | R15: ◎ | S15: 43 | T15: ○ | U15: 44 | V15: ◎ | W15: 461.3 | X15: なし | AM15: 1.8 | AN15: 2.5 | AO15: 3 | AP15: 5 | AQ15: 4.2
A16: 乳児用・幼児用 （兼用タイプ） | B16: ISO-FIX固定 | C16: E4 044348 | D16: ネルーム ISOFIX | E16: コンビ(株) | F16: 14 | G16: R44 04 | P16: 優 | Q16: ◎ | R16: ◎ | S16: 51 | T16: ◎ | V16: ◎ | W16: 362.5 | X16: なし | Y16: 優 | Z16: ◎ | AA16: ◎ | AB16: 485 | AC16: ◎ | AD16: 525.6 | AE16: ◎ | AF16: 341.4 | AG16: なし | AM16: 4.2 | AN16: 4.3 | AO16: 4.4 | AP16: 3.3 | AQ16: 4.4 | AR16: 4.2 | AS16: 4.3 | AT16: 4.4 | AU16: 4 | AV16: 4.4
A17: 乳児用・幼児用 （兼用タイプ） | B17: ベルト 固定 | C17: E43 44R040009 | D17: takata04-neo SF | E17: タカタ(株) | F17: 14 | G17: R44 04 | P17: 優 | Q17: ◎ | R17: ◎ | S17: 54 | T17: ◎ | V17: ◎ | W17: 406.3 | X17: なし | Y17: 優 | Z17: ◎ | AA17: ◎ | AB17: 495 | AC17: ◎ | AD17: 561.5 | AE17: ◎ | AF17: 443.6 | AG17: なし | AM17: 4.3 | AN17: 4.5 | AO17: 4 | AP17: 5 | AQ17: 4.8 | AR17: 4.3 | AS17: 4.5 | AT17: 4 | AU17: 5 | AV17: 4.8
A18: 乳児用・幼児用 （兼用タイプ） | B18: ベルト 固定 | C18: E24 040093 | D18: カイナ | E18: リーマン(株) | F18: 14 | G18: R44 04 | P18: 優 | Q18: ◎ | R18: ◎ | S18: 55 | T18: ◎ | V18: ◎ | W18: 488.9 | X18: なし | Y18: 優 | Z18: ◎ | AA18: ◎ | AB18: 524 | AC18: ◎ | AD18: 586.3 | AE18: ◎ | AF18: 470.7 | AG18: なし | AM18: 4.7 | AN18: 3.5 | AO18: 4.3 | AP18: 3.8 | AQ18: 4.8 | AR18: 4.7 | AS18: 3.5 | AT18: 4.3 | AU18: 3.3 | AV18: 4.8
A19: 乳児用・幼児用 （兼用タイプ） | B19: ISO-FIX／ベルト固定 (兼用タイプ) | C19: E13 045069 | D19: グレコ・G-FIX [ISO-FIX固定] | E19: アップリカ・チルドレンズプロダクツ(株) | F19: 13 | G19: R44 04 | P19: 優 | Q19: ◎ | R19: ◎ | S19: 46 | T19: ◎ | V19: ◎ | W19: 416.6 | X19: なし | Y19: 優 | Z19: ◎ | AA19: ◎ | AB19: 467 | AC19: ◎ | AD19: 586.3 | AE19: ◎ | AF19: 304.8 | AG19: なし | AM19: ※ | AN19: ※ | AO19: ※ | AP19: ※ | AQ19: ※ | AR19: ※ | AS19: ※ | AT19: ※ | AU19: ※ | AV19: ※ | AW19: ISO-FIX固定 ※ 試験車両に対応していないため未実施
A20: 乳児用・幼児用 （兼用タイプ） | B20: ベルト 固定 | C20: E43 44R040005 | D20: takata04-smartfix basic | E20: タカタ(株) | F20: 13 | G20: R44 04 | P20: 優 | Q20: ◎ | R20: ◎ | S20: 47 | T20: ◎ | V20: ◎ | W20: 408.3 | X20: なし | Y20: 優 | Z20: ◎ | AA20: ◎ | AB20: 504 | AC20: ◎ | AD20: 586.2 | AE20: ◎ | AF20: 445.1 | AG20: なし | AM20: 3.7 | AN20: 4.3 | AO20: 4 | AP20: 4 | AQ20: 3.8 | AR20: 3.7 | AS20: 4.3 | AT20: 4 | AU20: 2.8 | AV20: 3.8
A21: 乳児用・幼児用 （兼用タイプ） | B21: ISO-FIX固定 | C21: E43 44R040004 | D21: takata04-ｉ fix | E21: タカタ(株) | F21: 12 | G21: R44 04 | P21: 優 | Q21: ◎ | R21: ◎ | S21: 39 | T21: ◎ | V21: ◎ | W21: 486.4 | X21: なし | Y21: 優 | Z21: ◎ | AA21: ◎ | AB21: 399 | AC21: ◎ | AD21: 618.1 | AE21: ◎ | AF21: 387.7 | AG21: なし | AM21: 3.8 | AN21: 4.5 | AO21: 4.7 | AP21: 4 | AQ21: 4.6 | AR21: 3.8 | AS21: 4.5 | AT21: 4.7 | AU21: 5 | AV21: 4.6
A22: 乳児用・幼児用 （兼用タイプ） | B22: ベルト 固定 | C22: E4 04443909 | D22: takata04-smartfix | E22: タカタ(株) | F22: 10 | G22: R44 04 | P22: 優 | Q22: ◎ | R22: ◎ | S22: 54 | T22: ◎ | V22: ◎ | W22: 343.1 | X22: なし | Y22: 優 | Z22: ◎ | AA22: ◎ | AB22: 516 | AC22: ◎ | AD22: 523.1 | AE22: ◎ | AF22: 449 | AG22: なし | AM22: 3.7 | AN22: 4.2 | AO22: 4 | AP22: 4 | AQ22: 3.8 | AR22: 3.7 | AS22: 4.2 | AT22: 4 | AU22: 3.5 | AV22: 3.8
A23: 乳児用・幼児用 （兼用タイプ） | B23: ISO-FIX固定 | C23: E11-129R-030556 | D23: クルリラ エックス プラス AB | E23: ニューウェルブランズ・ジャパン（同） | F23: 25 | G23: R129 | P23: 優 | Q23: ◎ | R23: ◎ | S23: 52 | T23: ◎ | V23: ◎ | W23: 424.6 | X23: なし | Y23: 良 | Z23: ◎ | AA23: ◎ | AB23: 489 | AC23: 〇 | AD23: 666.4 | AE23: ◎ | AF23: 393 | AG23: なし | AM23: 5 | AN23: 5 | AO23: 5 | AP23: 5 | AQ23: 4 | AR23: 5 | AS23: 5 | AT23: 4 | AU23: 5 | AV23: 4
A24: 乳児用・幼児用 （兼用タイプ） | B24: ISO-FIX固定 | C24: E11-129R-030556 | D24: クルリラ ビッテ エックス プラス AB | E24: ニューウェルブランズ・ジャパン（同） | F24: 25 | G24: R129 | P24: 優 | Q24: ◎ | R24: ◎ | S24: 54 | T24: ◎ | V24: ◎ | W24: 401.5 | X24: なし | Y24: 良 | Z24: ◎ | AA24: ◎ | AB24: 494 | AC24: 〇 | AD24: 682.3 | AE24: ◎ | AF24: 385 | AG24: なし | AM24: 5 | AN24: 5 | AO24: 5 | AP24: 5 | AQ24: 4 | AR24: 5 | AS24: 5 | AT24: 4 | AU24: 5 | AV24: 4
A25: 乳児用・幼児用 （兼用タイプ） | B25: ISO-FIX固定 | C25: E11-129R-030556 | D25: クルリラ ビッテ エックス プラス | E25: ニューウェルブランズ・ジャパン（同） | F25: 24 | G25: R129 | P25: 優 | Q25: ◎ | R25: ◎ | S25: 52 | T25: ◎ | V25: ◎ | W25: 397.6 | X25: なし | Y25: 良 | Z25: ◎ | AA25: ◎ | AB25: 491 | AC25: 〇 | AD25: 642.3 | AE25: ◎ | AF25: 407.6 | AG25: なし | AM25: 5 | AN25: 5 | AO25: 5 | AP25: 5 | AQ25: 4 | AR25: 5 | AS25: 5 | AT25: 4 | AU25: 5 | AV25: 4
A26: 乳児用・幼児用 （兼用タイプ） | B26: ISO-FIX固定 | C26: E13 129R-030001 | D26: フラディア プラス | E26: ニューウェルブランズ・ジャパン（同） | F26: 23 | G26: R129 | H26: 優 | I26: ◎ | J26: ◎ | K26: ◎ | L26: 524 | M26: ◎ | N26: 436.8 | O26: なし | P26: 優 | Q26: ◎ | R26: ◎ | S26: 47 | T26: ◎ | V26: ◎ | W26: 400.8 | X26: なし | Y26: 良 | Z26: ◎ | AA26: ◎ | AB26: 507 | AC26: 〇 | AD26: 762.5 | AE26: ◎ | AF26: 452.3 | AG26: なし | AH26: 5 | AI26: 5 | AJ26: 5 | AK26: 5 | AL26: 4 | AM26: 5 | AN26: 5 | AO26: 4 | AP26: 5 | AQ26: 4 | AR26: 5 | AS26: 5 | AT26: 4 | AU26: 5 | AV26: 4
A27: 乳児用・幼児用 （兼用タイプ） | B27: ISO-FIX固定 | C27: E11 129R-030556 | D27: クルリラ ビッテ エックス AB | E27: ニューウェルブランズ・ジャパン（同） | F27: 23 | G27: R129 | P27: 優 | Q27: ◎ | R27: ◎ | S27: 41 | T27: ◎ | V27: ◎ | W27: 435.8 | X27: なし | Y27: 良 | Z27: ◎ | AA27: ◎ | AB27: 484 | AC27: 〇 | AD27: 665.1 | AE27: ◎ | AF27: 384 | AG27: なし | AM27: 5 | AN27: 5 | AO27: 5 | AP27: 5 | AQ27: 4 | AR27: 5 | AS27: 5 | AT27: 4 | AU27: 5 | AV27: 4
A28: 乳児用・幼児用 （兼用タイプ） | B28: ISO-FIX固定 | C28: E9*129R03/04*1036*00 | D28: クルムーヴ アドバンス | E28: コンビ(株) | F28: 22 | G28: R129 | P28: 優 | Q28: ◎ | R28: ◎ | S28: 39 | T28: ◎ | V28: ◎ | W28: 488.3 | X28: なし | Y28: 良 | Z28: ◎ | AA28: ○ | AB28: 544 | AC28: ◎ | AD28: 561.8 | AE28: ◎ | AF28: 370.7 | AG28: なし | AM28: 4 | AN28: 2 | AO28: 5 | AP28: 4 | AQ28: 4 | AR28: 4 | AS28: 2 | AT28: 3 | AU28: 4 | AV28: 4
A29: 乳児用・幼児用 （兼用タイプ） | B29: ISO-FIX固定 | C29: E11-129R-030556 | D29: クルリラ ビッテ エックス | E29: ニューウェルブランズ・ジャパン（同） | F29: 22 | G29: R129 | P29: 優 | Q29: ◎ | R29: ◎ | S29: 42 | T29: ◎ | V29: ◎ | W29: 437.7 | X29: なし | Y29: 良 | Z29: ◎ | AA29: ◎ | AB29: 494 | AC29: ○ | AD29: 662.2 | AE29: ◎ | AF29: 412.5 | AG29: なし | AM29: 5 | AN29: 4 | AO29: 5 | AP29: 5 | AQ29: 4 | AR29: 5 | AS29: 4 | AT29: 4 | AU29: 5 | AV29: 4
A30: 乳児用・幼児用 （兼用タイプ） | B30: ISO-FIX固定 | C30: E4-129R-030128 | D30: エールべべ・クルットR | E30: (株)カーメイト | F30: 22 | G30: R129 | P30: 優 | Q30: ◎ | R30: ◎ | S30: 46 | T30: ◎ | V30: ◎ | W30: 424.4 | X30: なし | Y30: 良 | Z30: ◎ | AA30: ◎ | AB30: 509 | AC30: ○ | AD30: 710.8 | AE30: ◎ | AF30: 432.4 | AG30: なし | AM30: 5 | AN30: 5 | AO30: 5 | AP30: 5 | AQ30: 3 | AR30: 5 | AS30: 5 | AT30: 4 | AU30: 5 | AV30: 3
A31: 乳児用・幼児用 （兼用タイプ） | B31: ISO-FIX固定 | C31: E11-129R-030519 | D31: クルリラ プラス 360°セーフティー | E31: ニューウェルブランズ・ジャパン（同） | F31: 20 | G31: R129 | P31: 優 | Q31: ◎ | R31: ◎ | S31: 42 | T31: ◎ | V31: ◎ | W31: 449.2 | X31: なし | Y31: 良 | Z31: ◎ | AA31: ◎ | AB31: 454 | AC31: ○ | AD31: 716.1 | AE31: ◎ | AF31: 410.8 | AG31: なし | AM31: 4 | AN31: 2 | AO31: 5 | AP31: 5 | AQ31: 4 | AR31: 4 | AS31: 2 | AT31: 4 | AU31: 5 | AV31: 4
A32: 乳児用・幼児用 （兼用タイプ） | B32: ISO-FIX固定 | C32: E13 129R-020001 | D32: フラディア グロウ ISOFIX 360°セーフティー | E32: アップリカ・チルドレンズプロダクツ(同) | F32: 19 | G32: R44 04 | H32: 良 | I32: ◎ | J32: ◎ | K32: ◎ | L32: 557 | M32: ○ | N32: 504.2 | O32: なし | P32: 優 | Q32: ◎ | R32: ◎ | S32: 40 | T32: ◎ | V32: ◎ | W32: 381.2 | X32: なし | Y32: 良 | Z32: ◎ | AA32: ◎ | AB32: 508 | AC32: ○ | AD32: 780 | AE32: ◎ | AF32: 469.4 | AG32: なし | AH32: 5 | AI32: 4 | AJ32: 4 | AK32: 5 | AL32: 4 | AM32: 5 | AN32: 4 | AO32: 4 | AP32: 5 | AQ32: 4 | AR32: 5 | AS32: 4 | AT32: 4 | AU32: 5 | AV32: 4
A33: 乳児用・幼児用 （兼用タイプ） | B33: ベルト 固定 | C33: E8 047665 | D33: ネディアップ | E33: リーマン(株) | F33: 15 | G33: R44 04 | P33: 優 | Q33: ◎ | R33: ◎ | S33: 35 | T33: ◎ | V33: ◎ | W33: 449.6 | X33: なし | Y33: 良 | Z33: ◎ | AA33: ◎ | AB33: 523 | AC33: ○ | AD33: 779.2 | AE33: ◎ | AF33: 430.6 | AG33: なし | AM33: 5 | AN33: 3 | AO33: 4 | AP33: 3 | AQ33: 3 | AR33: 5 | AS33: 3 | AT33: 4 | AU33: 3 | AV33: 3
A34: 乳児用・幼児用 （兼用タイプ） | B34: ベルト 固定 | C34: E4 04444103 | D34: Joie・チルト | E34: (株)カトージ | F34: 12 | G34: R44 04 | P34: 優 | Q34: ◎ | R34: ◎ | S34: 37 | T34: ◎ | V34: ◎ | W34: 454.3 | X34: なし | Y34: 良 | Z34: ◎ | AA34: ◎ | AB34: 511 | AC34: ○ | AD34: 730.5 | AE34: ◎ | AF34: 448.1 | AG34: なし | AM34: 3.2 | AN34: 2.7 | AO34: 3.3 | AP34: 1.5 | AQ34: 4.2 | AR34: 3.2 | AS34: 2.7 | AT34: 3.3 | AU34: 4.3 | AV34: 4.2
A35: 乳児用・幼児用 （兼用タイプ） | B35: ベルト 固定 | C35: E4 044203 | D35: マルゴット | E35: コンビ(株) | F35: 12 | G35: R44 04 | P35: 優 | Q35: ◎ | R35: ◎ | S35: 46 | T35: ◎ | V35: ◎ | W35: 487.8 | X35: なし | Y35: 良 | Z35: ◎ | AA35: ◎ | AB35: 510 | AC35: ○ | AD35: 730.7 | AE35: ◎ | AF35: 491.4 | AG35: なし | AM35: 4.3 | AN35: 4.5 | AO35: 4 | AP35: 4 | AQ35: 4.4 | AR35: 4.3 | AS35: 4.5 | AT35: 4 | AU35: 4.3 | AV35: 4.8
A36: 乳児用・幼児用 （兼用タイプ） | B36: ベルト 固定 | C36: E13 045087 | D36: フラディア | E36: アップリカ・チルドレンズプロダクツ(株) | F36: 11 | G36: R44 04 | H36: 良 | I36: ◎ | J36: ◎ | K36: ◎ | L36: 538 | M36: ○ | N36: 722.8 | O36: なし | P36: 優 | Q36: ◎ | R36: ◎ | S36: 36 | T36: ◎ | V36: ◎ | W36: 481 | X36: なし | Y36: 良 | Z36: ◎ | AA36: ◎ | AB36: 516 | AC36: ○ | AD36: 727.6 | AE36: ◎ | AF36: 512.9 | AG36: なし | AH36: 3.7 | AI36: 2.5 | AJ36: 2.6 | AK36: 4.3 | AL36: 4.2 | AM36: 3.7 | AN36: 2.5 | AO36: 2.6 | AP36: 3.3 | AQ36: 3.8 | AR36: 3.7 | AS36: 2.5 | AT36: 2.6 | AU36: 4.3 | AV36: 3.8
A37: 乳児用・幼児用 （兼用タイプ） | B37: ベルト 固定 | C37: E8 045981 | D37: ピピデビュー | E37: リーマン(株) | F37: 11 | G37: R44 04 | P37: 優 | Q37: ◎ | R37: ◎ | S37: 45 | T37: ◎ | V37: ◎ | W37: 473.1 | X37: なし | Y37: 良 | Z37: ◎ | AA37: ◎ | AB37: 518 | AC37: ○ | AD37: 737.7 | AE37: ◎ | AF37: 468.2 | AG37: なし | AM37: 4.2 | AN37: 2.8 | AO37: 4.3 | AP37: 4.3 | AQ37: 4 | AR37: 4.2 | AS37: 2.8 | AT37: 4.3 | AU37: 4.5 | AV37: 4
A38: 乳児用・幼児用 （兼用タイプ） | B38: ベルト 固定 | C38: E8 044399 | D38: パミオドゥーエ | E38: リーマン(株) | F38: 09 | G38: R44 04 | P38: 優 | Q38: ◎ | R38: ◎ | S38: 49 | T38: ◎ | V38: ◎ | W38: 445.3 | X38: なし | Y38: 良 | Z38: ◎ | AA38: ◎ | AB38: 509 | AC38: ○ | AD38: 675.3 | AE38: ◎ | AF38: 495.4 | AG38: なし | AM38: 4.2 | AN38: 3.3 | AO38: 3.7 | AP38: 4.8 | AQ38: 4 | AR38: 4.2 | AS38: 3.3 | AT38: 3.7 | AU38: 5 | AV38: 4
A39: 乳児用・幼児用 （兼用タイプ） | B39: ISO-FIX固定 | C39: E11 129R-030519 | D39: クルリラ プロテクト | E39: アップリカ・チルドレンズプロダクツ(同) | F39: 19 | G39: R44 04 | P39: 優 | Q39: ◎ | R39: ◎ | S39: 49 | T39: ◎ | V39: ◎ | W39: 459.2 | X39: なし | Y39: 普通 | Z39: ○ | AA39: ◎ | AB39: 455 | AC39: ○ | AD39: 654 | AE39: ◎ | AF39: 403.5 | AG39: なし | AM39: 4 | AN39: 4 | AO39: 4 | AP39: 5 | AQ39: 4 | AR39: 4 | AS39: 4 | AT39: 4 | AU39: 5 | AV39: 4
A40: 乳児用・幼児用 （兼用タイプ） | B40: ベルト 固定 | C40: E24-44R-040201 | D40: ウィゴーロング | E40: (株)コンビ | F40: 18 | G40: R44 04 | P40: 優 | Q40: ◎ | R40: ◎ | S40: 36 | T40: ◎ | V40: ◎ | W40: 411.2 | X40: なし | Y40: 普通 | Z40: ◎ | AA40: ○ | AB40: 576 | AC40: ○ | AD40: 657.5 | AE40: ◎ | AF40: 410.4 | AG40: なし | AM40: 3 | AN40: 4 | AO40: 3 | AP40: 3 | AQ40: 3 | AR40: 3 | AS40: 4 | AT40: 3 | AU40: 3 | AV40: 3
A41: 乳児用・幼児用 （兼用タイプ） | B41: ベルト 固定 | C41: E8 048064 | D41: Oreille | E41: ピジョン(株) | F41: 18 | G41: R44 04 | P41: 優 | Q41: ◎ | R41: ◎ | S41: 46 | T41: ◎ | V41: ◎ | W41: 347 | X41: なし | Y41: 普通 | Z41: ◎ | AA41: ○ | AB41: 560 | AC41: ○ | AD41: 700.1 | AE41: ◎ | AF41: 500 | AG41: なし | AM41: 5 | AN41: 4 | AO41: 3 | AP41: 3 | AQ41: 4 | AR41: 5 | AS41: 4 | AT41: 3 | AU41: 3 | AV41: 4
A42: 乳児用・幼児用 （兼用タイプ） | B42: ベルト 固定 | C42: E11 041504 | D42: Joie・バリアント | E42: (株)カトージ | F42: 17 | G42: R44 04 | P42: 優 | Q42: ◎ | R42: ◎ | S42: 52 | T42: ◎ | V42: ◎ | W42: 426 | X42: なし | Y42: 普通 | Z42: ○ | AA42: ○ | AB42: 540 | AC42: ○ | AD42: 728.9 | AE42: ◎ | AF42: 503.5 | AG42: なし | AM42: 4 | AN42: 3 | AO42: 5 | AP42: 3 | AQ42: 3 | AR42: 4 | AS42: 3 | AT42: 4 | AU42: 3 | AV42: 3
...

Sheet 2008年度以前の試験結果一覧
A1: =HYPERLINK("#'目次・索引'!B1","索引へ戻る") -> 索引へ戻る | D1: チャイルドシート試験結果一覧表（2008年度以前）
A3: 2008年度以前の結果表 （2009年度以降の結果は、「2009年度以降の試験結果一覧」シートをご覧ください。）
A4: カテゴリー | B4: 固定方式 | C4: 指定番号 | D4: 通称名 | E4: メーカー名等 | F4: 試験実施年度 | G4: 適合基準 | H4: 前面衝突試験 （乳児用[ベッド型]） | P4: 前面衝突試験（乳児用） | X4: 前面衝突試験（幼児用） | AG4: 使用性評価試験 （乳児用[ベッド型]） | AL4: 使用性評価試験 （乳児用） | AQ4: 使用性評価試験 （幼児用） | AV4: 特記事項
H5: 評価 | I5: 取付部等の破損 | J5: ベッド 底面 の 傾き （°） | K5: 頭部 移動量 （mm） | M5: 胸部に 生じる力 （m/s2） | O5: その他の事象 | P5: 評価 | Q5: 取付部等の破損 | R5: シートバックの傾き （°） | T5: 頭部のはみ出し （mm） | U5: 胸部に 生じる力 （m/s2） | W5: その他 の事象 | X5: 評価 | Y5: 取付部等の破損 | Z5: 頭部 移動量 （mm） | AB5: 頭部に 生じる力 （m/s2） | AD5: 胸部に 生じる力 （m/s2） | AF5: その他の事象 | AG5: 取扱説明書等 | AH5: 本体表示 | AI5: 本体機構 | AJ5: 取付性 | AK5: 装着性 | AL5: 取扱説明書等 | AM5: 本体表示 | AN5: 本体機構 | AO5: 取付性 | AP5: 装着性 | AQ5: 取扱説明書等 | AR5: 本体表示 | AS5: 本体機構 | AT5: 取付性 | AU5: 装着性
A6: 乳児専用 | B6: ベルト 固定 | C6: 自C-1007,自C-157 | D6: PAOPAOベビーNS | E6: (株)東海理化電機製作所 | F6: 02 | G6: 2000年 1月施行 国内基準 | P6: 優 | Q6: ◎ | R6: ◎ | S6: 43 | T6: ◎ | U6: ◎ | V6: 54.09 | W6: なし | AL6: 2.8 | AM6: 2.8 | AN6: 3 | AO6: 4.3 | AP6: 3.4
A7: 乳児専用 | B7: ベルト 固定 | C7: － | D7: カブリオレ | E7: コンビ(株) | F7: 05 | G7: R44 03 | P7: 優 | Q7: ◎ | R7: ◎ | S7: 32 | T7: ◎ | U7: ◎ | V7: 54.82 | W7: なし | AL7: 3.3 | AM7: 4 | AN7: 3.5 | AO7: 4.5 | AP7: 4.6
A8: 乳児専用 | B8: ベルト 固定 | C8: 自C-1010,自C-146 | D8: プリムベビー | E8: コンビ(株) | F8: 01 | G8: 2000年 1月施行 国内基準 | P8: 優 | Q8: ◎ | R8: ◎ | S8: 33 | T8: ◎ | U8: ◎ | V8: 51.85 | W8: なし | AL8: 4.3 | AM8: 4.2 | AN8: 5 | AO8: 4.3 | AP8: 4
A9: 乳児専用 | B9: ベルト 固定 | C9: － | D9: マキシコシベビー | E9: コンビ(株) | F9: 02 | G9: R44 03 | P9: 優 | Q9: ◎ | R9: ◎ | S9: 30 | T9: ◎ | U9: ◎ | V9: 52.44 | W9: なし | AL9: 4 | AM9: 3.5 | AN9: 4 | AO9: 4.3 | AP9: 4.2
A10: 乳児専用 | B10: ベルト 固定 | C10: － | D10: レーマー・ベビーセーフプラス | E10: (株)ヤナセ | F10: 03 | G10: R44 03 | P10: 優 | Q10: ◎ | R10: ◎ | S10: 42 | T10: ◎ | U10: ◎ | V10: 53.31 | W10: なし | AL10: 5 | AM10: 4.5 | AN10: 4.5 | AO10: 5 | AP10: 4.6
A11: 乳児専用 | B11: ベルト 固定 | C11: － | D11: オートベビープラス | E11: グレコ | F11: 04 | G11: R44 03 | P11: 良 | Q11: ◎ | R11: ◎ | S11: 46 | T11: ◎ | U11: ○ | V11: 59.39 | W11: なし | AL11: 1.2 | AM11: 2 | AN11: 4 | AO11: 4 | AP11: 3.4
A12: 乳児専用 | B12: ベルト 固定 | C12: E4 04443638 | D12: グッドキャリー | E12: コンビ(株) | F12: 07 | G12: R44 04 | P12: 良 | Q12: ◎ | R12: ◎ | S12: 41 | T12: ◎ | U12: ○ | V12: 56.23 | W12: なし | AL12: 4.2 | AM12: 3.5 | AN12: 5 | AO12: 4.5 | AP12: 4.6
A13: 乳児専用 | B13: ベルト 固定 | C13: － | D13: スーパーキャリー [3点固定]（※） | E13: (株)日本育児 | F13: 02 | G13: FMVSS No.213 | P13: 良 | Q13: ○ | R13: ◎ | S13: 31 | T13: ◎ | U13: ◎ | V13: 54.63 | W13: なし | AL13: 2 | AM13: 3.5 | AN13: 2.5 | AO13: 2.8 | AP13: 2.6 | AV13: ※ 座席への固定方法は、2点固定または3点固定のどちらでも可能である。3点固定で試験を行った。 希望試験機種
A14: 乳児専用 | B14: ベルト 固定 | C14: E4 04443517 | D14: マキシコシ・カブリオフィックス | E14: (株)GMPインターナショナル | F14: 08 | G14: R44 04 | P14: 良 | Q14: ◎ | R14: ◎ | S14: 38 | T14: ◎ | U14: ○ | V14: 58.28 | W14: なし | AL14: 3.2 | AM14: 2.7 | AN14: 2.5 | AO14: 4.5 | AP14: 3.6
A15: 乳児専用 | B15: ベルト 固定 | C15: 自C-1017,自C-153 | D15: エールベベ・プレコット | E15: (株)カーメイト | F15: 02 | G15: 2000年 1月施行 国内基準 | P15: 普通 | Q15: ◎ | R15: ○ | S15: 61 | T15: ○ | U15: ◎ | V15: 44.81 | W15: なし | AL15: 3.8 | AM15: 3.3 | AN15: 4.5 | AO15: 4.3 | AP15: 4.2
A16: 乳児専用 | B16: ベルト 固定 | C16: － | D16: レーマー・ベビーセーフ | E16: (株)ウェスタンコーポレーション | F16: 01 | G16: R44 03 | P16: 普通 | Q16: ○ | R16: ◎ | S16: 23 | T16: ◎ | U16: ○ | V16: 55.62 | W16: なし | AL16: 4.2 | AM16: 3 | AN16: 5 | AO16: 4.5 | AP16: 3.2
A17: 乳児専用 | B17: ベルト 固定 | C17: － | D17: スーパーキャリー [2点固定]（※） | E17: (株)日本育児 | F17: 01 | G17: FMVSS No.213 | P17: 推奨 せず | Q17: ○ | R17: × | S17: 79 | T17: ◎ | U17: ◎ | V17: 40.18 | W17: なし | AL17: 2 | AM17: 3.5 | AN17: 2.5 | AO17: 3 | AP17: 2.6 | AV17: ※ 座席への固定方法は、2点固定または3点固定のどちらでも可能である。2点固定で試験を行った。
A18: 乳児専用 | B18: ベルト 固定 | C18: － | D18: ディスカバリーベビーシート | E18: トライスターインターナショナル(株) | F18: 01 | G18: FMVSS No.213 | P18: 推奨 せず | Q18: ○ | R18: × | S18: 71 | T18: ◎ | U18: ◎ | V18: 43.2 | W18: なし | AL18: 2.5 | AM18: 1.8 | AN18: 2 | AO18: 2.3 | AP18: 3.2
A19: 乳児用・幼児用 （兼用タイプ） | B19: ベルト 固定 | C19: 自C-2522 | D19: takata04-comfyN | E19: タカタ(株) | F19: 06 | G19: 2000年1月 施行国内基準 | P19: 優 | Q19: ◎ | R19: ◎ | S19: 50 | T19: ◎ | U19: ◎ | V19: 46.4 | W19: なし | X19: 良 | Y19: ◎ | Z19: ○ | AA19: 600 | AB19: ◎ | AC19: 73.84 | AD19: ◎ | AE19: 48.27 | AF19: なし | AL19: 4.5 | AM19: 3.2 | AN19: 4 | AO19: 3.8 | AP19: 3.8 | AQ19: 4.5 | AR19: 3.2 | AS19: 4 | AT19: 5 | AU19: 3.8
A20: 乳児用・幼児用 （兼用タイプ） | B20: ベルト 固定 | C20: 自C-2529 | D20: takata04-facil | E20: タカタ(株) | F20: 07 | G20: 2000年 1月施行 国内基準 | P20: 優 | Q20: ◎ | R20: ◎ | S20: 54 | T20: ◎ | U20: ◎ | V20: 48.82 | W20: なし | X20: 優 | Y20: ◎ | Z20: ◎ | AA20: 497 | AB20: ◎ | AC20: 68.94 | AD20: ◎ | AE20: 45.38 | AF20: なし | AL20: 4.2 | AM20: 4.2 | AN20: 4.3 | AO20: 4.3 | AP20: 3 | AQ20: 4.2 | AR20: 4.3 | AS20: 4.3 | AT20: 4.8 | AU20: 3
A21: 乳児用・幼児用 （兼用タイプ） | B21: ベルト 固定 | C21: 自C-2046 | D21: takata04-neo | E21: タカタ(株) | F21: 04 | G21: 2000年 1月施行 国内基準 | P21: 優 | Q21: ◎ | R21: ◎ | S21: 59 | T21: ◎ | U21: ◎ | V21: 45.57 | W21: なし | X21: 優 | Y21: ◎ | Z21: ◎ | AA21: 514 | AB21: ◎ | AC21: 58.44 | AD21: ◎ | AE21: 47.4 | AF21: なし | AL21: 4.3 | AM21: 4.8 | AN21: 4 | AO21: 4.3 | AP21: 3.4 | AQ21: 4.3 | AR21: 4.8 | AS21: 4 | AT21: 4.5 | AU21: 3.4
A22: 乳児用・幼児用 （兼用タイプ） | B22: ベルト 固定 | C22: E4 04443812 | D22: takata04-symphonyEC | E22: タカタ(株) | F22: 08 | G22: R44 04 | P22: 優 | Q22: ◎ | R22: ◎ | S22: 44 | T22: ◎ | U22: ◎ | V22: 48.24 | W22: なし | X22: 普通 | Y22: ◎ | Z22: ○ | AA22: 624 | AB22: ○ | AC22: 83.56 | AD22: ◎ | AE22: 45.42 | AF22: なし | AL22: 3.5 | AM22: 4 | AN22: 4 | AO22: 5 | AP22: 4.8 | AQ22: 3.5 | AR22: 4 | AS22: 4 | AT22: 5 | AU22: 4.8
A23: 乳児用・幼児用 （兼用タイプ） | B23: ベルト 固定 | C23: 自C-2029 | D23: takata04-system3.0 | E23: タカタ(株) | F23: 05 | G23: 2000年 1月施行 国内基準 | P23: 優 | Q23: ◎ | R23: ◎ | S23: 59 | T23: ◎ | U23: ◎ | V23: 49.96 | W23: なし | X23: 良 | Y23: ◎ | Z23: ○ | AA23: 591 | AB23: ◎ | AC23: 66.74 | AD23: ◎ | AE23: 48.26 | AF23: なし | AL23: 4.3 | AM23: 3.5 | AN23: 4 | AO23: 2.8 | AP23: 3.2 | AQ23: 4.3 | AR23: 3.3 | AS23: 4 | AT23: 5 | AU23: 3.2
A24: 乳児用・幼児用 （兼用タイプ） | B24: ベルト 固定 | C24: 自C-2616 | D24: エールベベ・ズット | E24: (株)カーメイト | F24: 06 | G24: 2000年 1月施行 国内基準 | P24: 優 | Q24: ◎ | R24: ◎ | S24: 59 | T24: ◎ | U24: ◎ | V24: 46.88 | W24: なし | X24: 良 | Y24: ◎ | Z24: ○ | AA24: 630 | AB24: ◎ | AC24: 77.55 | AD24: ◎ | AE24: 44.07 | AF24: なし | AL24: 4.3 | AM24: 3.5 | AN24: 3.7 | AO24: 4 | AP24: 4.2 | AQ24: 4.3 | AR24: 3.5 | AS24: 3.7 | AT24: 4.8 | AU24: 4.2
A25: 乳児用・幼児用 （兼用タイプ） | B25: ベルト 固定 | C25: 自C-2047 | D25: トヨタG-Child plus | E25: タカタ(株) | F25: 04 | G25: 2000年 1月施行 国内基準 | P25: 優 | Q25: ◎ | R25: ◎ | S25: 50 | T25: ◎ | U25: ◎ | V25: 50.66 | W25: なし | X25: 良 | Y25: ◎ | Z25: ○ | AA25: 583 | AB25: ◎ | AC25: 67.34 | AD25: ◎ | AE25: 51.9 | AF25: なし | AL25: 4.5 | AM25: 4.3 | AN25: 4 | AO25: 4.3 | AP25: 3 | AQ25: 4.5 | AR25: 4.3 | AS25: 4 | AT25: 4.8 | AU25: 3
A26: 乳児用・幼児用 （兼用タイプ） | B26: ベルト 固定 | C26: 自C-2039 | D26: パミオデビューDX | E26: リーマン(株) | F26: 03 | G26: 2000年 1月施行 国内基準 | P26: 優 | Q26: ◎ | R26: ◎ | S26: 54 | T26: ◎ | U26: ◎ | V26: 53.64 | W26: なし | X26: 普通 | Y26: ○ | Z26: ○ | AA26: 559 | AB26: ○ | AC26: 85.01 | AD26: ◎ | AE26: 46.01 | AF26: なし | AL26: 3.7 | AM26: 3.8 | AN26: 3.7 | AO26: 4.8 | AP26: 4 | AQ26: 3.7 | AR26: 3.8 | AS26: 3.7 | AT26: 5 | AU26: 4 | AV26: 希望試験機種
A27: 乳児用・幼児用 （兼用タイプ） | B27: ベルト 固定 | C27: 自C-1013,自C-155 | D27: ピピデビュー | E27: リーマン(株) | F27: 01 | G27: 2000年 1月施行 国内基準 | P27: 優 | Q27: ◎ | R27: ◎ | S27: 49 | T27: ◎ | U27: ◎ | V27: 45.08 | W27: なし | X27: 良 | Y27: ◎ | Z27: ○ | AA27: 619 | AB27: ◎ | AC27: 76.36 | AD27: ◎ | AE27: 42.87 | AF27: (※) | AL27: 4.2 | AM27: 4.3 | AN27: 4 | AO27: 4.8 | AP27: 3.7 | AQ27: 4.2 | AR27: 4.3 | AS27: 4 | AT27: 5 | AU27: 3.7 | AV27: ※ 骨盤拘束が弱く、腹部を圧迫しているが、それがパッド・ハーネスによってである。 希望試験機種
A28: 乳児用・幼児用 （兼用タイプ） | B28: ベルト 固定 | C28: 自C-2054 | D28: ピピデビューN | E28: リーマン(株) | F28: 04 | G28: 2000年 1月施行 国内基準 | P28: 優 | Q28: ◎ | R28: ◎ | S28: 55 | T28: ◎ | U28: ◎ | V28: 49.57 | W28: なし | X28: 良 | Y28: ◎ | Z28: ○ | AA28: 567 | AB28: ◎ | AC28: 76.66 | AD28: ◎ | AE28: 47.68 | AF28: なし | AL28: 4.3 | AM28: 4.3 | AN28: 4 | AO28: 4.8 | AP28: 3.4 | AQ28: 4.3 | AR28: 4.3 | AS28: 4 | AT28: 5 | AU28: 3.8
A29: 乳児用・幼児用 （兼用タイプ） | B29: ベルト 固定 | C29: 自C-1014,自C-156 | D29: ピピデビューフィットシェル | E29: リーマン(株) | F29: 01 | G29: 2000年 1月施行 国内基準 | P29: 優 | Q29: ◎ | R29: ◎ | S29: 49 | T29: ◎ | U29: ◎ | V29: 47.26 | W29: なし | X29: 良 | Y29: ◎ | Z29: ○ | AA29: 620 | AB29: ◎ | AC29: 78.69 | AD29: ◎ | AE29: 46.83 | AF29: (※) | AL29: 4.2 | AM29: 4.3 | AN29: 4 | AO29: 4.8 | AP29: 3.7 | AQ29: 4.2 | AR29: 4.3 | AS29: 4 | AT29: 5 | AU29: 3.7 | AV29: ※ 骨盤拘束が弱く、腹部を圧迫しているが、それがパッド・ハーネスによってである。 希望試験機種
A30: 乳児用・幼児用 （兼用タイプ） | B30: ベルト 固定 | C30: 自C-2030 | D30: プリムロング | E30: コンビ(株) | F30: 03 | G30: 2000年 1月施行 国内基準 | P30: 優 | Q30: ◎ | R30: ◎ | S30: 58 | T30: ◎ | U30: ◎ | V30: 54.11 | W30: なし | X30: 普通 | Y30: ○ | Z30: ○ | AA30: 605 | AB30: ◎ | AC30: 68.94 | AD30: ◎ | AE30: 58.96 | AF30: なし | AL30: 3.8 | AM30: 3.7 | AN30: 5 | AO30: 4.3 | AP30: 4 | AQ30: 3.8 | AR30: 3.7 | AS30: 5 | AT30: 3.5 | AU30: 4
A31: 乳児用・幼児用 （兼用タイプ） | B31: ベルト 固定 | C31: 自C-2038 | D31: マシュマロJターンサーモ | E31: アップリカ葛西(株) | F31: 04 | G31: 2000年 1月施行 国内基準 | H31: 良 | I31: ◎ | J31: ◎ | K31: ◎ | L31: 380 | M31: ○ | N31: 64.2 | O31: なし | P31: 優 | Q31: ◎ | R31: ◎ | S31: 49 | T31: ◎ | U31: ◎ | V31: 48.61 | W31: なし | X31: 普通 | Y31: ◎ | Z31: ○ | AA31: 560 | AB31: ○ | AC31: 80.74 | AD31: ◎ | AE31: 55.34 | AF31: なし | AG31: 2.8 | AH31: 2.8 | AI31: 2.6 | AJ31: 2.3 | AK31: 3.4 | AL31: 2.8 | AM31: 2.8 | AN31: 2.6 | AO31: 1.8 | AP31: 3 | AQ31: 2.8 | AR31: 2.8 | AS31: 2.6 | AT31: 2.8 | AU31: 3
A32: 乳児用・幼児用 （兼用タイプ） | B32: ベルト 固定 | C32: 自C-2060 | D32: マシュマロJターンネオサーモ | E32: アップリカ葛西(株) | F32: 05 | G32: 2000年 1月施行 国内基準 | H32: 良 | I32: ◎ | J32: ◎ | K32: ◎ | L32: 490 | M32: ○ | N32: 64.42 | O32: なし | P32: 優 | Q32: ◎ | R32: ◎ | S32: 55 | T32: ◎ | U32: ◎ | V32: 53.59 | W32: なし | X32: 推奨 せず | Y32: ◎ | Z32: ○ | AA32: 569 | AB32: ○ | AC32: 80.16 | AD32: ◎ | AE32: 45.49 | AF32: ×(※) | AG32: 2.8 | AH32: 2.8 | AI32: 2.8 | AJ32: 2.8 | AK32: 3.4 | AL32: 2.8 | AM32: 2.8 | AN32: 2.8 | AO32: 1.8 | AP32: 3.4 | AQ32: 2.8 | AR32: 2.8 | AS32: 2.8 | AT32: 2.8 | AU32: 3.4 | AV32: ※ 腹部を圧迫し、幼児の身体に傷害を与える恐れがあった。
A33: 乳児用・幼児用 （兼用タイプ） | B33: ベルト 固定 | C33: 自C-2011 | D33: マシュマロＪフィックスサーモ | E33: アップリカ葛西(株) | F33: 02 | G33: 2000年 1月施行 国内基準 | H33: 良 | I33: ◎ | J33: ◎ | K33: ◎ | L33: 415-455 | M33: ○ | N33: 62.16 | O33: なし | P33: 優 | Q33: ◎ | R33: ◎ | S33: 44 | T33: ◎ | U33: ◎ | V33: 83.67 | W33: なし | X33: 良 | Y33: ◎ | Z33: ○ | AA33: 619 | AB33: ◎ | AC33: 79.61 | AD33: ◎ | AE33: 47.85 | AF33: (※) | AG33: 2.7 | AH33: 2.7 | AI33: 2.6 | AJ33: 2.3 | AK33: 3.2 | AL33: 2.7 | AM33: 2.7 | AN33: 2.6 | AO33: 1.8 | AP33: 3.2 | AQ33: 2.7 | AR33: 2.7 | AS33: 2.6 | AT33: 3 | AU33: 3.2 | AV33: ※ 骨盤拘束が弱く、腹部を圧迫しているが、それがパッド・ハーネスによってである。
A34: 乳児用・幼児用 （兼用タイプ） | B34: ベルト 固定 | C34: 自C-2508 | D34: マシュマロベッドWサーモ | E34: アップリカ葛西(株) | F34: 05 | G34: 2000年 1月施行 国内基準 | H34: 良 | I34: ◎ | J34: ◎ | K34: ◎ | L34: 465 | M34: ○ | N34: 63.39 | O34: なし | P34: 優 | Q34: ◎ | R34: ◎ | S34: 54 | T34: ◎ | U34: ◎ | V34: 52.67 | W34: なし | X34: 良 | Y34: ◎ | Z34: ○ | AA34: 597 | AB34: ◎ | AC34: 79.83 | AD34: ◎ | AE34: 47.33 | AF34: なし | AG34: 3.2 | AH34: 2.8 | AI34: 2.8 | AJ34: 2.8 | AK34: 3.4 | AL34: 3.2 | AM34: 2.8 | AN34: 2.8 | AO34: 2.3 | AP34: 3.8 | AQ34: 3.2 | AR34: 2.8 | AS34: 2.8 | AT34: 2.8 | AU34: 3.8
A35: 乳児用・幼児用 （兼用タイプ） | B35: ベルト 固定 | C35: 自C-1002,自C-158 | D35: ミリブ3500 | E35: タカタ(株) | F35: 02 | G35: 2000年 1月施行 国内基準 | P35: 優 | Q35: ◎ | R35: ◎ | S35: 60 | T35: ◎ | U35: ◎ | V35: 49.51 | W35: なし | X35: 良 | Y35: ◎ | Z35: ○ | AA35: 617 | AB35: ◎ | AC35: 70.7 | AD35: ◎ | AE35: 51.53 | AF35: なし | AL35: 4.2 | AM35: 4.5 | AN35: 4 | AO35: 3 | AP35: 4.6 | AQ35: 4.2 | AR35: 4.5 | AS35: 4 | AT35: 5 | AU35: 4.6
A36: 乳児用・幼児用 （兼用タイプ） | B36: ベルト 固定 | C36: 自C-1001,自C-100 | D36: ミリブ4000 | E36: タカタ(株) | F36: 01 | G36: 2000年 1月施行 国内基準 | P36: 優 | Q36: ◎ | R36: ◎ | S36: 56 | T36: ◎ | U36: ◎ | V36: 50.68 | W36: なし | X36: 良 | Y36: ◎ | Z36: ○ | AA36: 615 | AB36: ◎ | AC36: 70.82 | AD36: ◎ | AE36: 50.84 | AF36: なし | AL36: 3 | AM36: 3.5 | AN36: 4.3 | AO36: 3 | AP36: 4.2 | AQ36: 3 | AR36: 3.7 | AS36: 4.3 | AT36: 4.5 | AU36: 4.2
A37: 乳児用・幼児用 （兼用タイプ） | B37: ベルト 固定 | C37: E8 044400 | D37: ユーロビギン | E37: リーマン(株) | F37: 07 | G37: R44 04 | P37: 優 | Q37: ◎ | R37: ◎ | S37: 50 | T37: ◎ | U37: ◎ | V37: 49.8 | W37: なし | X37: 普通 | Y37: ◎ | Z37: ○ | AA37: 582 | AB37: ○ | AC37: 80.78 | AD37: ◎ | AE37: 52.23 | AF37: なし | AL37: 4.2 | AM37: 3.2 | AN37: 4.3 | AO37: 4.8 | AP37: 3.6 | AQ37: 4.2 | AR37: 3.2 | AS37: 4.3 | AT37: 5 | AU37: 4
A38: 乳児用・幼児用 （兼用タイプ） | B38: ベルト 固定 | C38: E13 040063 | D38: ユーロフィックス EC820 | E38: アップリカ葛西(株) | F38: 07 | G38: R44 04 | H38: 推奨 せず | I38: ◎ | J38: × | K38: ◎ | L38: 550 | M38: ○ | N38: 74.81 | O38: なし | P38: 優 | Q38: ◎ | R38: ◎ | S38: 30 | T38: ◎ | U38: ◎ | V38: 54.13 | W38: なし | X38: 普通 | Y38: ○ | Z38: ○ | AA38: 602 | AB38: ◎ | AC38: 71.62 | AD38: ◎ | AE38: 54.08 | AF38: なし | AG38: 3.2 | AH38: 3.3 | AI38: 2.5 | AJ38: 3.5 | AK38: 3.6 | AL38: 3.2 | AM38: 3.3 | AN38: 2.5 | AO38: 2 | AP38: 3.6 | AQ38: 3.2 | AR38: 3.5 | AS38: 2.5 | AT38: 3.5 | AU38: 3.6
A39: 乳児用・幼児用 （兼用タイプ） | B39: ベルト 固定 | C39: 自C-2509 | D39: レカロスタートゼロプラス | E39: レカロ(株) | F39: 05 | G39: 2000年 1月施行 国内基準 | P39: 優 | Q39: ◎ | R39: ◎ | S39: 55 | T39: ◎ | U39: ◎ | V39: 53.06 | W39: なし | X39: 良 | Y39: ◎ | Z39: ○ | AA39: 572 | AB39: ◎ | AC39: 74.54 | AD39: ◎ | AE39: 48.49 | AF39: なし | AL39: 4.3 | AM39: 4 | AN39: 4 | AO39: 4.8 | AP39: 3.4 | AQ39: 4.3 | AR39: 4 | AS39: 4 | AT39: 5 | AU39: 3.8
A40: 乳児用・幼児用 （兼用タイプ） | B40: ベルト 固定 | C40: E4 04443715 | D40: コッコロ | E40: コンビ(株) | F40: 07 | G40: R44 04 | P40: 良 | Q40: ○ | R40: ◎ | S40: 42 | T40: ◎ | U40: ◎ | V40: 54.16 | W40: なし | X40: 普通 | Y40: ◎ | Z40: ○ | AA40: 576 | AB40: ○ | AC40: 87.15 | AD40: ◎ | AE40: 44.1 | AF40: なし | AL40: 4.3 | AM40: 3.7 | AN40: 4 | AO40: 3.5 | AP40: 4.2 | AQ40: 4.3 | AR40: 3.7 | AS40: 4 | AT40: 5 | AU40: 4.2
A41: 乳児用・幼児用 （兼用タイプ） | B41: ベルト 固定 | C41: E13 045025 | D41: コッコロUX | E41: コンビ(株) | F41: 08 | G41: R44 04 | P41: 良 | Q41: ◎ | R41: ◎ | S41: 38 | T41: ◎ | U41: ○ | V41: 61.28 | W41: なし | X41: 普通 | Y41: ◎ | Z41: ○ | AA41: 566 | AB41: ○ | AC41: 80.23 | AD41: ◎ | AE41: 45.7 | AF41: なし | AL41: 4.3 | AM41: 3.7 | AN41: 4 | AO41: 3.5 | AP41: 4.6 | AQ41: 4.3 | AR41: 3.7 | AS41: 4 | AT41: 5 | AU41: 4.2
...
