Workbook

Sheet 目次・索引
B1: チャイルドシートアセスメント試験機種 目次・索引
B3: メーカー名等 | C3: 製品名 | D3: 固定方式 | E3: 用途
B4: アップリカ | C4: =HYPERLINK("#2009年度以降の試験結果一覧!D"&MATCH("エアグルーヴ*",'2009年度以降の試験結果一覧'!D:D,0),"エアグルーヴ") -> エアグルーヴ | D4: ベルト | E4: 幼児専用
B5: アップリカ | C5: =HYPERLINK("#2009年度以降の試験結果一覧!D"&MATCH("クルリラ [ISO-FIX固定]",'2009年度以降の試験結果一覧'!D:D,0),"クルリラ [ISO-FIX固定]") -> クルリラ [ISO-FIX固定] | D5: ISO-FIX・ﾍﾞﾙﾄ兼用 | E5: 乳児用・幼児用(兼用ﾀｲﾌﾟ)
B6: アップリカ | C6: =HYPERLINK("#2009年度以降の試験結果一覧!D"&MATCH("クルリラ [ベルト固定]",'2009年度以降の試験結果一覧'!D:D,0),"クルリラ [ベルト固定]") -> クルリラ [ベルト固定] | D6: ISO-FIX・ﾍﾞﾙﾄ兼用 | E6: 乳児用・幼児用(兼用ﾀｲﾌﾟ)
B7: アップリカ | C7: =HYPERLINK("#2009年度以降の試験結果一覧!D"&MATCH("クルリラ エックス プラス AB",'2009年度以降の試験結果一覧'!D:D,0),"クルリラ エックス プラス AB") -> クルリラ エックス プラス AB | D7: ISO-FIX | E7: 乳児用・幼児用(兼用ﾀｲﾌﾟ)
B8: アップリカ | C8: =HYPERLINK("#2009年度以降の試験結果一覧!D"&MATCH("クルリラ ビッテ エックス*",'2009年度以降の試験結果一覧'!D:D,0),"クルリラ ビッテ エックス") -> クルリラ ビッテ エックス | D8: ISO-FIX | E8: 乳児用・幼児用(兼用ﾀｲﾌﾟ)
B9: アップリカ | C9: =HYPERLINK("#2009年度以降の試験結果一覧!D"&MATCH("クルリラ ビッテ エックス AB*",'2009年度以降の試験結果一覧'!D:D,0),"クルリラ ビッテ エックス AB") -> クルリラ ビッテ エックス AB | D9: ISO-FIX | E9: 乳児用・幼児用(兼用ﾀｲﾌﾟ)
B10: アップリカ | C10: =HYPERLINK("#2009年度以降の試験結果一覧!D"&MATCH("クルリラ ビッテ エックス プラス",'2009年度以降の試験結果一覧'!D:D,0),"クルリラ ビッテ エックス プラス") -> クルリラ ビッテ エックス プラス | D10: ISO-FIX | E10: 乳児用・幼児用(兼用ﾀｲﾌﾟ)
B11: アップリカ | C11: =HYPERLINK("#2009年度以降の試験結果一覧!D"&MATCH("クルリラ ビッテ エックス プラス AB",'2009年度以降の試験結果一覧'!D:D,0),"クルリラ ビッテ エックス プラス AB") -> クルリラ ビッテ エックス プラス AB | D11: ISO-FIX | E11: 乳児用・幼児用(兼用ﾀｲﾌﾟ)
B12: アップリカ | C12: =HYPERLINK("#2009年度以降の試験結果一覧!D"&MATCH("クルリラ プラス 360°セーフティー*",'2009年度以降の試験結果一覧'!D:D,0),"クルリラ プラス 360°セーフティー") -> クルリラ プラス 360°セーフティー | D12: ISO-FIX | E12: 乳児用・幼児用(兼用ﾀｲﾌﾟ)
B13: アップリカ | C13: =HYPERLINK("#2009年度以降の試験結果一覧!D"&MATCH("クルリラ プロテクト",'2009年度以降の試験結果一覧'!D:D,0),"クルリラ プロテクト") -> クルリラ プロテクト | D13: ISO-FIX | E13: 乳児用・幼児用(兼用ﾀｲﾌﾟ)
B14: アップリカ | C14: =HYPERLINK("#2009年度以降の試験結果一覧!D"&MATCH("*G-FIX [ISO-FIX固定]",'2009年度以降の試験結果一覧'!D:D,0),"グレコ・G-FIX [ISO-FIX固定]") -> グレコ・G-FIX [ISO-FIX固定] | D14: ISO-FIX・ﾍﾞﾙﾄ兼用 | E14: 乳児用・幼児用(兼用ﾀｲﾌﾟ)
B15: アップリカ | C15: =HYPERLINK("#2009年度以降の試験結果一覧!D"&MATCH("*G-FIX [ベルト固定]*",'2009年度以降の試験結果一覧'!D:D,0),"グレコ・G-FIX [ベルト固定]") -> グレコ・G-FIX [ベルト固定] | D15: ISO-FIX・ﾍﾞﾙﾄ兼用 | E15: 乳児用・幼児用(兼用ﾀｲﾌﾟ)
B16: アップリカ | C16: =HYPERLINK("#2009年度以降の試験結果一覧!D"&MATCH("グレコ・GT*",'2009年度以降の試験結果一覧'!D:D,0),"グレコ・GT") -> グレコ・GT | D16: ベルト | E16: 乳児用・幼児用(兼用ﾀｲﾌﾟ)
B17: アップリカ | C17: =HYPERLINK("#2009年度以降の試験結果一覧!D"&MATCH("*マイルストーン*",'2009年度以降の試験結果一覧'!D:D,0),"グレコ・マイルストーン") -> グレコ・マイルストーン | D17: ベルト | E17: 乳児用・幼児用(兼用ﾀｲﾌﾟ)
B18: アップリカ | C18: =HYPERLINK("#2008年度以前の試験結果一覧!D"&MATCH("*ムービングサポート*",'2008年度以前の試験結果一覧'!D:D,0),"チャイルド&ジュニアシートムービングサポート") -> チャイルド&ジュニアシートムービングサポート | D18: ベルト | E18: 幼児専用
B19: アップリカ | C19: {=HYPERLINK("#2009年度以降の試験結果一覧!D"&MATCH("フラディア グロウ ISOFIX*"&17,'2009年度以降の試験結果一覧'!D:D&'2009年度以降の試験結果一覧'!F:F,0),"ディアターン プラス ISOFIX(試験:ﾌﾗﾃﾞｨｱｸﾞﾛｳISOFIX)")} -> ディアターン プラス ISOFIX(試験:ﾌﾗﾃﾞｨｱｸﾞﾛｳISOFIX) | D19: ISO-FIX | E19: 乳児用・幼児用(兼用ﾀｲﾌﾟ)
B20: アップリカ | C20: =HYPERLINK("#2008年度以前の試験結果一覧!D"&MATCH("*イージーターン６００*",'2008年度以前の試験結果一覧'!D:D,0),"ニューボーンベッドイージーターン600") -> ニューボーンベッドイージーターン600 | D20: ベルト | E20: 乳児用・幼児用(兼用ﾀｲﾌﾟ)
B21: アップリカ | C21: =HYPERLINK("#2008年度以前の試験結果一覧!D"&MATCH("*サーモ１０００*",'2008年度以前の試験結果一覧'!D:D,0),"ニューボーンベッドイージーターンWエアーサーモ1000") -> ニューボーンベッドイージーターンWエアーサーモ1000 | D21: ベルト | E21: 乳児用・幼児用(兼用ﾀｲﾌﾟ)
B22: アップリカ | C22: =HYPERLINK("#2008年度以前の試験結果一覧!D"&MATCH("*ワイド＆ロング*",'2008年度以前の試験結果一覧'!D:D,0),"ニューボーンベッドワイド＆ロング") -> ニューボーンベッドワイド＆ロング | D22: ベルト | E22: 乳児用・幼児用(兼用ﾀｲﾌﾟ)
B23: アップリカ | C23: {=HYPERLINK("#2009年度以降の試験結果一覧!D"&MATCH("フォームフィット*"&18,'2009年度以降の試験結果一覧'!D:D&'2009年度以降の試験結果一覧'!F:F,0),"フォームフィット")} -> フォームフィット | D23: ISO-FIX | E23: 幼児専用
B24: アップリカ | C24: =HYPERLINK("#2009年度以降の試験結果一覧!D"&MATCH("フォームフィット ネクスト",'2009年度以降の試験結果一覧'!D:D,0),"フォームフィット ネクスト") -> フォームフィット ネクスト | D24: ISO-FIX | E24: 幼児専用
B25: アップリカ | C25: {=HYPERLINK("#2009年度以降の試験結果一覧!D"&MATCH("フォームフィット ISOFIX 360°セーフティー*",'2009年度以降の試験結果一覧'!D:D,0),"フォームフィット ISOFIX 360°セーフティー")} -> フォームフィット ISOFIX 360°セーフティー | D25: ISO-FIX | E25: 幼児専用
B26: アップリカ | C26: {=HYPERLINK("#2009年度以降の試験結果一覧!D"&MATCH("フォームフィット ISOFIX 360°セーフティー*",'2009年度以降の試験結果一覧'!D:D,0),"フォームフィット ISOFIX セーフティープラス(試験:ﾌｫｰﾑﾌｨｯﾄISOFIX360°ｾｰﾌﾃｨｰ)")} -> フォームフィット ISOFIX セーフティープラス(試験:ﾌｫｰﾑﾌｨｯﾄISOFIX360°ｾｰﾌﾃｨｰ) | D26: ISO-FIX | E26: 幼児専用
B27: アップリカ | C27: {=HYPERLINK("#2009年度以降の試験結果一覧!D"&MATCH("*045087"&"フラディア*",'2009年度以降の試験結果一覧'!C:C&'2009年度以降の試験結果一覧'!D:D,0),"フラディア")} -> フラディア | D27: ベルト | E27: 乳児用・幼児用(兼用ﾀｲﾌﾟ)
B28: アップリカ | C28: {=HYPERLINK("#2009年度以降の試験結果一覧!D"&MATCH("フラディア グロウ*"&16,'2009年度以降の試験結果一覧'!D:D&'2009年度以降の試験結果一覧'!F:F,0),"フラディア グロウ")} -> フラディア グロウ | D28: ベルト | E28: 乳児用・幼児用(兼用ﾀｲﾌﾟ)
B29: アップリカ | C29: {=HYPERLINK("#2009年度以降の試験結果一覧!D"&MATCH("フラディア グロウ ISOFIX*"&17,'2009年度以降の試験結果一覧'!D:D&'2009年度以降の試験結果一覧'!F:F,0),"フラディア グロウ ISOFIX")} -> フラディア グロウ ISOFIX | D29: ISO-FIX | E29: 乳児用・幼児用(兼用ﾀｲﾌﾟ)
B30: アップリカ | C30: {=HYPERLINK("#2009年度以降の試験結果一覧!D"&MATCH("フラディア グロウ ISOFIX 360°セーフティー*"&19,'2009年度以降の試験結果一覧'!D:D&'2009年度以降の試験結果一覧'!F:F,0),"フラディア グロウ ISOFIX 360°セーフティー")} -> フラディア グロウ ISOFIX 360°セーフティー | D30: ISO-FIX | E30: 乳児用・幼児用(兼用ﾀｲﾌﾟ)
B31: アップリカ | C31: {=HYPERLINK("#2009年度以降の試験結果一覧!D"&MATCH("フラディア グロウ ISOFIX 360°セーフティー*"&19,'2009年度以降の試験結果一覧'!D:D&'2009年度以降の試験結果一覧'!F:F,0),"フラディア グロウ ISOFIX セーフティープラス(試験:ﾌﾗﾃﾞｨｱｸﾞﾛｳISOFIX360°ｾｰﾌﾃｨ)")} -> フラディア グロウ ISOFIX セーフティープラス(試験:ﾌﾗﾃﾞｨｱｸﾞﾛｳISOFIX360°ｾｰﾌﾃｨ) | D31: ISO-FIX | E31: 乳児用・幼児用(兼用ﾀｲﾌﾟ)
B32: アップリカ | C32: {=HYPERLINK("#2009年度以降の試験結果一覧!D"&MATCH("フラディア グロウ ISOFIX セーフティープラス AB*",'2009年度以降の試験結果一覧'!D:D,0),"フラディア グロウ ISOFIX セーフティープラス AB")} -> フラディア グロウ ISOFIX セーフティープラス AB | D32: ISO-FIX | E32: 乳児用・幼児用(兼用ﾀｲﾌﾟ)
B33: アップリカ | C33: {=HYPERLINK("#2009年度以降の試験結果一覧!D"&MATCH("フラディア プラス*",'2009年度以降の試験結果一覧'!D:D,0),"フラディア プラス")} -> フラディア プラス | D33: ISO-FIX | E33: 乳児用・幼児用(兼用ﾀｲﾌﾟ)
B34: アップリカ | C34: =HYPERLINK("#2008年度以前の試験結果一覧!D"&MATCH("ベッティーノ*",'2008年度以前の試験結果一覧'!D:D,0),"ベッティーノSTD") -> ベッティーノSTD | D34: ベルト | E34: 乳児用・幼児用(兼用ﾀｲﾌﾟ)
B35: アップリカ | C35: =HYPERLINK("#2008年度以前の試験結果一覧!D"&MATCH("*Jターンサーモ*",'2008年度以前の試験結果一覧'!D:D,0),"マシュマロJターンサーモ") -> マシュマロJターンサーモ | D35: ベルト | E35: 乳児用・幼児用(兼用ﾀｲﾌﾟ)
B36: アップリカ | C36: =HYPERLINK("#2008年度以前の試験結果一覧!D"&MATCH("*ネオサーモ*",'2008年度以前の試験結果一覧'!D:D,0),"マシュマロJターンネオサーモ") -> マシュマロJターンネオサーモ | D36: ベルト | E36: 乳児用・幼児用(兼用ﾀｲﾌﾟ)
B37: アップリカ | C37: =HYPERLINK("#2008年度以前の試験結果一覧!D"&MATCH("*Ｊフィックスサーモ*",'2008年度以前の試験結果一覧'!D:D,0),"マシュマロJフィックスサーモ") -> マシュマロJフィックスサーモ | D37: ベルト | E37: 乳児用・幼児用(兼用ﾀｲﾌﾟ)
B38: アップリカ | C38: =HYPERLINK("#2008年度以前の試験結果一覧!D"&MATCH("*エアーインパクトⅡ*",'2008年度以前の試験結果一覧'!D:D,0),"マシュマロエアーインパクトⅡ") -> マシュマロエアーインパクトⅡ | D38: ベルト | E38: 幼児専用
B39: アップリカ | C39: =HYPERLINK("#2008年度以前の試験結果一覧!D"&MATCH("*エアー8 サポート*",'2008年度以前の試験結果一覧'!D:D,0),"マシュマロジュニアエアー8 サポート") -> マシュマロジュニアエアー8 サポート | D39: ベルト | E39: 幼児専用
B40: アップリカ | C40: =HYPERLINK("#2008年度以前の試験結果一覧!D"&MATCH("*V シールド*",'2008年度以前の試験結果一覧'!D:D,0),"マシュマロフィッツV シールド") -> マシュマロフィッツV シールド | D40: ベルト | E40: 幼児専用
B41: アップリカ | C41: =HYPERLINK("#2008年度以前の試験結果一覧!D"&MATCH("*Wサーモ*",'2008年度以前の試験結果一覧'!D:D,0),"マシュマロベッドWサーモ") -> マシュマロベッドWサーモ | D41: ベルト | E41: 乳児用・幼児用(兼用ﾀｲﾌﾟ)
B42: アップリカ | C42: =HYPERLINK("#2008年度以前の試験結果一覧!D"&MATCH("マシュマロベッドグランデ*",'2008年度以前の試験結果一覧'!D:D,0),"マシュマロベッドグランデWサーモ750") -> マシュマロベッドグランデWサーモ750 | D42: ベルト | E42: 乳児用・幼児用(兼用ﾀｲﾌﾟ)
B43: アップリカ | C43: =HYPERLINK("#2008年度以前の試験結果一覧!D"&MATCH("*ユーロジュニア*",'2008年度以前の試験結果一覧'!D:D,0),"ユーロジュニア") -> ユーロジュニア | D43: ベルト | E43: 幼児専用
B44: アップリカ | C44: =HYPERLINK("#2009年度以降の試験結果一覧!D"&MATCH("ユーロハーネス*",'2009年度以降の試験結果一覧'!D:D,0),"ユーロハーネス") -> ユーロハーネス | D44: ベルト | E44: 幼児専用
B45: アップリカ | C45: =HYPERLINK("#2008年度以前の試験結果一覧!D"&MATCH("*EC820*",'2008年度以前の試験結果一覧'!D:D,0),"ユーロフィックス EC820") -> ユーロフィックス EC820 | D45: ベルト | E45: 乳児用・幼児用(兼用ﾀｲﾌﾟ)
B46: アップリカ | C46: =HYPERLINK("#2009年度以降の試験結果一覧!D"&MATCH("リライド",'2009年度以降の試験結果一覧'!D:D,0),"リライド") -> リライド | D46: ISO-FIX | E46: 幼児専用
B47: イーブンフロー | C47: =HYPERLINK("#2008年度以前の試験結果一覧!D"&MATCH("ディスカバリーベビーシート*",'2008年度以前の試験結果一覧'!D:D,0),"ディスカバリーベビーシート") -> ディスカバリーベビーシート | D47: ベルト | E47: 乳児専用
B48: エムズジンテック | C48: =HYPERLINK("#2008年度以前の試験結果一覧!D"&MATCH("*パワーベスト*",'2008年度以前の試験結果一覧'!D:D,0),"パワーベスト") -> パワーベスト | D48: ベルト | E48: 幼児専用
B49: カーメイト | C49: =HYPERLINK("#2009年度以降の試験結果一覧!D"&MATCH("*キュートフィックス*",'2009年度以降の試験結果一覧'!D:D,0),"エールベベ・キュートフィックス") -> エールベベ・キュートフィックス | D49: ISO-FIX | E49: 乳児用・幼児用(兼用ﾀｲﾌﾟ)
B50: カーメイト | C50: =HYPERLINK("#2009年度以降の試験結果一覧!D"&MATCH("*クルット3i*",'2009年度以降の試験結果一覧'!D:D,0),"エールベベ・クルット3i") -> エールベベ・クルット3i | D50: ISO-FIX | E50: 乳児用・幼児用(兼用ﾀｲﾌﾟ)
B51: カーメイト | C51: =HYPERLINK("#2009年度以降の試験結果一覧!D"&MATCH("*クルット3i*",'2009年度以降の試験結果一覧'!D:D,0),"エールベベ・クルット4i (試験:クルット3i)") -> エールベベ・クルット4i (試験:クルット3i) | D51: ISO-FIX | E51: 乳児用・幼児用(兼用ﾀｲﾌﾟ)
B52: カーメイト | C52: =HYPERLINK("#2009年度以降の試験結果一覧!D"&MATCH("*クルット4s*",'2009年度以降の試験結果一覧'!D:D,0),"エールベベ・クルット4s") -> エールベベ・クルット4s | D52: ベルト | E52: 乳児用・幼児用(兼用ﾀｲﾌﾟ)
B53: カーメイト | C53: =HYPERLINK("#2009年度以降の試験結果一覧!D"&MATCH("*クルット3i*",'2009年度以降の試験結果一覧'!D:D,0),"エールベベ・クルット5i (試験:クルット3i)") -> エールベベ・クルット5i (試験:クルット3i) | D53: ISO-FIX | E53: 乳児用・幼児用(兼用ﾀｲﾌﾟ)
B54: カーメイト | C54: =HYPERLINK("#2009年度以降の試験結果一覧!D"&MATCH("*クルット4s*",'2009年度以降の試験結果一覧'!D:D,0),"エールベベ・クルット5s(試験:クルット4s)") -> エールベベ・クルット5s(試験:クルット4s) | D54: ベルト | E54: 乳児用・幼児用(兼用ﾀｲﾌﾟ)
B55: カーメイト | C55: =HYPERLINK("#2009年度以降の試験結果一覧!D"&MATCH("*クルット3i*",'2009年度以降の試験結果一覧'!D:D,0),"エールベベ・クルット6i (試験:クルット3i)") -> エールベベ・クルット6i (試験:クルット3i) | D55: ISO-FIX | E55: 乳児用・幼児用(兼用ﾀｲﾌﾟ)
B56: カーメイト | C56: =HYPERLINK("#2009年度以降の試験結果一覧!D"&MATCH("*クルット3i*",'2009年度以降の試験結果一覧'!D:D,0),"エールベベ・クルット6i (試験:クルット3i)") -> エールベベ・クルット6i (試験:クルット3i) | D56: ISO-FIX | E56: 乳児用・幼児用(兼用ﾀｲﾌﾟ)
B57: カーメイト | C57: =HYPERLINK("#2008年度以前の試験結果一覧!D"&MATCH("エールベベ・くるっとEX*",'2008年度以前の試験結果一覧'!D:D,0),"エールベベ・くるっとEX") -> エールベベ・くるっとEX | D57: ベルト | E57: 乳児用・幼児用(兼用ﾀｲﾌﾟ)
B58: カーメイト | C58: =HYPERLINK("#2009年度以降の試験結果一覧!D"&MATCH("*クルットＮＴ*",'2009年度以降の試験結果一覧'!D:D,0),"エールベベ・クルットNT") -> エールベベ・クルットNT | D58: ベルト | E58: 乳児用・幼児用(兼用ﾀｲﾌﾟ)
B59: カーメイト | C59: =HYPERLINK("#2009年度以降の試験結果一覧!D"&MATCH("*クルットR*",'2009年度以降の試験結果一覧'!D:D,0),"エールベベ・クルットR") -> エールベベ・クルットR | D59: ISO-FIX | E59: 乳児用・幼児用(兼用ﾀｲﾌﾟ)
B60: カーメイト | C60: =HYPERLINK("#2009年度以降の試験結果一覧!D"&MATCH("エールベベ・クルット スライド",'2009年度以降の試験結果一覧'!D:D,0),"エールベベ・クルット スライド") -> エールベベ・クルット スライド | D60: ISO-FIX | E60: 乳児用・幼児用(兼用ﾀｲﾌﾟ)
B61: カーメイト | C61: =HYPERLINK("#2009年度以降の試験結果一覧!D"&MATCH("エールべべ・グローバ*",'2009年度以降の試験結果一覧'!D:D,0),"エールベベ・グローバ") -> エールベベ・グローバ | D61: ベルト | E61: 幼児専用
B62: カーメイト | C62: =HYPERLINK("#2008年度以前の試験結果一覧!D"&MATCH("*さらっと３ステップ *",'2008年度以前の試験結果一覧'!D:D,0),"エールベベ・さらっと３ステップ ") -> エールベベ・さらっと３ステップ | D62: ベルト | E62: 幼児専用
B63: カーメイト | C63: =HYPERLINK("#2008年度以前の試験結果一覧!D"&MATCH("*サラット３ステップⅡ*",'2008年度以前の試験結果一覧'!D:D,0),"エールベベ・サラット３ステップⅡ") -> エールベベ・サラット３ステップⅡ | D63: ベルト | E63: 幼児専用
B64: カーメイト | C64: =HYPERLINK("#2009年度以降の試験結果一覧!D"&MATCH("*スイングムーン*",'2009年度以降の試験結果一覧'!D:D,0),"エールベベ・スイングムーン") -> エールベベ・スイングムーン | D64: ベルト | E64: 幼児専用
B65: カーメイト | C65: =HYPERLINK("#2008年度以前の試験結果一覧!D"&MATCH("エールベベ・ズット*",'2008年度以前の試験結果一覧'!D:D,0),"エールベベ・ズット") -> エールベベ・ズット | D65: ベルト | E65: 乳児用・幼児用(兼用ﾀｲﾌﾟ)
B66: カーメイト | C66: =HYPERLINK("#2009年度以降の試験結果一覧!D"&MATCH("*パパット2*",'2009年度以降の試験結果一覧'!D:D,0),"エールベベ・パパット(試験:パパット2)") -> エールベベ・パパット(試験:パパット2) | D66: ISO-FIX | E66: 幼児専用
B67: カーメイト | C67: =HYPERLINK("#2009年度以降の試験結果一覧!D"&MATCH("*パパット2*",'2009年度以降の試験結果一覧'!D:D,0),"エールベベ・パパット2") -> エールベベ・パパット2 | D67: ISO-FIX | E67: 幼児専用
B68: カーメイト | C68: =HYPERLINK("#2008年度以前の試験結果一覧!D"&MATCH("*プレコット*",'2008年度以前の試験結果一覧'!D:D,0),"エールベベ・プレコット") -> エールベベ・プレコット | D68: ベルト | E68: 乳児専用
B69: カーメイト | C69: =HYPERLINK("#2008年度以前の試験結果一覧!D"&MATCH("*プレシールド*",'2008年度以前の試験結果一覧'!D:D,0),"エールベベ・プレシールド") -> エールベベ・プレシールド | D69: ベルト | E69: 幼児専用
B70: カーメイト | C70: =HYPERLINK("#2008年度以前の試験結果一覧!D"&MATCH("すくすくターン*",'2008年度以前の試験結果一覧'!D:D,0),"すくすくターン") -> すくすくターン | D70: ベルト | E70: 乳児用・幼児用(兼用ﾀｲﾌﾟ)
B71: カトージ | C71: {=HYPERLINK("#2009年度以降の試験結果一覧!D"&MATCH("*アイ・アーク360°*",'2009年度以降の試験結果一覧'!D:D,0),"Joie・アイ・アーク360°")} -> Joie・アイ・アーク360° | D71: ISO-FIX | E71: 乳児用・幼児用(兼用ﾀｲﾌﾟ)
B72: カトージ | C72: =HYPERLINK("#2009年度以降の試験結果一覧!D"&MATCH("*アーク360°*",'2009年度以降の試験結果一覧'!D:D,0),"Joie・アーク360°") -> Joie・アーク360° | D72: ISO-FIX | E72: 乳児用・幼児用(兼用ﾀｲﾌﾟ)
B73: カトージ | C73: =HYPERLINK("#2009年度以降の試験結果一覧!D"&MATCH("*エレベート*",'2009年度以降の試験結果一覧'!D:D,0),"Joie・エレベート") -> Joie・エレベート | D73: ベルト | E73: 幼児専用
B74: カトージ | C74: =HYPERLINK("#2009年度以降の試験結果一覧!D"&MATCH("Joie・エレベートR129",'2009年度以降の試験結果一覧'!D:D,0),"Joie・エレベートR129") -> Joie・エレベートR129 | D74: ベルト | E74: 幼児専用
B75: カトージ | C75: =HYPERLINK("#2009年度以降の試験結果一覧!D"&MATCH("*ジェム [ISO-FIX固定]",'2009年度以降の試験結果一覧'!D:D,0),"Joie・ジェム [ISO-FIX固定]") -> Joie・ジェム [ISO-FIX固定] | D75: ISO-FIX・ﾍﾞﾙﾄ兼用 | E75: 乳児専用
B76: カトージ | C76: =HYPERLINK("#2009年度以降の試験結果一覧!D"&MATCH("*ジェム [ベルト固定]",'2009年度以降の試験結果一覧'!D:D,0),"Joie・ジェム [ベルト固定]") -> Joie・ジェム [ベルト固定] | D76: ISO-FIX・ﾍﾞﾙﾄ兼用 | E76: 乳児専用
B77: カトージ | C77: =HYPERLINK("#2009年度以降の試験結果一覧!D"&MATCH("*ジュバ*",'2009年度以降の試験結果一覧'!D:D,0),"Joie・ジュバ") -> Joie・ジュバ | D77: ベルト | E77: 乳児専用
B78: カトージ | C78: =HYPERLINK("#2009年度以降の試験結果一覧!D"&MATCH("*ステージズ*",'2009年度以降の試験結果一覧'!D:D,0),"Joie・ステージズ") -> Joie・ステージズ | D78: ベルト | E78: 乳児用・幼児用(兼用ﾀｲﾌﾟ)
B79: カトージ | C79: =HYPERLINK("#2009年度以降の試験結果一覧!D"&MATCH("Joie・ステディ R129",'2009年度以降の試験結果一覧'!D:D,0),"Joie・ステディ R129") -> Joie・ステディ R129 | D79: ISO-FIX | E79: 乳児用・幼児用(兼用ﾀｲﾌﾟ)
B80: カトージ | C80: =HYPERLINK("#2009年度以降の試験結果一覧!D"&MATCH("*チルト*",'2009年度以降の試験結果一覧'!D:D,0),"Joie・チルト") -> Joie・チルト | D80: ベルト | E80: 乳児用・幼児用(兼用ﾀｲﾌﾟ)
B81: カトージ | C81: =HYPERLINK("#2009年度以降の試験結果一覧!D"&MATCH("*バリアント*",'2009年度以降の試験結果一覧'!D:D,0),"Joie・バリアント") -> Joie・バリアント | D81: ベルト | E81: 乳児用・幼児用(兼用ﾀｲﾌﾟ)
B82: カトージ | C82: =HYPERLINK("#2009年度以降の試験結果一覧!D"&MATCH("Joie・ベビーシート アイ・スナグ2[ISO-FIX固定]",'2009年度以降の試験結果一覧'!D:D,0),"Joie・ベビーシート アイ・スナグ2[ISO-FIX固定]") -> Joie・ベビーシート アイ・スナグ2[ISO-FIX固定] | D82: ISO-FIX | E82: 乳児専用
B83: カトージ | C83: =HYPERLINK("#2009年度以降の試験結果一覧!D"&MATCH("Joie・ベビーシート アイ・スナグ2 [ベルト固定]",'2009年度以降の試験結果一覧'!D:D,0),"Joie・ベビーシート アイ・スナグ2 [ベルト固定]") -> Joie・ベビーシート アイ・スナグ2 [ベルト固定] | D83: ISO-FIX | E83: 乳児専用
B84: グレコ | C84: =HYPERLINK("#2008年度以前の試験結果一覧!D"&MATCH("オートベビープラス*",'2008年度以前の試験結果一覧'!D:D,0),"オートベビープラス") -> オートベビープラス | D84: ベルト | E84: 乳児専用
B85: コンビ | C85: =HYPERLINK("#2009年度以降の試験結果一覧!D"&MATCH("THE S*",'2009年度以降の試験結果一覧'!D:D,0),"THE S") -> THE S | D85: ISO-FIX | E85: 乳児用・幼児用(兼用ﾀｲﾌﾟ)
B86: コンビ | C86: =HYPERLINK("#2009年度以降の試験結果一覧!D"&MATCH("ウィゴーロング*",'2009年度以降の試験結果一覧'!D:D,0),"ウィゴーロング") -> ウィゴーロング | D86: ベルト | E86: 乳児用・幼児用(兼用ﾀｲﾌﾟ)
B87: コンビ | C87: =HYPERLINK("#2008年度以前の試験結果一覧!D"&MATCH("カブリオレ*",'2008年度以前の試験結果一覧'!D:D,0),"カブリオレ") -> カブリオレ | D87: ベルト | E87: 乳児専用
B88: コンビ | C88: =HYPERLINK("#2008年度以前の試験結果一覧!D"&MATCH("グッドキャリー*",'2008年度以前の試験結果一覧'!D:D,0),"グッドキャリー") -> グッドキャリー | D88: ベルト | E88: 乳児専用
B89: コンビ | C89: {=HYPERLINK("#2009年度以降の試験結果一覧!D"&MATCH("*44238"&"ネルーム*",'2009年度以降の試験結果一覧'!C:C&'2009年度以降の試験結果一覧'!D:D,0),"クルムーヴ (試験:ネルーム)")} -> クルムーヴ (試験:ネルーム) | D89: ベルト | E89: 乳児用・幼児用(兼用ﾀｲﾌﾟ)
B90: コンビ | C90: {=HYPERLINK("#2009年度以降の試験結果一覧!D"&MATCH("ネルーム ISOFIX*",'2009年度以降の試験結果一覧'!D:D,0),"クルムーヴ ISOFIX (試験:ネルームISOFIX)")} -> クルムーヴ ISOFIX (試験:ネルームISOFIX) | D90: ISO-FIX | E90: 乳児用・幼児用(兼用ﾀｲﾌﾟ)
B91: コンビ | C91: =HYPERLINK("#2009年度以降の試験結果一覧!D"&MATCH("クルムーヴ アドバンス",'2009年度以降の試験結果一覧'!D:D,0),"クルムーヴ アドバンス") -> クルムーヴ アドバンス | D91: ISO-FIX | E91: 乳児用・幼児用(兼用ﾀｲﾌﾟ)
B92: コンビ | C92: {=HYPERLINK("#2009年度以降の試験結果一覧!D"&MATCH("*44238"&"ネルーム*",'2009年度以降の試験結果一覧'!C:C&'2009年度以降の試験結果一覧'!D:D,0),"クルムーヴ スマート (試験:ネルーム)")} -> クルムーヴ スマート (試験:ネルーム) | D92: ベルト | E92: 乳児用・幼児用(兼用ﾀｲﾌﾟ)
B93: コンビ | C93: =HYPERLINK("#2009年度以降の試験結果一覧!D"&MATCH("ネルーム ISOFIX*",'2009年度以降の試験結果一覧'!D:D,0),"クルムーヴ スマート ISOFIX (試験:ネルームISOFIX)") -> クルムーヴ スマート ISOFIX (試験:ネルームISOFIX) | D93: ISO-FIX | E93: 乳児用・幼児用(兼用ﾀｲﾌﾟ)
B94: コンビ | C94: =HYPERLINK("#2009年度以降の試験結果一覧!D"&MATCH("クルムーヴ ロング",'2009年度以降の試験結果一覧'!D:D,0),"クルムーヴ ロング") -> クルムーヴ ロング | D94: ISO-FIX | E94: 乳児用・幼児用(兼用ﾀｲﾌﾟ)
B95: コンビ | C95: {=HYPERLINK("#2008年度以前の試験結果一覧!D"&MATCH("コッコロ*"&7,'2008年度以前の試験結果一覧'!D:D&'2008年度以前の試験結果一覧'!F:F,0),"コッコロ")} -> コッコロ | D95: ベルト | E95: 乳児用・幼児用(兼用ﾀｲﾌﾟ)
B96: コンビ | C96: =HYPERLINK("#2008年度以前の試験結果一覧!D"&MATCH("コッコロUX*",'2008年度以前の試験結果一覧'!D:D,0),"コッコロUX") -> コッコロUX | D96: ベルト | E96: 乳児用・幼児用(兼用ﾀｲﾌﾟ)
B97: コンビ | C97: =HYPERLINK("#2009年度以降の試験結果一覧!D"&MATCH("ジョイトリップ",'2009年度以降の試験結果一覧'!D:D,0),"ジョイトリップ") -> ジョイトリップ | D97: ベルト | E97: 幼児専用
B98: コンビ | C98: =HYPERLINK("#2009年度以降の試験結果一覧!D"&MATCH("ジョイトリップ アドバンス",'2009年度以降の試験結果一覧'!D:D,0),"ジョイトリップ アドバンス") -> ジョイトリップ アドバンス | D98: ISO-FIX | E98: 幼児専用
B99: コンビ | C99: =HYPERLINK("#2008年度以前の試験結果一覧!D"&MATCH("ゼウスターンEG*",'2008年度以前の試験結果一覧'!D:D,0),"ゼウスターンEG") -> ゼウスターンEG | D99: ベルト | E99: 乳児用・幼児用(兼用ﾀｲﾌﾟ)
B100: コンビ | C100: =HYPERLINK("#2008年度以前の試験結果一覧!D"&MATCH("セパラテ*",'2008年度以前の試験結果一覧'!D:D,0),"セパラテ") -> セパラテ | D100: ベルト | E100: 乳児用・幼児用(兼用ﾀｲﾌﾟ)
B101: コンビ | C101: =HYPERLINK("#2008年度以前の試験結果一覧!D"&MATCH("ネオシスファースト2.5S*",'2008年度以前の試験結果一覧'!D:D,0),"ネオシスファースト2.5S") -> ネオシスファースト2.5S | D101: ベルト | E101: 乳児用・幼児用(兼用ﾀｲﾌﾟ)
...

Sheet 2009年度以降の試験結果一覧
A1: =HYPERLINK("#'目次・索引'!B1","索引へ戻る") -> 索引へ戻る | D1: チャイルドシート試験結果一覧表（2009年度以降）
A3: 2009年度以降の結果表 （2008年度以前の結果は、「2008年度以前の試験結果一覧」シートをご覧ください。）
D4: 自動車製作者等の申し出による委託試験機種 | AH4: (注) 2015年より評価方法を変更したため結果を赤字としています。2014年までの結果と単純比較はできません。
A5: カテゴリー | B5: 固定方式 | C5: 指定番号 | D5: 通称名 | E5: メーカー名等 | F5: 試験実施年度 | G5: 適合基準 | H5: 前面衝突試験 （乳児用[ベッド型]） | P5: 前面衝突試験 （乳児用） | Y5: 前面衝突試験 （幼児用） | AH5: 使用性評価試験 (注） （乳児用[ベッド型]） | AM5: 使用性評価試験 (注） （乳児用） | AR5: 使用性評価試験 (注） （幼児用） | AW5: 特記事項
H6: 評価 | I6: 取付部等の破損 | J6: ベッド 底面 の 傾き （°） | K6: 頭部 移動量 （mm） | M6: 胸部に 生じる力 （m/s2） | O6: その他の事象 | P6: 評価 | Q6: 取付部等の破損 | R6: シート バック の傾き （°） | T6: 頭部 の はみ 出し （mm） | V6: 胸部に 生じる力 （m/s2） | X6: その他の事象 | Y6: 評価 | Z6: 取付部等の破損 | AA6: 頭部 移動量 （mm） | AC6: 頭部に 生じる力 （m/s2） | AE6: 胸部に 生じる力 （m/s2） | AG6: その他の事象 | AH6: 取扱説明書等 | AI6: 本体表示 | AJ6: 本体機構 | AK6: 取付性 | AL6: 装着性 | AM6: 取扱説明書等 | AN6: 本体表示 | AO6: 本体機構 | AP6: 取付性 | AQ6: 装着性 | AR6: 取扱説明書等 | AS6: 本体表示 | AT6: 本体機構 | AU6: 取付性 | AV6: 装着性
A8: 乳児専用 | B8: ISO-FIX／ベルト固定 (兼用タイプ) | C8: R129-030570 | D8: Joie・ベビーシート アイ・スナグ2[ISO-FIX固定] | E8: (株)カトージ | F8: 24 | G8: R129 | P8: 優 | Q8: ◎ | R8: ◎ | S8: 47 | T8: ◎ | V8: ◎ | W8: 483.7 | X8: なし | AM8: 4 | AN8: 2 | AO8: 2 | AP8: 5 | AQ8: 2 | AW8: ISO-FIX固定（I-Base使用）
A9: 乳児専用 | B9: ISO-FIX／ベルト固定 (兼用タイプ) | C9: R129-030570 | D9: Joie・ベビーシート アイ・スナグ2 [ベルト固定] | E9: (株)カトージ | F9: 24 | G9: R129 | P9: 優 | Q9: ◎ | R9: ◎ | S9: 40 | T9: ◎ | V9: ◎ | W9: 403.9 | X9: なし | AM9: 4 | AN9: 3 | AO9: 2 | AP9: 3 | AQ9: 2 | AW9: ベルト固定
A10: 乳児専用 | B10: ISO-FIX／ベルト固定 (兼用タイプ) | C10: E11 040250 | D10: Joie・ジェム [ISO-FIX固定] | E10: (株)カトージ | F10: 20 | G10: R44 04 | P10: 優 | Q10: ◎ | R10: ◎ | S10: 35 | T10: ◎ | V10: ◎ | W10: 404.5 | X10: なし | AM10: 1 | AN10: 3 | AO10: 3 | AP10: 5 | AQ10: 2
A11: 乳児専用 | B11: ISO-FIX／ベルト固定 (兼用タイプ) | C11: E11 040250 | D11: Joie・ジェム [ベルト固定] | E11: (株)カトージ | F11: 20 | G11: R44 04 | P11: 優 | Q11: ◎ | R11: ◎ | S11: 33 | T11: ◎ | V11: ◎ | W11: 466 | X11: なし | AM11: 1 | AN11: 3 | AO11: 3 | AP11: 3 | AQ11: 2 | AW11: ベルト固定
A12: 乳児専用 | B12: ベルト 固定 | C12: E11 041502 | D12: Joie・ジュバ | E12: (株)カトージ | F12: 17 | G12: R44 04 | P12: 優 | Q12: ◎ | R12: ◎ | S12: 38 | T12: ◎ | V12: ◎ | W12: 416.7 | X12: なし | AM12: 4 | AN12: 2 | AO12: 3 | AP12: 3 | AQ12: 2
A13: 乳児専用 | B13: ベルト 固定 | C13: E4 04443409 | D13: マムズキャリーブライトⅡ | E13: (株)シーエー産商 | F13: 17 | G13: R44 04 | P13: 優 | Q13: ◎ | R13: ◎ | S13: 31 | T13: ◎ | V13: ◎ | W13: 379.1 | X13: なし | AM13: 1 | AN13: 4 | AO13: 4 | AP13: 3 | AQ13: 3
A14: 乳児専用 | B14: ベルト 固定 | C14: E1 04301146 | D14: レーマー・ベビーセーフプレミアム | E14: VCJコーポレーション(株) | F14: 09 | G14: R44 04 | P14: 優 | Q14: ◎ | R14: ◎ | S14: 39 | T14: ◎ | V14: ◎ | W14: 485.4 | X14: なし | AM14: 5 | AN14: 4.2 | AO14: 3 | AP14: 5 | AQ14: 4
A15: 乳児専用 | B15: ベルト 固定 | C15: E1 03301179 | D15: ベビーズシート | E15: (株)日本育児 | F15: 09 | G15: R44 03 | P15: 良 | Q15: ◎ | R15: ◎ | S15: 43 | T15: ○ | U15: 44 | V15: ◎ | W15: 461.3 | X15: なし | AM15: 1.8 | AN15: 2.5 | AO15: 3 | AP15: 5 | AQ15: 4.2
A16: 乳児用・幼児用 （兼用タイプ） | B16: ISO-FIX固定 | C16: E4 044348 | D16: ネルーム ISOFIX | E16: コンビ(株) | F16: 14 | G16: R44 04 | P16: 優 | Q16: ◎ | R16: ◎ | S16: 51 | T16: ◎ | V16: ◎ | W16: 362.5 | X16: なし | Y16: 優 | Z16: ◎ | AA16: ◎ | AB16: 485 | AC16: ◎ | AD16: 525.6 | AE16: ◎ | AF16: 341.4 | AG16: なし | AM16: 4.2 | AN16: 4.3 | AO16: 4.4 | AP16: 3.3 | AQ16: 4.4 | AR16: 4.2 | AS16: 4.3 | AT16: 4.4 | AU16: 4 | AV16: 4.4
A17: 乳児用・幼児用 （兼用タイプ） | B17: ベルト 固定 | C17: E43 44R040009 | D17: takata04-neo SF | E17: タカタ(株) | F17: 14 | G17: R44 04 | P17: 優 | Q17: ◎ | R17: ◎ | S17: 54 | T17: ◎ | V17: ◎ | W17: 406.3 | X17: なし | Y17: 優 | Z17: ◎ | AA17: ◎ | AB17: 495 | AC17: ◎ | AD17: 561.5 | AE17: ◎ | AF17: 443.6 | AG17: なし | AM17: 4.3 | AN17: 4.5 | AO17: 4 | AP17: 5 | AQ17: 4.8 | AR17: 4.3 | AS17: 4.5 | AT17: 4 | AU17: 5 | AV17: 4.8
A18: 乳児用・幼児用 （兼用タイプ） | B18: ベルト 固定 | C18: E24 040093 | D18: カイナ | E18: リーマン(株) | F18: 14 | G18: R44 04 | P18: 優 | Q18: ◎ | R18: ◎ | S18: 55 | T18: ◎ | V18: ◎ | W18: 488.9 | X18: なし | Y18: 優 | Z18: ◎ | AA18: ◎ | AB18: 524 | AC18: ◎ | AD18: 586.3 | AE18: ◎ | AF18: 470.7 | AG18: なし | AM18: 4.7 | AN18: 3.5 | AO18: 4.3 | AP18: 3.8 | AQ18: 4.8 | AR18: 4.7 | AS18: 3.5 | AT18: 4.3 | AU18: 3.3 | AV18: 4.8
A19: 乳児用・幼児用 （兼用タイプ） | B19: ISO-FIX／ベルト固定 (兼用タイプ) | C19: E13 045069 | D19: グレコ・G-FIX [ISO-FIX固定] | E19: アップリカ・チルドレンズプロダクツ(株) | F19: 13 | G19: R44 04 | P19: 優 | Q19: ◎ | R19: ◎ | S19: 46 | T19: ◎ | V19: ◎ | W19: 416.6 | X19: なし | Y19: 優 | Z19: ◎ | AA19: ◎ | AB19: 467 | AC19: ◎ | AD19: 586.3 | AE19: ◎ | AF19: 304.8 | AG19: なし | AM19: ※ | AN19: ※ | AO19: ※ | AP19: ※ | AQ19: ※ | AR19: ※ | AS19: ※ | AT19: ※ | AU19: ※ | AV19: ※ | AW19: ISO-FIX固定 ※ 試験車両に対応していないため未実施
A20: 乳児用・幼児用 （兼用タイプ） | B20: ベルト 固定 | C20: E43 44R040005 | D20: takata04-smartfix basic | E20: タカタ(株) | F20: 13 | G20: R44 04 | P20: 優 | Q20: ◎ | R20: ◎ | S20: 47 | T20: ◎ | V20: ◎ | W20: 408.3 | X20: なし | Y20: 優 | Z20: ◎ | AA20: ◎ | AB20: 504 | AC20: ◎ | AD20: 586.2 | AE20: ◎ | AF20: 445.1 | AG20: なし | AM20: 3.7 | AN20: 4.3 | AO20: 4 | AP20: 4 | AQ20: 3.8 | AR20: 3.7 | AS20: 4.3 | AT20: 4 | AU20: 2.8 | AV20: 3.8
A21: 乳児用・幼児用 （兼用タイプ） | B21: ISO-FIX固定 | C21: E43 44R040004 | D21: takata04-ｉ fix | E21: タカタ(株) | F21: 12 | G21: R44 04 | P21: 優 | Q21: ◎ | R21: ◎ | S21: 39 | T21: ◎ | V21: ◎ | W21: 486.4 | X21: なし | Y21: 優 | Z21: ◎ | AA21: ◎ | AB21: 399 | AC21: ◎ | AD21: 618.1 | AE21: ◎ | AF21: 387.7 | AG21: なし | AM21: 3.8 | AN21: 4.5 | AO21: 4.7 | AP21: 4 | AQ21: 4.6 | AR21: 3.8 | AS21: 4.5 | AT21: 4.7 | AU21: 5 | AV21: 4.6
A22: 乳児用・幼児用 （兼用タイプ） | B22: ベルト 固定 | C22: E4 04443909 | D22: takata04-smartfix | E22: タカタ(株) | F22: 10 | G22: R44 04 | P22: 優 | Q22: ◎ | R22: ◎ | S22: 54 | T22: ◎ | V22: ◎ | W22: 343.1 | X22: なし | Y22: 優 | Z22: ◎ | AA22: ◎ | AB22: 516 | AC22: ◎ | AD22: 523.1 | AE22: ◎ | AF22: 449 | AG22: なし | AM22: 3.7 | AN22: 4.2 | AO22: 4 | AP22: 4 | AQ22: 3.8 | AR22: 3.7 | AS22: 4.2 | AT22: 4 | AU22: 3.5 | AV22: 3.8
A23: 乳児用・幼児用 （兼用タイプ） | B23: ISO-FIX固定 | C23: E11-129R-030556 | D23: クルリラ エックス プラス AB | E23: ニューウェルブランズ・ジャパン（同） | F23: 25 | G23: R129 | P23: 優 | Q23: ◎ | R23: ◎ | S23: 52 | T23: ◎ | V23: ◎ | W23: 424.6 | X23: なし | Y23: 良 | Z23: ◎ | AA23: ◎ | AB23: 489 | AC23: 〇 | AD23: 666.4 | AE23: ◎ | AF23: 393 | AG23: なし | AM23: 5 | AN23: 5 | AO23: 5 | AP23: 5 | AQ23: 4 | AR23: 5 | AS23: 5 | AT23: 4 | AU23: 5 | AV23: 4
A24: 乳児用・幼児用 （兼用タイプ） | B24: ISO-FIX固定 | C24: E11-129R-030556 | D24: クルリラ ビッテ エックス プラス AB | E24: ニューウェルブランズ・ジャパン（同） | F24: 25 | G24: R129 | P24: 優 | Q24: ◎ | R24: ◎ | S24: 54 | T24: ◎ | V24: ◎ | W24: 401.5 | X24: なし | Y24: 良 | Z24: ◎ | AA24: ◎ | AB24: 494 | AC24: 〇 | AD24: 682.3 | AE24: ◎ | AF24: 385 | AG24: なし | AM24: 5 | AN24: 5 | AO24: 5 | AP24: 5 | AQ24: 4 | AR24: 5 | AS24: 5 | AT24: 4 | AU24: 5 | AV24: 4
A25: 乳児用・幼児用 （兼用タイプ） | B25: ISO-FIX固定 | C25: E11-129R-030556 | D25: クルリラ ビッテ エックス プラス | E25: ニューウェルブランズ・ジャパン（同） | F25: 24 | G25: R129 | P25: 優 | Q25: ◎ | R25: ◎ | S25: 52 | T25: ◎ | V25: ◎ | W25: 397.6 | X25: なし | Y25: 良 | Z25: ◎ | AA25: ◎ | AB25: 491 | AC25: 〇 | AD25: 642.3 | AE25: ◎ | AF25: 407.6 | AG25: なし | AM25: 5 | AN25: 5 | AO25: 5 | AP25: 5 | AQ25: 4 | AR25: 5 | AS25: 5 | AT25: 4 | AU25: 5 | AV25: 4
A26: 乳児用・幼児用 （兼用タイプ） | B26: ISO-FIX固定 | C26: E13 129R-030001 | D26: フラディア プラス | E26: ニューウェルブランズ・ジャパン（同） | F26: 23 | G26: R129 | H26: 優 | I26: ◎ | J26: ◎ | K26: ◎ | L26: 524 | M26: ◎ | N26: 436.8 | O26: なし | P26: 優 | Q26: ◎ | R26: ◎ | S26: 47 | T26: ◎ | V26: ◎ | W26: 400.8 | X26: なし | Y26: 良 | Z26: ◎ | AA26: ◎ | AB26: 507 | AC26: 〇 | AD26: 762.5 | AE26: ◎ | AF26: 452.3 | AG26: なし | AH26: 5 | AI26: 5 | AJ26: 5 | AK26: 5 | AL26: 4 | AM26: 5 | AN26: 5 | AO26: 4 | AP26: 5 | AQ26: 4 | AR26: 5 | AS26: 5 | AT26: 4 | AU26: 5 | AV26: 4
A27: 乳児用・幼児用 （兼用タイプ） | B27: ISO-FIX固定 | C27: E11 129R-030556 | D27: クルリラ ビッテ エックス AB | E27: ニューウェルブランズ・ジャパン（同） | F27: 23 | G27: R129 | P27: 優 | Q27: ◎ | R27: ◎ | S27: 41 | T27: ◎ | V27: ◎ | W27: 435.8 | X27: なし | Y27: 良 | Z27: ◎ | AA27: ◎ | AB27: 484 | AC27: 〇 | AD27: 665.1 | AE27: ◎ | AF27: 384 | AG27: なし | AM27: 5 | AN27: 5 | AO27: 5 | AP27: 5 | AQ27: 4 | AR27: 5 | AS27: 5 | AT27: 4 | AU27: 5 | AV27: 4
A28: 乳児用・幼児用 （兼用タイプ） | B28: ISO-FIX固定 | C28: E9*129R03/04*1036*00 | D28: クルムーヴ アドバンス | E28: コンビ(株) | F28: 22 | G28: R129 | P28: 優 | Q28: ◎ | R28: ◎ | S28: 39 | T28: ◎ | V28: ◎ | W28: 488.3 | X28: なし | Y28: 良 | Z28: ◎ | AA28: ○ | AB28: 544 | AC28: ◎ | AD28: 561.8 | AE28: ◎ | AF28: 370.7 | AG28: なし | AM28: 4 | AN28: 2 | AO28: 5 | AP28: 4 | AQ28: 4 | AR28: 4 | AS28: 2 | AT28: 3 | AU28: 4 | AV28: 4
A29: 乳児用・幼児用 （兼用タイプ） | B29: ISO-FIX固定 | C29: E11-129R-030556 | D29: クルリラ ビッテ エックス | E29: ニューウェルブランズ・ジャパン（同） | F29: 22 | G29: R129 | P29: 優 | Q29: ◎ | R29: ◎ | S29: 42 | T29: ◎ | V29: ◎ | W29: 437.7 | X29: なし | Y29: 良 | Z29: ◎ | AA29: ◎ | AB29: 494 | AC29: ○ | AD29: 662.2 | AE29: ◎ | AF29: 412.5 | AG29: なし | AM29: 5 | AN29: 4 | AO29: 5 | AP29: 5 | AQ29: 4 | AR29: 5 | AS29: 4 | AT29: 4 | AU29: 5 | AV29: 4
A30: 乳児用・幼児用 （兼用タイプ） | B30: ISO-FIX固定 | C30: E4-129R-030128 | D30: エールべべ・クルットR | E30: (株)カーメイト | F30: 22 | G30: R129 | P30: 優 | Q30: ◎ | R30: ◎ | S30: 46 | T30: ◎ | V30: ◎ | W30: 424.4 | X30: なし | Y30: 良 | Z30: ◎ | AA30: ◎ | AB30: 509 | AC30: ○ | AD30: 710.8 | AE30: ◎ | AF30: 432.4 | AG30: なし | AM30: 5 | AN30: 5 | AO30: 5 | AP30: 5 | AQ30: 3 | AR30: 5 | AS30: 5 | AT30: 4 | AU30: 5 | AV30: 3
A31: 乳児用・幼児用 （兼用タイプ） | B31: ISO-FIX固定 | C31: E11-129R-030519 | D31: クルリラ プラス 360°セーフティー | E31: ニューウェルブランズ・ジャパン（同） | F31: 20 | G31: R129 | P31: 優 | Q31: ◎ | R31: ◎ | S31: 42 | T31: ◎ | V31: ◎ | W31: 449.2 | X31: なし | Y31: 良 | Z31: ◎ | AA31: ◎ | AB31: 454 | AC31: ○ | AD31: 716.1 | AE31: ◎ | AF31: 410.8 | AG31: なし | AM31: 4 | AN31: 2 | AO31: 5 | AP31: 5 | AQ31: 4 | AR31: 4 | AS31: 2 | AT31: 4 | AU31: 5 | AV31: 4
A32: 乳児用・幼児用 （兼用タイプ） | B32: ISO-FIX固定 | C32: E13 129R-020001 | D32: フラディア グロウ ISOFIX 360°セーフティー | E32: アップリカ・チルドレンズプロダクツ(同) | F32: 19 | G32: R44 04 | H32: 良 | I32: ◎ | J32: ◎ | K32: ◎ | L32: 557 | M32: ○ | N32: 504.2 | O32: なし | P32: 優 | Q32: ◎ | R32: ◎ | S32: 40 | T32: ◎ | V32: ◎ | W32: 381.2 | X32: なし | Y32: 良 | Z32: ◎ | AA32: ◎ | AB32: 508 | AC32: ○ | AD32: 780 | AE32: ◎ | AF32: 469.4 | AG32: なし | AH32: 5 | AI32: 4 | AJ32: 4 | AK32: 5 | AL32: 4 | AM32: 5 | AN32: 4 | AO32: 4 | AP32: 5 | AQ32: 4 | AR32: 5 | AS32: 4 | AT32: 4 | AU32: 5 | AV32: 4
A33: 乳児用・幼児用 （兼用タイプ） | B33: ベルト 固定 | C33: E8 047665 | D33: ネディアップ | E33: リーマン(株) | F33: 15 | G33: R44 04 | P33: 優 | Q33: ◎ | R33: ◎ | S33: 35 | T33: ◎ | V33: ◎ | W33: 449.6 | X33: なし | Y33: 良 | Z33: ◎ | AA33: ◎ | AB33: 523 | AC33: ○ | AD33: 779.2 | AE33: ◎ | AF33: 430.6 | AG33: なし | AM33: 5 | AN33: 3 | AO33: 4 | AP33: 3 | AQ33: 3 | AR33: 5 | AS33: 3 | AT33: 4 | AU33: 3 | AV33: 3
A34: 乳児用・幼児用 （兼用タイプ） | B34: ベルト 固定 | C34: E4 04444103 | D34: Joie・チルト | E34: (株)カトージ | F34: 12 | G34: R44 04 | P34: 優 | Q34: ◎ | R34: ◎ | S34: 37 | T34: ◎ | V34: ◎ | W34: 454.3 | X34: なし | Y34: 良 | Z34: ◎ | AA34: ◎ | AB34: 511 | AC34: ○ | AD34: 730.5 | AE34: ◎ | AF34: 448.1 | AG34: なし | AM34: 3.2 | AN34: 2.7 | AO34: 3.3 | AP34: 1.5 | AQ34: 4.2 | AR34: 3.2 | AS34: 2.7 | AT34: 3.3 | AU34: 4.3 | AV34: 4.2
A35: 乳児用・幼児用 （兼用タイプ） | B35: ベルト 固定 | C35: E4 044203 | D35: マルゴット | E35: コンビ(株) | F35: 12 | G35: R44 04 | P35: 優 | Q35: ◎ | R35: ◎ | S35: 46 | T35: ◎ | V35: ◎ | W35: 487.8 | X35: なし | Y35: 良 | Z35: ◎ | AA35: ◎ | AB35: 510 | AC35: ○ | AD35: 730.7 | AE35: ◎ | AF35: 491.4 | AG35: なし | AM35: 4.3 | AN35: 4.5 | AO35: 4 | AP35: 4 | AQ35: 4.4 | AR35: 4.3 | AS35: 4.5 | AT35: 4 | AU35: 4.3 | AV35: 4.8
A36: 乳児用・幼児用 （兼用タイプ） | B36: ベルト 固定 | C36: E13 045087 | D36: フラディア | E36: アップリカ・チルドレンズプロダクツ(株) | F36: 11 | G36: R44 04 | H36: 良 | I36: ◎ | J36: ◎ | K36: ◎ | L36: 538 | M36: ○ | N36: 722.8 | O36: なし | P36: 優 | Q36: ◎ | R36: ◎ | S36: 36 | T36: ◎ | V36: ◎ | W36: 481 | X36: なし | Y36: 良 | Z36: ◎ | AA36: ◎ | AB36: 516 | AC36: ○ | AD36: 727.6 | AE36: ◎ | AF36: 512.9 | AG36: なし | AH36: 3.7 | AI36: 2.5 | AJ36: 2.6 | AK36: 4.3 | AL36: 4.2 | AM36: 3.7 | AN36: 2.5 | AO36: 2.6 | AP36: 3.3 | AQ36: 3.8 | AR36: 3.7 | AS36: 2.5 | AT36: 2.6 | AU36: 4.3 | AV36: 3.8
A37: 乳児用・幼児用 （兼用タイプ） | B37: ベルト 固定 | C37: E8 045981 | D37: ピピデビュー | E37: リーマン(株) | F37: 11 | G37: R44 04 | P37: 優 | Q37: ◎ | R37: ◎ | S37: 45 | T37: ◎ | V37: ◎ | W37: 473.1 | X37: なし | Y37: 良 | Z37: ◎ | AA37: ◎ | AB37: 518 | AC37: ○ | AD37: 737.7 | AE37: ◎ | AF37: 468.2 | AG37: なし | AM37: 4.2 | AN37: 2.8 | AO37: 4.3 | AP37: 4.3 | AQ37: 4 | AR37: 4.2 | AS37: 2.8 | AT37: 4.3 | AU37: 4.5 | AV37: 4
A38: 乳児用・幼児用 （兼用タイプ） | B38: ベルト 固定 | C38: E8 044399 | D38: パミオドゥーエ | E38: リーマン(株) | F38: 09 | G38: R44 04 | P38: 優 | Q38: ◎ | R38: ◎ | S38: 49 | T38: ◎ | V38: ◎ | W38: 445.3 | X38: なし | Y38: 良 | Z38: ◎ | AA38: ◎ | AB38: 509 | AC38: ○ | AD38: 675.3 | AE38: ◎ | AF38: 495.4 | AG38: なし | AM38: 4.2 | AN38: 3.3 | AO38: 3.7 | AP38: 4.8 | AQ38: 4 | AR38: 4.2 | AS38: 3.3 | AT38: 3.7 | AU38: 5 | AV38: 4
A39: 乳児用・幼児用 （兼用タイプ） | B39: ISO-FIX固定 | C39: E11 129R-030519 | D39: クルリラ プロテクト | E39: アップリカ・チルドレンズプロダクツ(同) | F39: 19 | G39: R44 04 | P39: 優 | Q39: ◎ | R39: ◎ | S39: 49 | T39: ◎ | V39: ◎ | W39: 459.2 | X39: なし | Y39: 普通 | Z39: ○ | AA39: ◎ | AB39: 455 | AC39: ○ | AD39: 654 | AE39: ◎ | AF39: 403.5 | AG39: なし | AM39: 4 | AN39: 4 | AO39: 4 | AP39: 5 | AQ39: 4 | AR39: 4 | AS39: 4 | AT39: 4 | AU39: 5 | AV39: 4
A40: 乳児用・幼児用 （兼用タイプ） | B40: ベルト 固定 | C40: E24-44R-040201 | D40: ウィゴーロング | E40: (株)コンビ | F40: 18 | G40: R44 04 | P40: 優 | Q40: ◎ | R40: ◎ | S40: 36 | T40: ◎ | V40: ◎ | W40: 411.2 | X40: なし | Y40: 普通 | Z40: ◎ | AA40: ○ | AB40: 576 | AC40: ○ | AD40: 657.5 | AE40: ◎ | AF40: 410.4 | AG40: なし | AM40: 3 | AN40: 4 | AO40: 3 | AP40: 3 | AQ40: 3 | AR40: 3 | AS40: 4 | AT40: 3 | AU40: 3 | AV40: 3
A41: 乳児用・幼児用 （兼用タイプ） | B41: ベルト 固定 | C41: E8 048064 | D41: Oreille | E41: ピジョン(株) | F41: 18 | G41: R44 04 | P41: 優 | Q41: ◎ | R41: ◎ | S41: 46 | T41: ◎ | V41: ◎ | W41: 347 | X41: なし | Y41: 普通 | Z41: ◎ | AA41: ○ | AB41: 560 | AC41: ○ | AD41: 700.1 | AE41: ◎ | AF41: 500 | AG41: なし | AM41: 5 | AN41: 4 | AO41: 3 | AP41: 3 | AQ41: 4 | AR41: 5 | AS41: 4 | AT41: 3 | AU41: 3 | AV41: 4
A42: 乳児用・幼児用 （兼用タイプ） | B42: ベルト 固定 | C42: E11 041504 | D42: Joie・バリアント | E42: (株)カトージ | F42: 17 | G42: R44 04 | P42: 優 | Q42: ◎ | R42: ◎ | S42: 52 | T42: ◎ | V42: ◎ | W42: 426 | X42: なし | Y42: 普通 | Z42: ○ | AA42: ○ | AB42: 540 | AC42: ○ | AD42: 728.9 | AE42: ◎ | AF42: 503.5 | AG42: なし | AM42: 4 | AN42: 3 | AO42: 5 | AP42: 3 | AQ42: 3 | AR42: 4 | AS42: 3 | AT42: 4 | AU42: 3 | AV42: 3
A43: 乳児用・幼児用 （兼用タイプ） | B43: ISO-FIX固定 | C43: E13 045191 | D43: フラディア グロウ ISOFIX | E43: アップリカ・チルドレンズプロダクツ(同) | F43: 17 | G43: R44 04 | H43: 良 | I43: ◎ | J43: ◎ | K43: ◎ | L43: 503 | M43: ○ | N43: 492.3 | O43: なし | P43: 優 | Q43: ◎ | R43: ◎ | S43: 52 | T43: ◎ | V43: ◎ | W43: 415.7 | X43: なし | Y43: 普通 | Z43: ○ | AA43: ◎ | AB43: 491 | AC43: ○ | AD43: 713 | AE43: ◎ | AF43: 405 | AG43: なし | AH43: 5 | AI43: 4 | AJ43: 5 | AK43: 5 | AL43: 4 | AM43: 5 | AN43: 4 | AO43: 5 | AP43: 5 | AQ43: 4 | AR43: 5 | AS43: 4 | AT43: 5 | AU43: 5 | AV43: 4
A44: 乳児用・幼児用 （兼用タイプ） | B44: ベルト 固定 | C44: E4 044550 | D44: Cupio | E44: (株)ピジョン | F44: 16 | G44: R44 04 | P44: 優 | Q44: ◎ | R44: ◎ | S44: 49 | T44: ◎ | V44: ◎ | W44: 447 | X44: なし | Y44: 普通 | Z44: ◎ | AA44: ○ | AB44: 580 | AC44: ○ | AD44: 729.9 | AE44: ◎ | AF44: 403.6 | AG44: なし | AM44: 4 | AN44: 3 | AO44: 4 | AP44: 3 | AQ44: 2 | AR44: 4 | AS44: 3 | AT44: 4 | AU44: 3 | AV44: 2
A45: 乳児用・幼児用 （兼用タイプ） | B45: ISO-FIX／ベルト固定 (兼用タイプ) | C45: E13 045069 | D45: グレコ・G-FIX [ベルト固定] | E45: アップリカ・チルドレンズプロダクツ(株) | F45: 13 | G45: R44 04 | P45: 優 | Q45: ◎ | R45: ◎ | S45: 45 | T45: ◎ | V45: ◎ | W45: 471.3 | X45: なし | Y45: 普通 | Z45: ◎ | AA45: ○ | AB45: 542 | AC45: ○ | AD45: 772.4 | AE45: ◎ | AF45: 441.2 | AG45: なし | AM45: 2.5 | AN45: 2.8 | AO45: 3.7 | AP45: 3.8 | AQ45: 4.4 | AR45: 2.5 | AS45: 2.8 | AT45: 3.7 | AU45: 3.8 | AV45: 4.4 | AW45: ベルト固定
A46: 乳児用・幼児用 （兼用タイプ） | B46: ベルト 固定 | C46: E24 040056 | D46: グレコ・GT | E46: アップリカ・チルドレンズプロダクツ(株) | F46: 13 | G46: R44 04 | P46: 優 | Q46: ◎ | R46: ◎ | S46: 53 | T46: ◎ | V46: ◎ | W46: 398.9 | X46: なし | Y46: 普通 | Z46: ○ | AA46: ○ | AB46: 569 | AC46: ○ | AD46: 770.4 | AE46: ◎ | AF46: 480.5 | AG46: なし | AM46: 2.2 | AN46: 2.7 | AO46: 3.7 | AP46: 4.3 | AQ46: 4.6 | AR46: 2.2 | AS46: 2.7 | AT46: 3.7 | AU46: 4 | AV46: 4.6
A47: 乳児用・幼児用 （兼用タイプ） | B47: ベルト 固定 | C47: E43 44R040002 | D47: takata04-pops | E47: タカタ(株) | F47: 11 | G47: R44 04 | P47: 優 | Q47: ◎ | R47: ◎ | S47: 42 | T47: ◎ | V47: ◎ | W47: 461.3 | X47: なし | Y47: 普通 | Z47: ○ ※ | AA47: ○ | AB47: 545 | AC47: ◎ | AD47: 576.6 | AE47: ◎ | AF47: 427.3 | AG47: なし | AM47: 3.7 | AN47: 3.5 | AO47: 4 | AP47: 4.8 | AQ47: 4.8 | AR47: 3.7 | AS47: 3.5 | AT47: 4 | AU47: 4.5 | AV47: 4.8 | AW47: ※ ハーネス通し穴周辺の亀裂
A48: 乳児用・幼児用 （兼用タイプ） | B48: ベルト 固定 | C48: E11 040215 | D48: cuna | E48: ピジョン(株) | F48: 11 | G48: R44 04 | P48: 優 | Q48: ◎ | R48: ◎ | S48: 47 | T48: ◎ | V48: ◎ | W48: 446.2 | X48: なし | Y48: 普通 | Z48: ◎ | AA48: ○ | AB48: 597 | AC48: ○ | AD48: 698.5 | AE48: ◎ | AF48: 418.2 | AG48: なし | AM48: 3 | AN48: 3 | AO48: 4 | AP48: 4.3 | AQ48: 4.6 | AR48: 3 | AS48: 3.2 | AT48: 4 | AU48: 4.5 | AV48: 4.2
A49: 乳児用・幼児用 （兼用タイプ） | B49: ベルト 固定 | C49: E4 04443849 | D49: Joie・ステージズ | E49: (株)カトージ | F49: 12 | G49: R44 04 | P49: 優 | Q49: ◎ | R49: ◎ | S49: 48 | T49: ◎ | V49: ◎ | W49: 414.3 | X49: なし | Y49: 推奨 せず | Z49: ○ | AA49: ◎ | AB49: 503 | AC49: ○ | AD49: 686 | AE49: ◎ | AF49: 540.6 | AG49: × (※) | AM49: 3.3 | AN49: 2.3 | AO49: 2.7 | AP49: 2.5 | AQ49: 4.4 | AR49: 3.3 | AS49: 2.3 | AT49: 2.7 | AU49: 4.3 | AV49: 4.4 | AW49: ※ 腹部を圧迫し、幼児の身体に傷害を与える恐れがあった。
A50: 乳児用・幼児用 （兼用タイプ） | B50: ベルト 固定 | C50: E04 10572 | D50: レジェ プラス | E50: (株)シーエー産商 | F50: 21 | G50: R44 04 | P50: 優 | Q50: ◎ | R50: ◎ | S50: 50 | T50: ◎ | V50: ◎ | W50: 426.5 | X50: なし | Y50: 推奨せず | Z50: × | AA50: × | AB50: 618 | AC50: ◎ | AD50: 571.3 | AE50: ◎ | AF50: 323.7 | AG50: なし | AM50: 4 | AN50: 1 | AO50: 5 | AP50: 3 | AQ50: 3 | AR50: 3 | AS50: 1 | AT50: 3 | AU50: 3 | AV50: 3
A51: 乳児用・幼児用 （兼用タイプ） | B51: ISO-FIX固定 | C51: E43 44R040014 | D51: Child Guard1.0 | E51: タカタ(株) | F51: 16 | G51: R44 04 | P51: 良 | Q51: ◎ | R51: ◎ | S51: 52 | T51: ◎ | V51: ○ | W51: 493.7 | X51: なし | Y51: 優 | Z51: ◎ | AA51: ◎ | AB51: 430 | AC51: ◎ | AD51: 620.1 | AE51: ◎ | AF51: 402.6 | AG51: なし | AM51: 4 | AN51: 3 | AO51: 2 | AP51: 5 | AQ51: 3 | AR51: 4 | AS51: 3 | AT51: 2 | AU51: 5 | AV51: 3
A52: 乳児用・幼児用 （兼用タイプ） | B52: ISO-FIX固定 | C52: E43 44R040010 | D52: takata04-ｉ fix WS | E52: タカタ(株) | F52: 14 | G52: R44 04 | P52: 良 | Q52: ◎ | R52: ◎ | S52: 44 | T52: ◎ | V52: ○ | W52: 542.7 | X52: なし | Y52: 優 | Z52: ◎ | AA52: ◎ | AB52: 394 | AC52: ◎ | AD52: 560.2 | AE52: ◎ | AF52: 372.7 | AG52: なし | AM52: 4.2 | AN52: 4.7 | AO52: 4.3 | AP52: 4.3 | AQ52: 4.8 | AR52: 4.2 | AS52: 4.7 | AT52: 4.3 | AU52: 5 | AV52: 4.8
A53: 乳児用・幼児用 （兼用タイプ） | B53: ISO-FIX固定 | C53: E4 044436 | D53: iA01 | E53: リーマン(株) | F53: 14 | G53: R44 04 | P53: 良 | Q53: ◎ | R53: ◎ | S53: 39 | T53: ◎ | V53: ○ | W53: 532.4 | X53: なし | Y53: 優 | Z53: ◎ | AA53: ◎ | AB53: 446 | AC53: ◎ | AD53: 530.5 | AE53: ◎ | AF53: 401.3 | AG53: なし | AM53: 3.8 | AN53: 3.3 | AO53: 4.3 | AP53: 3.8 | AQ53: 4.8 | AR53: 3.8 | AS53: 3.3 | AT53: 4.3 | AU53: 4.7 | AV53: 4.4
A54: 乳児用・幼児用 （兼用タイプ） | B54: ISO-FIX固定 | C54: E4 44044121 E4 44044122 | D54: エールべべ・キュートフィックス | E54: (株)カーメイト | F54: 12 | G54: R44 04 | P54: 良 | Q54: ◎ | R54: ◎ | S54: 51 | T54: ◎ | V54: ○ | W54: 505.4 | X54: なし | Y54: 優 | Z54: ◎ | AA54: ◎ | AB54: 384 | AC54: ◎ | AD54: 592.5 | AE54: ◎ | AF54: 419.4 | AG54: なし | AM54: 4.2 | AN54: 4 | AO54: 4.3 | AP54: 4.5 | AQ54: 4.8 | AR54: 4.2 | AS54: 4 | AT54: 4.3 | AU54: 5 | AV54: 4.8
A55: 乳児用・幼児用 （兼用タイプ） | B55: ベルト 固定 | C55: E4 04443842 | D55: エールべべ・クルットＮＴ | E55: (株)カーメイト | F55: 10 | G55: R44 04 | P55: 良 | Q55: ◎ ※ | R55: ◎ | S55: 54 | T55: ◎ | V55: ○ | W55: 490.8 | X55: なし | Y55: 優 | Z55: ◎ ※ | AA55: ◎ | AB55: 514 | AC55: ◎ | AD55: 516.6 | AE55: ◎ | AF55: 437.4 | AG55: なし | AM55: 4.7 | AN55: 5 | AO55: 3 | AP55: 5 | AQ55: 5 | AR55: 4.7 | AS55: 5 | AT55: 3 | AU55: 5 | AV55: 4.6 | AW55: ※ サポートレッグに変形が発生したが、それは衝撃吸収機構の作動によるものである。
A56: 乳児用・幼児用 （兼用タイプ） | B56: ISO-FIX固定 | C56: E4-129R-030285 | D56: クルムーヴ ロング | E56: コンビ(株) | F56: 25 | G56: R129 | P56: 良 | Q56: ◎ | R56: ◎ | S56: 53 | T56: ◎ | V56: 〇 | W56: 509.3 | X56: なし | Y56: 良 | Z56: ◎ | AA56: ◎ | AB56: 489 | AC56: 〇 | AD56: 797.1 | AE56: ◎ | AF56: 435 | AG56: なし | AM56: 4 | AN56: 2 | AO56: 5 | AP56: 4 | AQ56: 3 | AR56: 4 | AS56: 2 | AT56: 4 | AU56: 4 | AV56: 3
A57: 乳児用・幼児用 （兼用タイプ） | B57: ISO-FIX固定 | C57: E4-129R-030299 | D57: エールベベ・クルット スライド | E57: (株)カーメイト | F57: 24 | G57: R129 | P57: 良 | Q57: ◎ | R57: ◎ | S57: 50 | T57: ◎ | V57: 〇 | W57: 540.2 | X57: なし | Y57: 良 | Z57: ◎ | AA57: ◎ | AB57: 520 | AC57: 〇 | AD57: 649.1 | AE57: ◎ | AF57: 419.3 | AG57: なし | AM57: 5 | AN57: 3 | AO57: 4 | AP57: 4 | AQ57: 3 | AR57: 5 | AS57: 3 | AT57: 4 | AU57: 4 | AV57: 3
A58: 乳児用・幼児用 （兼用タイプ） | B58: ISO-FIX固定 | C58: E13 129R-030001 | D58: フラディア グロウ ISOFIX セーフティープラス AB | E58: ニューウェルブランズ・ジャパン（同） | F58: 23 | G58: R129 | H58: 良 | I58: ◎ | J58: ◎ | K58: ◎ | L58: 529 | M58: 〇 | N58: 513.3 | O58: なし | P58: 良 | Q58: 〇 | R58: ◎ | S58: 40 | T58: ◎ | V58: ◎ | W58: 386.8 | X58: なし | Y58: 良 | Z58: ◎ | AA58: ◎ | AB58: 506 | AC58: 〇 | AD58: 761 | AE58: ◎ | AF58: 449.6 | AG58: なし | AH58: 5 | AI58: 5 | AJ58: 5 | AK58: 5 | AL58: 4 | AM58: 5 | AN58: 5 | AO58: 4 | AP58: 5 | AQ58: 4 | AR58: 5 | AS58: 5 | AT58: 4 | AU58: 5 | AV58: 4
A59: 乳児用・幼児用 （兼用タイプ） | B59: ISO-FIX固定 | C59: E11 030513 | D59: Joie・アイ・アーク360° | E59: (株)カトージ | F59: 23 | G59: R129 | P59: 良 | Q59: ◎ | R59: ◎ | S59: 52 | T59: ◎ | V59: 〇 | W59: 500.9 | X59: なし | Y59: 良 | Z59: ◎ | AA59: ◎ | AB59: 478 | AC59: 〇 | AD59: 651.8 | AE59: ◎ | AF59: 394.7 | AG59: なし | AM59: 4 | AN59: 1 | AO59: 4 | AP59: 5 | AQ59: 4 | AR59: 4 | AS59: 1 | AT59: 4 | AU59: 5 | AV59: 4
A60: 乳児用・幼児用 （兼用タイプ） | B60: ISO-FIX固定 | C60: E9*129R03/02*1023*02 | D60: THE S | E60: コンビ(株) | F60: 20 | G60: R129 | P60: 良 | Q60: ◎ | R60: ◎ | S60: 55 | T60: ◎ | V60: ○ | W60: 501.7 | X60: なし | Y60: 良 | Z60: ◎ | AA60: ◎ | AB60: 505 | AC60: ○ | AD60: 708.7 | AE60: ◎ | AF60: 414.6 | AG60: なし | AM60: 5 | AN60: 2 | AO60: 4 | AP60: 4 | AQ60: 4 | AR60: 5 | AS60: 2 | AT60: 3 | AU60: 4 | AV60: 4
A61: 乳児用・幼児用 （兼用タイプ） | B61: ISO-FIX／ベルト固定 (兼用タイプ) | C61: E11 041606 | D61: クルリラ [ISO-FIX固定] | E61: アップリカ・チルドレンズプロダクツ(同) | F61: 15 | G61: R44 04 | P61: 良 | Q61: ◎ | R61: ◎ | S61: 39 | T61: ◎ | V61: ○ | W61: 535.7 | X61: なし | Y61: 良 | Z61: ◎ | AA61: ○ | AB61: 536 | AC61: ◎ | AD61: 521.6 | AE61: ◎ | AF61: 346.3 | AG61: なし | AM61: 5 | AN61: 3 | AO61: 4 | AP61: 4 | AQ61: 3 | AR61: 5 | AS61: 3 | AT61: 4 | AU61: 4 | AV61: 3 | AW61: ISO-FIX固定
A62: 乳児用・幼児用 （兼用タイプ） | B62: ISO-FIX固定 | C62: E43 040012 | D62: エールべべ・クルット3i | E62: (株)カーメイト | F62: 15 | G62: R44 04 | P62: 良 | Q62: ◎ | R62: ◎ | S62: 49 | T62: ◎ | V62: ○ | W62: 504.3 | X62: なし | Y62: 良 | Z62: ◎ | AA62: ◎ | AB62: 461 | AC62: ○ | AD62: 719.2 | AE62: ◎ | AF62: 403.8 | AG62: なし | AM62: 5 | AN62: 4 | AO62: 4 | AP62: 5 | AQ62: 4 | AR62: 5 | AS62: 4 | AT62: 4 | AU62: 5 | AV62: 4
A63: 乳児用・幼児用 （兼用タイプ） | B63: ベルト 固定 | C63: E8 0411135 | D63: Oreille mou | E63: ピジョン(株) | F63: 21 | G63: R44 04 | P63: 良 | Q63: ○ | R63: ◎ | S63: 39 | T63: ◎ | V63: ◎ | W63: 451.3 | X63: なし | Y63: 普通 | Z63: ◎ | AA63: ○ | AB63: 553 | AC63: ○ | AD63: 645.7 | AE63: ◎ | AF63: 478.8 | AG63: なし | AM63: 5 | AN63: 1 | AO63: 4 | AP63: 3 | AQ63: 4 | AR63: 5 | AS63: 1 | AT63: 4 | AU63: 3 | AV63: 4
A64: 乳児用・幼児用 （兼用タイプ） | B64: ISO-FIX固定 | C64: E11 041621 | D64: Joie・アーク360° | E64: (株)カトージ | F64: 18 | G64: R44 04 | P64: 良 | Q64: ○ | R64: ◎ | S64: 49 | T64: ◎ | V64: ◎ | W64: 382.7 | X64: なし | Y64: 普通 | Z64: ○ | AA64: ◎ | AB64: 493 | AC64: ○ | AD64: 712 | AE64: ◎ | AF64: 425 | AG64: なし | AM64: 4 | AN64: 3 | AO64: 4 | AP64: 5 | AQ64: 3 | AR64: 4 | AS64: 3 | AT64: 4 | AU64: 5 | AV64: 3
A65: 乳児用・幼児用 （兼用タイプ） | B65: ベルト 固定 | C65: E11 44R041618 | D65: グレコ・マイルストーン | E65: アップリカ・チルドレンズプロダクツ(株) | F65: 16 | G65: R44 04 | P65: 良 | Q65: ◎ | R65: ○ | S65: 62 | T65: ◎ | V65: ◎ | W65: 400.9 | X65: なし | Y65: 普通 | Z65: ◎ | AA65: ○ | AB65: 552 | AC65: ○ | AD65: 647.9 | AE65: ◎ | AF65: 577.8 | AG65: なし | AM65: 1 | AN65: 2 | AO65: 4 | AP65: 3 | AQ65: 3 | AR65: 1 | AS65: 2 | AT65: 4 | AU65: 3 | AV65: 3
A66: 乳児用・幼児用 （兼用タイプ） | B66: ISO-FIX／ベルト固定 (兼用タイプ) | C66: E11 041606 | D66: クルリラ [ベルト固定] | E66: アップリカ・チルドレンズプロダクツ(同) | F66: 15 | G66: R44 04 | P66: 良 | Q66: ◎ | R66: ◎ | S66: 32 | T66: ◎ | V66: ○ | W66: 605.5 | X66: なし | Y66: 普通 | Z66: ○ | AA66: ○ | AB66: 597 | AC66: ○ | AD66: 663.5 | AE66: ◎ | AF66: 485.6 | AG66: なし | AM66: 5 | AN66: 3 | AO66: 4 | AP66: 2 | AQ66: 3 | AR66: 5 | AS66: 3 | AT66: 4 | AU66: 2 | AV66: 3 | AW66: ベルト固定
A67: 乳児用・幼児用 （兼用タイプ） | B67: ベルト 固定 | C67: E24 040105 | D67: バンビーノ04 | E67: (株)日本育児 | F67: 14 | G67: R44 04 | P67: 良 | Q67: ○ | R67: ◎ | S67: 50 | T67: ◎ | V67: ◎ | W67: 435.6 | X67: なし | Y67: 普通 | Z67: ◎ | AA67: ○ | AB67: 587 | AC67: ○ | AD67: 735.3 | AE67: ◎ | AF67: 518.6 | AG67: なし | AM67: 2.8 | AN67: 2.5 | AO67: 3 | AP67: 3.8 | AQ67: 3.8 | AR67: 2.8 | AS67: 2.5 | AT67: 3 | AU67: 4.5 | AV67: 4.2
A68: 乳児用・幼児用 （兼用タイプ） | B68: ベルト 固定 | C68: E4 044350 | D68: ママロン | E68: コンビ(株) | F68: 14 | G68: R44 04 | P68: 良 | Q68: ○ | R68: ◎ | S68: 35 | T68: ◎ | V68: ◎ | W68: 452.7 | X68: なし | Y68: 普通 | Z68: ◎ | AA68: ○ | AB68: 565 | AC68: ○ | AD68: 666.9 | AE68: ◎ | AF68: 443.2 | AG68: なし | AM68: 4 | AN68: 3.8 | AO68: 4 | AP68: 3.5 | AQ68: 5 | AR68: 4 | AS68: 3.8 | AT68: 4 | AU68: 4.3 | AV68: 5
A69: 乳児用・幼児用 （兼用タイプ） | B69: ベルト 固定 | C69: E4 043840 | D69: ラクティアターン | E69: コンビ(株) | F69: 09 | G69: R44 04 | P69: 良 | Q69: ◎ | R69: ◎ | S69: 46 | T69: ◎ | V69: ○ | W69: 602.4 | X69: なし | Y69: 普通 | Z69: ◎ | AA69: ◎ | AB69: 524 | AC69: ○ | AD69: 696 | AE69: ○ | AF69: 625.6 | AG69: なし | AM69: 4 | AN69: 4.3 | AO69: 4 | AP69: 4 | AQ69: 4.4 | AR69: 4 | AS69: 4.3 | AT69: 4 | AU69: 4.5 | AV69: 4.4
A70: 乳児用・幼児用 （兼用タイプ） | B70: ベルト 固定 | C70: E11 030563 | D70: Joie・ステディ R129 | E70: (株)カトージ | F70: 25 | G70: R129 | P70: 良 | Q70: ◎ | R70: 〇 | S70: 61 | T70: ◎ | V70: ◎ | W70: 454.6 | X70: なし | Y70: 推奨 せず | Z70: 〇 | AA70: × | AB70: 616 | AC70: ◎ | AD70: 532.8 | AE70: ◎ | AF70: 396.3 | AG70: なし | AM70: 4 | AN70: 3 | AO70: 5 | AP70: 4 | AQ70: 4 | AR70: 4 | AS70: 3 | AT70: 4 | AU70: 4 | AV70: 4
A71: 乳児用・幼児用 （兼用タイプ） | B71: ベルト 固定 | C71: 自 C-2539 | D71: takata04-neo premium | E71: タカタ(株) | F71: 09 | G71: 2000年1月施行国内基準 | P71: 普通 | Q71: ◎ | R71: ○ | S71: 56 | T71: ◎ | V71: ○ | W71: 531.1 | X71: なし | Y71: 優 | Z71: ◎ | AA71: ◎ | AB71: 486 | AC71: ◎ | AD71: 496.3 | AE71: ◎ | AF71: 449.1 | AG71: なし | AM71: 4.2 | AN71: 4.8 | AO71: 4.3 | AP71: 4.5 | AQ71: 3.4 | AR71: 4.2 | AS71: 4.8 | AT71: 4.3 | AU71: 4.5 | AV71: 3.4
A72: 乳児用・幼児用 （兼用タイプ） | B72: ベルト 固定 | C72: E4 044238 | D72: ネルーム | E72: コンビ(株) | F72: 14 | G72: R44 04 | P72: 普通 | Q72: ◎ | R72: ◎ | S72: 47 | T72: ○ | U72: 13 | V72: ○ | W72: 491.3 | X72: なし | Y72: 良 | Z72: ◎ | AA72: ○ | AB72: 598 | AC72: ◎ | AD72: 614 | AE72: ◎ | AF72: 480 | AG72: なし | AM72: 4.2 | AN72: 3.5 | AO72: 4.4 | AP72: 3.8 | AQ72: 4.6 | AR72: 4.2 | AS72: 3.5 | AT72: 4.4 | AU72: 3.8 | AV72: 4.6
A73: 乳児用・幼児用 （兼用タイプ） | B73: ベルト 固定 | C73: E13 045186 | D73: フラディア グロウ | E73: アップリカ・チルドレンズプロダクツ(株) | F73: 16 | G73: R44 04 | H73: 普通 | I73: ○ | J73: ◎ | K73: ◎ | L73: 517 | M73: ○ | N73: 554.8 | O73: なし | P73: 普通 | Q73: ○ | R73: ◎ | S73: 39 | T73: ◎ | V73: ○ | W73: 537.5 | X73: なし | Y73: 普通 | Z73: ○ | AA73: ○ | AB73: 584 | AC73: ◎ | AD73: 522.6 | AE73: ◎ | AF73: 480.1 | AG73: なし | AH73: 5 | AI73: 2 | AJ73: 4 | AK73: 2 | AL73: 4 | AM73: 5 | AN73: 2 | AO73: 4 | AP73: 2 | AQ73: 4 | AR73: 5 | AS73: 2 | AT73: 4 | AU73: 2 | AV73: 4
A74: 乳児用・幼児用 （兼用タイプ） | B74: ベルト 固定 | C74: E43 44R040011 | D74: エールべべ・クルット4s | E74: (株)カーメイト | F74: 16 | G74: R44 04 | P74: 普通 | Q74: ○ | R74: ◎ | S74: 45 | T74: ◎ | V74: ○ | W74: 517.2 | X74: なし | Y74: 普通 | Z74: ○ | AA74: ◎ | AB74: 514 | AC74: ○ | AD74: 713.1 | AE74: ◎ | AF74: 457.5 | AG74: なし | AM74: 5 | AN74: 4 | AO74: 4 | AP74: 4 | AQ74: 4 | AR74: 5 | AS74: 4 | AT74: 4 | AU74: 4 | AV74: 4
A75: 乳児用・幼児用 （兼用タイプ） | B75: ISO-FIX固定 | C75: E13 129R-030001 | D75: ターンレジェネクストST | E75: (株)シーエー産商 | F75: 23 | G75: R129 | P75: 普通 | Q75: ◎ | R75: 〇 | S75: 57 | T75: 〇 | U75: 40 | V75: 〇 | W75: 527.3 | X75: なし | Y75: 推奨 せず | Z75: × | AA75: ◎ | AB75: 476 | AC75: 〇 | AD75: 644.4 | AE75: ◎ | AF75: 367.2 | AG75: なし | AM75: 4 | AN75: 2 | AO75: 5 | AP75: 5 | AQ75: 3 | AR75: 4 | AS75: 2 | AT75: 4 | AU75: 5 | AV75: 3
A76: 乳児用・幼児用 （兼用タイプ） | B76: ベルト 固定 | C76: E1 04301313 | D76: マムズキャリーレジェ | E76: (株)シーエー産商 | F76: 16 | G76: R44 04 | P76: 推奨 せず | Q76: × | R76: × | S76: 80 | T76: ◎ | V76: ◎ | W76: 472.1 | X76: なし | Y76: 普通 | Z76: ○ | AA76: ○ | AB76: 561 | AC76: ◎ | AD76: 535.1 | AE76: ◎ | AF76: 348 | AG76: なし | AM76: 1 | AN76: 3 | AO76: 4 | AP76: 3 | AQ76: 2 | AR76: 1 | AS76: 3 | AT76: 3 | AU76: 3 | AV76: 2
A77: 幼児専用 | B77: ISO-FIX固定 | C77: E11-129R-031005 | D77: フォームフィット ネクスト | E77: ニューウェルブランズ・ジャパン（同） | F77: 24 | G77: R129 | Y77: 優 | Z77: ◎ | AA77: ◎ | AB77: 496 | AC77: ◎ | AD77: 547.4 | AE77: ◎ | AF77: 476.2 | AG77: なし | AR77: 5 | AS77: 5 | AT77: 5 | AU77: 5 | AV77: 4
A78: 幼児専用 | B78: ISO-FIX固定 | C78: E11-129R-030624 | D78: リライド | E78: ニューウェルブランズ・ジャパン（同） | F78: 24 | G78: R129 | Y78: 優 | Z78: ◎ | AA78: ◎ | AB78: 437 | AC78: ◎ | AD78: 501 | AE78: ◎ | AF78: 332.5 | AG78: なし | AR78: 5 | AS78: 4 | AT78: 5 | AU78: 5 | AV78: 4
A79: 幼児専用 | B79: ISO-FIX固定 | C79: E9*129R03/05*1039*00 | D79: ジョイトリップ アドバンス | E79: コンビ(株) | F79: 22 | G79: R129 | Y79: 優 | Z79: ◎ | AA79: ◎ | AB79: 455 | AC79: ◎ | AD79: 522.4 | AE79: ◎ | AF79: 300.6 | AG79: なし | AR79: 4 | AS79: 2 | AT79: 4 | AU79: 5 | AV79: 4
A80: 幼児専用 | B80: ISO-FIX固定 | C80: E11-041649/041648 | D80: フォームフィット ISOFIX 360°セーフティー | E80: ニューウェルブランズ・ジャパン（同） | F80: 20 | G80: R129 | Y80: 優 | Z80: ◎ | AA80: ◎ | AB80: 467 | AC80: ◎ | AD80: 595.4 | AE80: ◎ | AF80: 458 | AG80: なし | AR80: 5 | AS80: 4 | AT80: 5 | AU80: 5 | AV80: 4
A81: 幼児専用 | B81: ISO-FIX固定 | C81: E43-44R-040015 | D81: エールベベ・パパット2 | E81: (株)カーメイト | F81: 19 | G81: R44 04 | Y81: 優 | Z81: ◎ | AA81: ◎ | AB81: 422 | AC81: ◎ | AD81: 635.1 | AE81: ◎ | AF81: 411.1 | AG81: なし | AR81: 5 | AS81: 2 | AT81: 5 | AU81: 5 | AV81: 3
A82: 幼児専用 | B82: ISO-FIX固定 | C82: E11-041649/041648 | D82: フォームフィット | E82: アップリカ・チルドレンズプロダクツ(同) | F82: 18 | G82: R44 04 | Y82: 優 | Z82: ◎ | AA82: ◎ | AB82: 465 | AC82: ◎ | AD82: 516.5 | AE82: ◎ | AF82: 361.2 | AG82: なし | AR82: 5 | AS82: 5 | AT82: 5 | AU82: 5 | AV82: 4
A83: 幼児専用 | B83: ベルト 固定 | C83: E13 045115 | D83: ロングフィット | E83: リーマン(株) | F83: 13 | G83: R44 04 | Y83: 優 | Z83: ◎ | AA83: ◎ | AB83: 509 | AC83: ◎ | AD83: 629.3 | AE83: ◎ | AF83: 462.6 | AG83: なし | AR83: 4.7 | AS83: 3.5 | AT83: 5 | AU83: 3.5 | AV83: 4.6
A84: 幼児専用 | B84: ISO-FIX固定 | C84: E1 040058 | D84: サイベックス・パラス G2 | E84: CTP JAPAN(株) | F84: 25 | G84: R129 | Y84: 良 | Z84: ◎ | AA84: 〇 | AB84: 559 | AC84: ◎ | AD84: 633.8 | AE84: ◎ | AF84: 322.4 | AG84: なし | AR84: 4 | AS84: 3 | AT84: 4 | AU84: 5 | AV84: 2
A85: 幼児専用 | B85: ISO-FIX固定 | C85: E1 129R-030058 | D85: サイベックス・パラス G i-Size | E85: CTP JAPAN(株) | F85: 23 | G85: R129 | Y85: 良 | Z85: ◎ | AA85: 〇 | AB85: 589 | AC85: ◎ | AD85: 466.5 | AE85: ◎ | AF85: 274.2 | AG85: なし | AR85: 4 | AS85: 3 | AT85: 3 | AU85: 5 | AV85: 1 | AW85: インパクトシールド式
A86: 幼児専用 | B86: ISO-FIX／ベルト固定 (兼用タイプ) | C86: E24-040196 | D86: J1 Duo [ISO-FIX固定] | E86: アルツァーナジャパン(株) | F86: 21 | G86: R44 04 | Y86: 良 | Z86: ○ | AA86: ◎ | AB86: 473 | AC86: ◎ | AD86: 555.9 | AE86: ◎ | AF86: 335.5 | AG86: なし | AR86: 4 | AS86: 0 | AT86: 4 | AU86: 5 | AV86: 3 | AW86: ISO-FIX固定
A87: 幼児専用 | B87: ISO-FIX／ベルト固定 (兼用タイプ) | C87: E040244 | D87: ハーネスジュニアISOFIX [ISO-FIX固定] | E87: (株)シーエー産商 | F87: 21 | G87: R44 04 | Y87: 良 | Z87: ○ | AA87: ◎ | AB87: 439 | AC87: ◎ | AD87: 620.8 | AE87: ◎ | AF87: 453.2 | AG87: なし | AR87: 4 | AS87: 1 | AT87: 4 | AU87: 5 | AV87: 3 | AW87: ISO-FIX固定
A88: 幼児専用 | B88: ベルト 固定 | C88: E11 041579 | D88: エアグルーヴ | E88: アップリカ・チルドレンズプロダクツ(同) | F88: 15 | G88: R44 04 | Y88: 良 | Z88: ◎ | AA88: ○ | AB88: 575 | AC88: ◎ | AD88: 616.9 | AE88: ◎ | AF88: 580.8 | AG88: なし | AR88: 4 | AS88: 2 | AT88: 3 | AU88: 2 | AV88: 3
A89: 幼児専用 | B89: ベルト 固定 | C89: E4 044335 | D89: Start J1 | E89: レカロチャイルドセーフティ(株) | F89: 15 | G89: R44 04 | Y89: 良 | Z89: ◎ | AA89: ○ | AB89: 584 | AC89: ◎ | AD89: 633.6 | AE89: ◎ | AF89: 484 | AG89: なし | AR89: 2 | AS89: 1 | AT89: 3 | AU89: 2 | AV89: 3
A90: 幼児専用 | B90: ベルト 固定 | C90: E4 04443854 | D90: エールべべ・スイングムーン | E90: (株)カーメイト | F90: 13 | G90: R44 04 | Y90: 良 | Z90: ◎ | AA90: ◎ | AB90: 506 | AC90: ○ | AD90: 690.4 | AE90: ◎ | AF90: 417.6 | AG90: なし | AR90: 4.3 | AS90: 4.2 | AT90: 4 | AU90: 3.8 | AV90: 4.4
A91: 幼児専用 | B91: ベルト 固定 | C91: E4 044338 | D91: トラベルベストECプラス | E91: (株)日本育児 | F91: 13 | G91: R44 04 | Y91: 良 | Z91: ◎ | AA91: ○ | AB91: 568 | AC91: ◎ | AD91: 548.5 | AE91: ◎ | AF91: 458 | AG91: なし | AR91: 2.8 | AS91: 3.8 | AT91: 3 | AU91: 3 | AV91: 3.4
A92: 幼児専用 | B92: ベルト 固定 | C92: E4 04443839 | D92: エールべべ・グローバ | E92: (株)カーメイト | F92: 10 | G92: R44 04 | Y92: 良 | Z92: ◎ | AA92: ○ | AB92: 536 | AC92: ◎ | AD92: 508.8 | AE92: ◎ | AF92: 500.1 | AG92: なし | AR92: 4.7 | AS92: 3.8 | AT92: 3.3 | AU92: 5 | AV92: 4.4
A93: 幼児専用 | B93: ベルト 固定 | C93: E11 040205 | D93: ユーロハーネス | E93: アップリカ・チルドレンズプロダクツ(株) | F93: 10 | G93: R44 04 | Y93: 良 | Z93: ◎ | AA93: ○ | AB93: 526 | AC93: ◎ | AD93: 551.7 | AE93: ◎ | AF93: 515.6 | AG93: なし | AR93: 2.3 | AS93: 2.5 | AT93: 3.3 | AU93: 4.8 | AV93: 4.6
A94: 幼児専用 | B94: ベルト 固定 | C94: E040253 | D94: ジュニアシート・ミニーマウス | E94: (株)シーエー産商 | F94: 21 | G94: R44 04 | Y94: 普通 | Z94: ○ | AA94: ○ | AB94: 538 | AC94: ○ | AD94: 660.7 | AE94: ◎ | AF94: 492.4 | AG94: なし | AR94: 4 | AS94: 3 | AT94: 4 | AU94: 3 | AV94: 3
A95: 幼児専用 | B95: ISO-FIX／ベルト固定 (兼用タイプ) | C95: E044724 | D95: ハーネスジュニアFIX-BR [ISO-FIX固定] | E95: (株)シーエー産商 | F95: 20 | G95: R44 04 | Y95: 普通 | Z95: ○ | AA95: ◎ | AB95: 449 | AC95: ○ | AD95: 748.7 | AE95: ◎ | AF95: 454 | AG95: × | AR95: 3 | AS95: 3 | AT95: 4 | AU95: 5 | AV95: 1 | AW95: ISO-FIX固定
A96: 幼児専用 | B96: ベルト 固定 | C96: E044630 | D96: HGデニム・ハーネス | E96: (株)シーエー産商 | F96: 19 | G96: R44 04 | Y96: 普通 | Z96: ○ | AA96: ○ | AB96: 568 | AC96: ○ | AD96: 684.9 | AE96: ◎ | AF96: 531.4 | AG96: なし | AR96: 4 | AS96: 2 | AT96: 4 | AU96: 2 | AV96: 2
A97: 幼児専用 | B97: ベルト 固定 | C97: E8 04 9459 | D97: ハイバックブースタールージュ | E97: (株)日本育児 | F97: 19 | G97: R44 04 | Y97: 普通 | Z97: ○ | AA97: ○ | AB97: 585 | AC97: ◎ | AD97: 536.6 | AE97: ◎ | AF97: 406.2 | AG97: なし | AR97: 4 | AS97: 2 | AT97: 4 | AU97: 2 | AV97: 3
A98: 幼児専用 | B98: ベルト 固定 | C98: E24 040059 | D98: トラベルベストEC | E98: (株)日本育児 | F98: 12 | G98: R44 04 | Y98: 普通 | Z98: ◎ | AA98: ○ | AB98: 573 | AC98: ○ | AD98: 643.5 | AE98: ◎ | AF98: 509.2 | AG98: なし | AR98: 2.8 | AS98: 3 | AT98: 1.5 | AU98: 2.7 | AV98: 2.8
A99: 幼児専用 | B99: ベルト 固定 | C99: E13 045116 | D99: フィーカ | E99: リーマン(株) | F99: 12 | G99: R44 04 | Y99: 普通 | Z99: ◎ | AA99: ○ | AB99: 548 | AC99: ○ | AD99: 722.4 | AE99: ◎ | AF99: 517.9 | AG99: なし | AR99: 4.7 | AS99: 4.5 | AT99: 5 | AU99: 3.5 | AV99: 4.2
A100: 幼児専用 | B100: ベルト 固定 | C100: E4 0444010 | D100: ジョイトリップ | E100: コンビ(株) | F100: 11 | G100: R44 04 | Y100: 普通 | Z100: ◎ | AA100: ◎ | AB100: 519 | AC100: ○ | AD100: 687 | AE100: ○ | AF100: 618.9 | AG100: なし | AR100: 3.7 | AS100: 3.5 | AT100: 3.5 | AU100: 3.5 | AV100: 4.8
A101: 幼児専用 | B101: ベルト 固定 | C101: E1 04301171 | D101: Young Sport | E101: レカロ(株) | F101: 09 | G101: R44 04 | Y101: 普通 | Z101: ○ | AA101: ○ | AB101: 540 | AC101: ○ | AD101: 679.2 | AE101: ◎ | AF101: 535.1 | AG101: なし（※） | AR101: 1.7 | AS101: 3.2 | AT101: 3 | AU101: 4 | AV101: 4 | AW101: ※ ロックオフデバイスの破断があり、破断した破片がダミーに接触した。
A102: 幼児専用 | B102: ISO-FIX／ベルト固定 (兼用タイプ) | C102: E24-040195 | D102: J1 Duo [ベルト固定] | E102: アルツァーナジャパン(株) | F102: 21 | G102: R44 04 | Y102: 推奨 せず | Z102: ◎ | AA102: × | AB102: 617 | AC102: ○ | AD102: 786.5 | AE102: ◎ | AF102: 499.8 | AG102: なし | AR102: 4 | AS102: 1 | AT102: 4 | AU102: 3 | AV102: 3 | AW102: ベルト固定
...

Sheet 2008年度以前の試験結果一覧
A1: =HYPERLINK("#'目次・索引'!B1","索引へ戻る") -> 索引へ戻る | D1: チャイルドシート試験結果一覧表（2008年度以前）
A3: 2008年度以前の結果表 （2009年度以降の結果は、「2009年度以降の試験結果一覧」シートをご覧ください。）
A4: カテゴリー | B4: 固定方式 | C4: 指定番号 | D4: 通称名 | E4: メーカー名等 | F4: 試験実施年度 | G4: 適合基準 | H4: 前面衝突試験 （乳児用[ベッド型]） | P4: 前面衝突試験（乳児用） | X4: 前面衝突試験（幼児用） | AG4: 使用性評価試験 （乳児用[ベッド型]） | AL4: 使用性評価試験 （乳児用） | AQ4: 使用性評価試験 （幼児用） | AV4: 特記事項
H5: 評価 | I5: 取付部等の破損 | J5: ベッド 底面 の 傾き （°） | K5: 頭部 移動量 （mm） | M5: 胸部に 生じる力 （m/s2） | O5: その他の事象 | P5: 評価 | Q5: 取付部等の破損 | R5: シートバックの傾き （°） | T5: 頭部のはみ出し （mm） | U5: 胸部に 生じる力 （m/s2） | W5: その他 の事象 | X5: 評価 | Y5: 取付部等の破損 | Z5: 頭部 移動量 （mm） | AB5: 頭部に 生じる力 （m/s2） | AD5: 胸部に 生じる力 （m/s2） | AF5: その他の事象 | AG5: 取扱説明書等 | AH5: 本体表示 | AI5: 本体機構 | AJ5: 取付性 | AK5: 装着性 | AL5: 取扱説明書等 | AM5: 本体表示 | AN5: 本体機構 | AO5: 取付性 | AP5: 装着性 | AQ5: 取扱説明書等 | AR5: 本体表示 | AS5: 本体機構 | AT5: 取付性 | AU5: 装着性
A6: 乳児専用 | B6: ベルト 固定 | C6: 自C-1007,自C-157 | D6: PAOPAOベビーNS | E6: (株)東海理化電機製作所 | F6: 02 | G6: 2000年 1月施行 国内基準 | P6: 優 | Q6: ◎ | R6: ◎ | S6: 43 | T6: ◎ | U6: ◎ | V6: 54.09 | W6: なし | AL6: 2.8 | AM6: 2.8 | AN6: 3 | AO6: 4.3 | AP6: 3.4
A7: 乳児専用 | B7: ベルト 固定 | C7: － | D7: カブリオレ | E7: コンビ(株) | F7: 05 | G7: R44 03 | P7: 優 | Q7: ◎ | R7: ◎ | S7: 32 | T7: ◎ | U7: ◎ | V7: 54.82 | W7: なし | AL7: 3.3 | AM7: 4 | AN7: 3.5 | AO7: 4.5 | AP7: 4.6
A8: 乳児専用 | B8: ベルト 固定 | C8: 自C-1010,自C-146 | D8: プリムベビー | E8: コンビ(株) | F8: 01 | G8: 2000年 1月施行 国内基準 | P8: 優 | Q8: ◎ | R8: ◎ | S8: 33 | T8: ◎ | U8: ◎ | V8: 51.85 | W8: なし | AL8: 4.3 | AM8: 4.2 | AN8: 5 | AO8: 4.3 | AP8: 4
A9: 乳児専用 | B9: ベルト 固定 | C9: － | D9: マキシコシベビー | E9: コンビ(株) | F9: 02 | G9: R44 03 | P9: 優 | Q9: ◎ | R9: ◎ | S9: 30 | T9: ◎ | U9: ◎ | V9: 52.44 | W9: なし | AL9: 4 | AM9: 3.5 | AN9: 4 | AO9: 4.3 | AP9: 4.2
A10: 乳児専用 | B10: ベルト 固定 | C10: － | D10: レーマー・ベビーセーフプラス | E10: (株)ヤナセ | F10: 03 | G10: R44 03 | P10: 優 | Q10: ◎ | R10: ◎ | S10: 42 | T10: ◎ | U10: ◎ | V10: 53.31 | W10: なし | AL10: 5 | AM10: 4.5 | AN10: 4.5 | AO10: 5 | AP10: 4.6
A11: 乳児専用 | B11: ベルト 固定 | C11: － | D11: オートベビープラス | E11: グレコ | F11: 04 | G11: R44 03 | P11: 良 | Q11: ◎ | R11: ◎ | S11: 46 | T11: ◎ | U11: ○ | V11: 59.39 | W11: なし | AL11: 1.2 | AM11: 2 | AN11: 4 | AO11: 4 | AP11: 3.4
A12: 乳児専用 | B12: ベルト 固定 | C12: E4 04443638 | D12: グッドキャリー | E12: コンビ(株) | F12: 07 | G12: R44 04 | P12: 良 | Q12: ◎ | R12: ◎ | S12: 41 | T12: ◎ | U12: ○ | V12: 56.23 | W12: なし | AL12: 4.2 | AM12: 3.5 | AN12: 5 | AO12: 4.5 | AP12: 4.6
A13: 乳児専用 | B13: ベルト 固定 | C13: － | D13: スーパーキャリー [3点固定]（※） | E13: (株)日本育児 | F13: 02 | G13: FMVSS No.213 | P13: 良 | Q13: ○ | R13: ◎ | S13: 31 | T13: ◎ | U13: ◎ | V13: 54.63 | W13: なし | AL13: 2 | AM13: 3.5 | AN13: 2.5 | AO13: 2.8 | AP13: 2.6 | AV13: ※ 座席への固定方法は、2点固定または3点固定のどちらでも可能である。3点固定で試験を行った。 希望試験機種
A14: 乳児専用 | B14: ベルト 固定 | C14: E4 04443517 | D14: マキシコシ・カブリオフィックス | E14: (株)GMPインターナショナル | F14: 08 | G14: R44 04 | P14: 良 | Q14: ◎ | R14: ◎ | S14: 38 | T14: ◎ | U14: ○ | V14: 58.28 | W14: なし | AL14: 3.2 | AM14: 2.7 | AN14: 2.5 | AO14: 4.5 | AP14: 3.6
A15: 乳児専用 | B15: ベルト 固定 | C15: 自C-1017,自C-153 | D15: エールベベ・プレコット | E15: (株)カーメイト | F15: 02 | G15: 2000年 1月施行 国内基準 | P15: 普通 | Q15: ◎ | R15: ○ | S15: 61 | T15: ○ | U15: ◎ | V15: 44.81 | W15: なし | AL15: 3.8 | AM15: 3.3 | AN15: 4.5 | AO15: 4.3 | AP15: 4.2
A16: 乳児専用 | B16: ベルト 固定 | C16: － | D16: レーマー・ベビーセーフ | E16: (株)ウェスタンコーポレーション | F16: 01 | G16: R44 03 | P16: 普通 | Q16: ○ | R16: ◎ | S16: 23 | T16: ◎ | U16: ○ | V16: 55.62 | W16: なし | AL16: 4.2 | AM16: 3 | AN16: 5 | AO16: 4.5 | AP16: 3.2
A17: 乳児専用 | B17: ベルト 固定 | C17: － | D17: スーパーキャリー [2点固定]（※） | E17: (株)日本育児 | F17: 01 | G17: FMVSS No.213 | P17: 推奨 せず | Q17: ○ | R17: × | S17: 79 | T17: ◎ | U17: ◎ | V17: 40.18 | W17: なし | AL17: 2 | AM17: 3.5 | AN17: 2.5 | AO17: 3 | AP17: 2.6 | AV17: ※ 座席への固定方法は、2点固定または3点固定のどちらでも可能である。2点固定で試験を行った。
A18: 乳児専用 | B18: ベルト 固定 | C18: － | D18: ディスカバリーベビーシート | E18: トライスターインターナショナル(株) | F18: 01 | G18: FMVSS No.213 | P18: 推奨 せず | Q18: ○ | R18: × | S18: 71 | T18: ◎ | U18: ◎ | V18: 43.2 | W18: なし | AL18: 2.5 | AM18: 1.8 | AN18: 2 | AO18: 2.3 | AP18: 3.2
A19: 乳児用・幼児用 （兼用タイプ） | B19: ベルト 固定 | C19: 自C-2522 | D19: takata04-comfyN | E19: タカタ(株) | F19: 06 | G19: 2000年1月 施行国内基準 | P19: 優 | Q19: ◎ | R19: ◎ | S19: 50 | T19: ◎ | U19: ◎ | V19: 46.4 | W19: なし | X19: 良 | Y19: ◎ | Z19: ○ | AA19: 600 | AB19: ◎ | AC19: 73.84 | AD19: ◎ | AE19: 48.27 | AF19: なし | AL19: 4.5 | AM19: 3.2 | AN19: 4 | AO19: 3.8 | AP19: 3.8 | AQ19: 4.5 | AR19: 3.2 | AS19: 4 | AT19: 5 | AU19: 3.8
A20: 乳児用・幼児用 （兼用タイプ） | B20: ベルト 固定 | C20: 自C-2529 | D20: takata04-facil | E20: タカタ(株) | F20: 07 | G20: 2000年 1月施行 国内基準 | P20: 優 | Q20: ◎ | R20: ◎ | S20: 54 | T20: ◎ | U20: ◎ | V20: 48.82 | W20: なし | X20: 優 | Y20: ◎ | Z20: ◎ | AA20: 497 | AB20: ◎ | AC20: 68.94 | AD20: ◎ | AE20: 45.38 | AF20: なし | AL20: 4.2 | AM20: 4.2 | AN20: 4.3 | AO20: 4.3 | AP20: 3 | AQ20: 4.2 | AR20: 4.3 | AS20: 4.3 | AT20: 4.8 | AU20: 3
A21: 乳児用・幼児用 （兼用タイプ） | B21: ベルト 固定 | C21: 自C-2046 | D21: takata04-neo | E21: タカタ(株) | F21: 04 | G21: 2000年 1月施行 国内基準 | P21: 優 | Q21: ◎ | R21: ◎ | S21: 59 | T21: ◎ | U21: ◎ | V21: 45.57 | W21: なし | X21: 優 | Y21: ◎ | Z21: ◎ | AA21: 514 | AB21: ◎ | AC21: 58.44 | AD21: ◎ | AE21: 47.4 | AF21: なし | AL21: 4.3 | AM21: 4.8 | AN21: 4 | AO21: 4.3 | AP21: 3.4 | AQ21: 4.3 | AR21: 4.8 | AS21: 4 | AT21: 4.5 | AU21: 3.4
A22: 乳児用・幼児用 （兼用タイプ） | B22: ベルト 固定 | C22: E4 04443812 | D22: takata04-symphonyEC | E22: タカタ(株) | F22: 08 | G22: R44 04 | P22: 優 | Q22: ◎ | R22: ◎ | S22: 44 | T22: ◎ | U22: ◎ | V22: 48.24 | W22: なし | X22: 普通 | Y22: ◎ | Z22: ○ | AA22: 624 | AB22: ○ | AC22: 83.56 | AD22: ◎ | AE22: 45.42 | AF22: なし | AL22: 3.5 | AM22: 4 | AN22: 4 | AO22: 5 | AP22: 4.8 | AQ22: 3.5 | AR22: 4 | AS22: 4 | AT22: 5 | AU22: 4.8
A23: 乳児用・幼児用 （兼用タイプ） | B23: ベルト 固定 | C23: 自C-2029 | D23: takata04-system3.0 | E23: タカタ(株) | F23: 05 | G23: 2000年 1月施行 国内基準 | P23: 優 | Q23: ◎ | R23: ◎ | S23: 59 | T23: ◎ | U23: ◎ | V23: 49.96 | W23: なし | X23: 良 | Y23: ◎ | Z23: ○ | AA23: 591 | AB23: ◎ | AC23: 66.74 | AD23: ◎ | AE23: 48.26 | AF23: なし | AL23: 4.3 | AM23: 3.5 | AN23: 4 | AO23: 2.8 | AP23: 3.2 | AQ23: 4.3 | AR23: 3.3 | AS23: 4 | AT23: 5 | AU23: 3.2
A24: 乳児用・幼児用 （兼用タイプ） | B24: ベルト 固定 | C24: 自C-2616 | D24: エールベベ・ズット | E24: (株)カーメイト | F24: 06 | G24: 2000年 1月施行 国内基準 | P24: 優 | Q24: ◎ | R24: ◎ | S24: 59 | T24: ◎ | U24: ◎ | V24: 46.88 | W24: なし | X24: 良 | Y24: ◎ | Z24: ○ | AA24: 630 | AB24: ◎ | AC24: 77.55 | AD24: ◎ | AE24: 44.07 | AF24: なし | AL24: 4.3 | AM24: 3.5 | AN24: 3.7 | AO24: 4 | AP24: 4.2 | AQ24: 4.3 | AR24: 3.5 | AS24: 3.7 | AT24: 4.8 | AU24: 4.2
A25: 乳児用・幼児用 （兼用タイプ） | B25: ベルト 固定 | C25: 自C-2047 | D25: トヨタG-Child plus | E25: タカタ(株) | F25: 04 | G25: 2000年 1月施行 国内基準 | P25: 優 | Q25: ◎ | R25: ◎ | S25: 50 | T25: ◎ | U25: ◎ | V25: 50.66 | W25: なし | X25: 良 | Y25: ◎ | Z25: ○ | AA25: 583 | AB25: ◎ | AC25: 67.34 | AD25: ◎ | AE25: 51.9 | AF25: なし | AL25: 4.5 | AM25: 4.3 | AN25: 4 | AO25: 4.3 | AP25: 3 | AQ25: 4.5 | AR25: 4.3 | AS25: 4 | AT25: 4.8 | AU25: 3
A26: 乳児用・幼児用 （兼用タイプ） | B26: ベルト 固定 | C26: 自C-2039 | D26: パミオデビューDX | E26: リーマン(株) | F26: 03 | G26: 2000年 1月施行 国内基準 | P26: 優 | Q26: ◎ | R26: ◎ | S26: 54 | T26: ◎ | U26: ◎ | V26: 53.64 | W26: なし | X26: 普通 | Y26: ○ | Z26: ○ | AA26: 559 | AB26: ○ | AC26: 85.01 | AD26: ◎ | AE26: 46.01 | AF26: なし | AL26: 3.7 | AM26: 3.8 | AN26: 3.7 | AO26: 4.8 | AP26: 4 | AQ26: 3.7 | AR26: 3.8 | AS26: 3.7 | AT26: 5 | AU26: 4 | AV26: 希望試験機種
A27: 乳児用・幼児用 （兼用タイプ） | B27: ベルト 固定 | C27: 自C-1013,自C-155 | D27: ピピデビュー | E27: リーマン(株) | F27: 01 | G27: 2000年 1月施行 国内基準 | P27: 優 | Q27: ◎ | R27: ◎ | S27: 49 | T27: ◎ | U27: ◎ | V27: 45.08 | W27: なし | X27: 良 | Y27: ◎ | Z27: ○ | AA27: 619 | AB27: ◎ | AC27: 76.36 | AD27: ◎ | AE27: 42.87 | AF27: (※) | AL27: 4.2 | AM27: 4.3 | AN27: 4 | AO27: 4.8 | AP27: 3.7 | AQ27: 4.2 | AR27: 4.3 | AS27: 4 | AT27: 5 | AU27: 3.7 | AV27: ※ 骨盤拘束が弱く、腹部を圧迫しているが、それがパッド・ハーネスによってである。 希望試験機種
A28: 乳児用・幼児用 （兼用タイプ） | B28: ベルト 固定 | C28: 自C-2054 | D28: ピピデビューN | E28: リーマン(株) | F28: 04 | G28: 2000年 1月施行 国内基準 | P28: 優 | Q28: ◎ | R28: ◎ | S28: 55 | T28: ◎ | U28: ◎ | V28: 49.57 | W28: なし | X28: 良 | Y28: ◎ | Z28: ○ | AA28: 567 | AB28: ◎ | AC28: 76.66 | AD28: ◎ | AE28: 47.68 | AF28: なし | AL28: 4.3 | AM28: 4.3 | AN28: 4 | AO28: 4.8 | AP28: 3.4 | AQ28: 4.3 | AR28: 4.3 | AS28: 4 | AT28: 5 | AU28: 3.8
A29: 乳児用・幼児用 （兼用タイプ） | B29: ベルト 固定 | C29: 自C-1014,自C-156 | D29: ピピデビューフィットシェル | E29: リーマン(株) | F29: 01 | G29: 2000年 1月施行 国内基準 | P29: 優 | Q29: ◎ | R29: ◎ | S29: 49 | T29: ◎ | U29: ◎ | V29: 47.26 | W29: なし | X29: 良 | Y29: ◎ | Z29: ○ | AA29: 620 | AB29: ◎ | AC29: 78.69 | AD29: ◎ | AE29: 46.83 | AF29: (※) | AL29: 4.2 | AM29: 4.3 | AN29: 4 | AO29: 4.8 | AP29: 3.7 | AQ29: 4.2 | AR29: 4.3 | AS29: 4 | AT29: 5 | AU29: 3.7 | AV29: ※ 骨盤拘束が弱く、腹部を圧迫しているが、それがパッド・ハーネスによってである。 希望試験機種
A30: 乳児用・幼児用 （兼用タイプ） | B30: ベルト 固定 | C30: 自C-2030 | D30: プリムロング | E30: コンビ(株) | F30: 03 | G30: 2000年 1月施行 国内基準 | P30: 優 | Q30: ◎ | R30: ◎ | S30: 58 | T30: ◎ | U30: ◎ | V30: 54.11 | W30: なし | X30: 普通 | Y30: ○ | Z30: ○ | AA30: 605 | AB30: ◎ | AC30: 68.94 | AD30: ◎ | AE30: 58.96 | AF30: なし | AL30: 3.8 | AM30: 3.7 | AN30: 5 | AO30: 4.3 | AP30: 4 | AQ30: 3.8 | AR30: 3.7 | AS30: 5 | AT30: 3.5 | AU30: 4
A31: 乳児用・幼児用 （兼用タイプ） | B31: ベルト 固定 | C31: 自C-2038 | D31: マシュマロJターンサーモ | E31: アップリカ葛西(株) | F31: 04 | G31: 2000年 1月施行 国内基準 | H31: 良 | I31: ◎ | J31: ◎ | K31: ◎ | L31: 380 | M31: ○ | N31: 64.2 | O31: なし | P31: 優 | Q31: ◎ | R31: ◎ | S31: 49 | T31: ◎ | U31: ◎ | V31: 48.61 | W31: なし | X31: 普通 | Y31: ◎ | Z31: ○ | AA31: 560 | AB31: ○ | AC31: 80.74 | AD31: ◎ | AE31: 55.34 | AF31: なし | AG31: 2.8 | AH31: 2.8 | AI31: 2.6 | AJ31: 2.3 | AK31: 3.4 | AL31: 2.8 | AM31: 2.8 | AN31: 2.6 | AO31: 1.8 | AP31: 3 | AQ31: 2.8 | AR31: 2.8 | AS31: 2.6 | AT31: 2.8 | AU31: 3
A32: 乳児用・幼児用 （兼用タイプ） | B32: ベルト 固定 | C32: 自C-2060 | D32: マシュマロJターンネオサーモ | E32: アップリカ葛西(株) | F32: 05 | G32: 2000年 1月施行 国内基準 | H32: 良 | I32: ◎ | J32: ◎ | K32: ◎ | L32: 490 | M32: ○ | N32: 64.42 | O32: なし | P32: 優 | Q32: ◎ | R32: ◎ | S32: 55 | T32: ◎ | U32: ◎ | V32: 53.59 | W32: なし | X32: 推奨 せず | Y32: ◎ | Z32: ○ | AA32: 569 | AB32: ○ | AC32: 80.16 | AD32: ◎ | AE32: 45.49 | AF32: ×(※) | AG32: 2.8 | AH32: 2.8 | AI32: 2.8 | AJ32: 2.8 | AK32: 3.4 | AL32: 2.8 | AM32: 2.8 | AN32: 2.8 | AO32: 1.8 | AP32: 3.4 | AQ32: 2.8 | AR32: 2.8 | AS32: 2.8 | AT32: 2.8 | AU32: 3.4 | AV32: ※ 腹部を圧迫し、幼児の身体に傷害を与える恐れがあった。
A33: 乳児用・幼児用 （兼用タイプ） | B33: ベルト 固定 | C33: 自C-2011 | D33: マシュマロＪフィックスサーモ | E33: アップリカ葛西(株) | F33: 02 | G33: 2000年 1月施行 国内基準 | H33: 良 | I33: ◎ | J33: ◎ | K33: ◎ | L33: 415-455 | M33: ○ | N33: 62.16 | O33: なし | P33: 優 | Q33: ◎ | R33: ◎ | S33: 44 | T33: ◎ | U33: ◎ | V33: 83.67 | W33: なし | X33: 良 | Y33: ◎ | Z33: ○ | AA33: 619 | AB33: ◎ | AC33: 79.61 | AD33: ◎ | AE33: 47.85 | AF33: (※) | AG33: 2.7 | AH33: 2.7 | AI33: 2.6 | AJ33: 2.3 | AK33: 3.2 | AL33: 2.7 | AM33: 2.7 | AN33: 2.6 | AO33: 1.8 | AP33: 3.2 | AQ33: 2.7 | AR33: 2.7 | AS33: 2.6 | AT33: 3 | AU33: 3.2 | AV33: ※ 骨盤拘束が弱く、腹部を圧迫しているが、それがパッド・ハーネスによってである。
A34: 乳児用・幼児用 （兼用タイプ） | B34: ベルト 固定 | C34: 自C-2508 | D34: マシュマロベッドWサーモ | E34: アップリカ葛西(株) | F34: 05 | G34: 2000年 1月施行 国内基準 | H34: 良 | I34: ◎ | J34: ◎ | K34: ◎ | L34: 465 | M34: ○ | N34: 63.39 | O34: なし | P34: 優 | Q34: ◎ | R34: ◎ | S34: 54 | T34: ◎ | U34: ◎ | V34: 52.67 | W34: なし | X34: 良 | Y34: ◎ | Z34: ○ | AA34: 597 | AB34: ◎ | AC34: 79.83 | AD34: ◎ | AE34: 47.33 | AF34: なし | AG34: 3.2 | AH34: 2.8 | AI34: 2.8 | AJ34: 2.8 | AK34: 3.4 | AL34: 3.2 | AM34: 2.8 | AN34: 2.8 | AO34: 2.3 | AP34: 3.8 | AQ34: 3.2 | AR34: 2.8 | AS34: 2.8 | AT34: 2.8 | AU34: 3.8
A35: 乳児用・幼児用 （兼用タイプ） | B35: ベルト 固定 | C35: 自C-1002,自C-158 | D35: ミリブ3500 | E35: タカタ(株) | F35: 02 | G35: 2000年 1月施行 国内基準 | P35: 優 | Q35: ◎ | R35: ◎ | S35: 60 | T35: ◎ | U35: ◎ | V35: 49.51 | W35: なし | X35: 良 | Y35: ◎ | Z35: ○ | AA35: 617 | AB35: ◎ | AC35: 70.7 | AD35: ◎ | AE35: 51.53 | AF35: なし | AL35: 4.2 | AM35: 4.5 | AN35: 4 | AO35: 3 | AP35: 4.6 | AQ35: 4.2 | AR35: 4.5 | AS35: 4 | AT35: 5 | AU35: 4.6
A36: 乳児用・幼児用 （兼用タイプ） | B36: ベルト 固定 | C36: 自C-1001,自C-100 | D36: ミリブ4000 | E36: タカタ(株) | F36: 01 | G36: 2000年 1月施行 国内基準 | P36: 優 | Q36: ◎ | R36: ◎ | S36: 56 | T36: ◎ | U36: ◎ | V36: 50.68 | W36: なし | X36: 良 | Y36: ◎ | Z36: ○ | AA36: 615 | AB36: ◎ | AC36: 70.82 | AD36: ◎ | AE36: 50.84 | AF36: なし | AL36: 3 | AM36: 3.5 | AN36: 4.3 | AO36: 3 | AP36: 4.2 | AQ36: 3 | AR36: 3.7 | AS36: 4.3 | AT36: 4.5 | AU36: 4.2
A37: 乳児用・幼児用 （兼用タイプ） | B37: ベルト 固定 | C37: E8 044400 | D37: ユーロビギン | E37: リーマン(株) | F37: 07 | G37: R44 04 | P37: 優 | Q37: ◎ | R37: ◎ | S37: 50 | T37: ◎ | U37: ◎ | V37: 49.8 | W37: なし | X37: 普通 | Y37: ◎ | Z37: ○ | AA37: 582 | AB37: ○ | AC37: 80.78 | AD37: ◎ | AE37: 52.23 | AF37: なし | AL37: 4.2 | AM37: 3.2 | AN37: 4.3 | AO37: 4.8 | AP37: 3.6 | AQ37: 4.2 | AR37: 3.2 | AS37: 4.3 | AT37: 5 | AU37: 4
A38: 乳児用・幼児用 （兼用タイプ） | B38: ベルト 固定 | C38: E13 040063 | D38: ユーロフィックス EC820 | E38: アップリカ葛西(株) | F38: 07 | G38: R44 04 | H38: 推奨 せず | I38: ◎ | J38: × | K38: ◎ | L38: 550 | M38: ○ | N38: 74.81 | O38: なし | P38: 優 | Q38: ◎ | R38: ◎ | S38: 30 | T38: ◎ | U38: ◎ | V38: 54.13 | W38: なし | X38: 普通 | Y38: ○ | Z38: ○ | AA38: 602 | AB38: ◎ | AC38: 71.62 | AD38: ◎ | AE38: 54.08 | AF38: なし | AG38: 3.2 | AH38: 3.3 | AI38: 2.5 | AJ38: 3.5 | AK38: 3.6 | AL38: 3.2 | AM38: 3.3 | AN38: 2.5 | AO38: 2 | AP38: 3.6 | AQ38: 3.2 | AR38: 3.5 | AS38: 2.5 | AT38: 3.5 | AU38: 3.6
A39: 乳児用・幼児用 （兼用タイプ） | B39: ベルト 固定 | C39: 自C-2509 | D39: レカロスタートゼロプラス | E39: レカロ(株) | F39: 05 | G39: 2000年 1月施行 国内基準 | P39: 優 | Q39: ◎ | R39: ◎ | S39: 55 | T39: ◎ | U39: ◎ | V39: 53.06 | W39: なし | X39: 良 | Y39: ◎ | Z39: ○ | AA39: 572 | AB39: ◎ | AC39: 74.54 | AD39: ◎ | AE39: 48.49 | AF39: なし | AL39: 4.3 | AM39: 4 | AN39: 4 | AO39: 4.8 | AP39: 3.4 | AQ39: 4.3 | AR39: 4 | AS39: 4 | AT39: 5 | AU39: 3.8
A40: 乳児用・幼児用 （兼用タイプ） | B40: ベルト 固定 | C40: E4 04443715 | D40: コッコロ | E40: コンビ(株) | F40: 07 | G40: R44 04 | P40: 良 | Q40: ○ | R40: ◎ | S40: 42 | T40: ◎ | U40: ◎ | V40: 54.16 | W40: なし | X40: 普通 | Y40: ◎ | Z40: ○ | AA40: 576 | AB40: ○ | AC40: 87.15 | AD40: ◎ | AE40: 44.1 | AF40: なし | AL40: 4.3 | AM40: 3.7 | AN40: 4 | AO40: 3.5 | AP40: 4.2 | AQ40: 4.3 | AR40: 3.7 | AS40: 4 | AT40: 5 | AU40: 4.2
A41: 乳児用・幼児用 （兼用タイプ） | B41: ベルト 固定 | C41: E13 045025 | D41: コッコロUX | E41: コンビ(株) | F41: 08 | G41: R44 04 | P41: 良 | Q41: ◎ | R41: ◎ | S41: 38 | T41: ◎ | U41: ○ | V41: 61.28 | W41: なし | X41: 普通 | Y41: ◎ | Z41: ○ | AA41: 566 | AB41: ○ | AC41: 80.23 | AD41: ◎ | AE41: 45.7 | AF41: なし | AL41: 4.3 | AM41: 3.7 | AN41: 4 | AO41: 3.5 | AP41: 4.6 | AQ41: 4.3 | AR41: 3.7 | AS41: 4 | AT41: 5 | AU41: 4.2
A42: 乳児用・幼児用 （兼用タイプ） | B42: ベルト 固定 | C42: 自C-1002,自C-159 | D42: ゼウスターンEG | E42: コンビ(株) | F42: 02 | G42: 2000年 1月施行 国内基準 | P42: 良 | Q42: ◎ (※1) | R42: ◎ | S42: 54 | T42: ◎ | U42: ○ | V42: 55.16 | W42: なし | X42: 良 | Y42: ◎ (※1) | Z42: ○ | AA42: 635 | AB42: ◎ | AC42: 59.37 | AD42: ◎ | AE42: 46.76 | AF42: (※2) | AL42: 4 | AM42: 4.8 | AN42: 3.6 | AO42: 3.8 | AP42: 3.4 | AQ42: 4 | AR42: 4.8 | AS42: 3.6 | AT42: 4.3 | AU42: 3.4 | AV42: ※1 サポートレッグに変形が発生したが、それは衝撃吸収機構の作動によるものである。 ※2 骨盤拘束が弱く、腹部を圧迫しているが、それがバックル・ハーネスによってである。
A43: 乳児用・幼児用 （兼用タイプ） | B43: ベルト 固定 | C43: E4 04443701 | D43: セパラテ | E43: コンビ(株) | F43: 07 | G43: R44 04 | P43: 良 | Q43: ◎ | R43: ◎ | S43: 35 | T43: ◎ | U43: ○ | V43: 59.43 | W43: なし | X43: 普通 | Y43: ◎ | Z43: ○ | AA43: 664 | AB43: ○ | AC43: 84.37 | AD43: ◎ | AE43: 44.81 | AF43: なし | AL43: 4 | AM43: 3.7 | AN43: 3.7 | AO43: 3.8 | AP43: 4.4 | AQ43: 4 | AR43: 3.7 | AS43: 3.7 | AT43: 4.3 | AU43: 4.4
A44: 乳児用・幼児用 （兼用タイプ） | B44: ベルト 固定 | C44: 自C-2517 | D44: ニューボーンベッドイージーターン６００ | E44: アップリカ葛西(株) | F44: 06 | G44: 2000年 1月施行 国内基準 | H44: 良 | I44: ◎ | J44: ◎ | K44: ◎ | L44: 458 | M44: ○ | N44: 63.45 | O44: なし | P44: 良 | Q44: ◎ | R44: ◎ | S44: 55 | T44: ◎ | U44: ○ | V44: 59.36 | W44: なし | X44: 推奨 せず | Y44: ◎ | Z44: ○ | AA44: 582 | AB44: ◎ | AC44: 79.74 | AD44: ◎ | AE44: 46.33 | AF44: ×(※) | AG44: 2.3 | AH44: 2.8 | AI44: 2.2 | AJ44: 2.8 | AK44: 3.4 | AL44: 2.3 | AM44: 2.8 | AN44: 2.2 | AO44: 2.8 | AP44: 3.4 | AQ44: 2.3 | AR44: 2.8 | AS44: 2.2 | AT44: 2.8 | AU44: 3.4 | AV44: ※ 腹部を圧迫し、幼児の身体に傷害を与える恐れがあった。
A45: 乳児用・幼児用 （兼用タイプ） | B45: ベルト 固定 | C45: 自C-2518 | D45: ニューボーンベッドイージーターンWエアーサーモ１０００ | E45: アップリカ葛西(株) | F45: 06 | G45: 2000年 1月施行 国内基準 | H45: 良 | I45: ◎ | J45: ◎ | K45: ◎ | L45: 461 | M45: ○ | N45: 67.49 | O45: なし | P45: 良 | Q45: ◎ | R45: ○ | S45: 61 | T45: ◎ | U45: ◎ | V45: 45.81 | W45: なし | X45: 推奨 せず | Y45: ◎ | Z45: ○ | AA45: 640 | AB45: ○ | AC45: 87.83 | AD45: ○ | AE45: 46.71 | AF45: ×(※) | AG45: 2.3 | AH45: 2.8 | AI45: 2.4 | AJ45: 2.8 | AK45: 3.4 | AL45: 2.3 | AM45: 2.8 | AN45: 2.4 | AO45: 2.8 | AP45: 3.4 | AQ45: 2.3 | AR45: 2.8 | AS45: 2.4 | AT45: 2.8 | AU45: 3.4 | AV45: ※ 腹部を圧迫し、幼児の身体に傷害を与える恐れがあった。
A46: 乳児用・幼児用 （兼用タイプ） | B46: ベルト 固定 | C46: E8 044159 | D46: パミオウーノ | E46: リーマン(株) | F46: 06 | G46: R44 04 | P46: 良 | Q46: ◎ | R46: ◎ | S46: 53 | T46: ◎ | U46: ○ | V46: 59.23 | W46: なし | X46: 普通 | Y46: ◎ | Z46: ○ | AA46: 555 | AB46: ○ | AC46: 81.82 | AD46: ◎ | AE46: 45.22 | AF46: なし | AL46: 4.5 | AM46: 4 | AN46: 4 | AO46: 4.8 | AP46: 3.4 | AQ46: 4.5 | AR46: 4 | AS46: 4 | AT46: 5 | AU46: 4
A47: 乳児用・幼児用 （兼用タイプ） | B47: ベルト 固定 | C47: 自C-2537 | D47: マシュマロベッドグランデWサーモ７５０ | E47: アップリカ・チルドレンズプロダクツ(株) | F47: 08 | G47: 2000年 1月施行 国内基準 | H47: 良 | I47: ◎ | J47: ◎ | K47: ◎ | L47: 456 | M47: ○ | N47: 69.19 | O47: なし | P47: 良 | Q47: ◎ | R47: ○ | S47: 61 | T47: ◎ | U47: ◎ | V47: 45.27 | W47: なし | X47: 普通 | Y47: ◎ | Z47: ○ | AA47: 583 | AB47: ○ | AC47: 85.86 | AD47: ◎ | AE47: 51.36 | AF47: なし | AG47: 3 | AH47: 2.8 | AI47: 2.8 | AJ47: 2.8 | AK47: 3.4 | AL47: 3 | AM47: 2.8 | AN47: 2.8 | AO47: 2.8 | AP47: 3.4 | AQ47: 3 | AR47: 2.8 | AS47: 2.8 | AT47: 2.8 | AU47: 3.8
A48: 乳児用・幼児用 （兼用タイプ） | B48: ベルト 固定 | C48: 自C-2001 | D48: ミリブ4000EX | E48: タカタ(株) | F48: 02 | G48: 2000年 1月施行 国内基準 | P48: 良 | Q48: ◎ | R48: ◎ | S48: 52 | T48: ◎ | U48: ○ | V48: 56.12 | W48: なし | X48: 良 | Y48: ◎ | Z48: ○ | AA48: 598 | AB48: ◎ | AC48: 73.64 | AD48: ◎ | AE48: 56.74 | AF48: なし | AL48: 4.7 | AM48: 4.8 | AN48: 4.7 | AO48: 3.8 | AP48: 4.2 | AQ48: 4.7 | AR48: 4.8 | AS48: 4.7 | AT48: 5 | AU48: 4.6 | AV48: 希望試験機種
A49: 乳児用・幼児用 （兼用タイプ） | B49: ベルト 固定 | C49: 自C-2023 | D49: ミリブ6000 | E49: タカタ(株) | F49: 03 | G49: 2000年 1月施行 国内基準 | P49: 良 | Q49: ○ | R49: ◎ | S49: 55 | T49: ◎ | U49: ◎ | V49: 51.2 | W49: なし | X49: 優 | Y49: ◎ | Z49: ◎ | AA49: 550 | AB49: ◎ | AC49: 69.96 | AD49: ◎ | AE49: 52.8 | AF49: なし | AL49: 4.8 | AM49: 5 | AN49: 4.3 | AO49: 4.5 | AP49: 4 | AQ49: 4.8 | AR49: 4.8 | AS49: 4.3 | AT49: 4.8 | AU49: 4
A50: 乳児用・幼児用 （兼用タイプ） | B50: ベルト 固定 | C50: 自C-2030 | D50: エールベベ・くるっとEX | E50: (株)カーメイト | F50: 02 | G50: 2000年 1月施行 国内基準 | P50: 普通 | Q50: ◎ (※1) | R50: ○ | S50: 64 | T50: ◎ | U50: ○ | V50: 83.67 | W50: なし | X50: 良 | Y50: ◎ (※1) | Z50: ○ | AA50: 636 | AB50: ◎ | AC50: 72.02 | AD50: ◎ | AE50: 50.61 | AF50: (※2) | AL50: 4.2 | AM50: 5 | AN50: 3.8 | AO50: 4.8 | AP50: 4.4 | AQ50: 4.2 | AR50: 5 | AS50: 3.8 | AT50: 4.8 | AU50: 4.4 | AV50: ※1 サポートレッグに変形が発生したが、それは衝撃吸収機構の作動によるものである。 ※2 骨盤拘束が弱く、腹部を圧迫しているが、それがバックル・ハーネスによってである。
A51: 乳児用・幼児用 （兼用タイプ） | B51: ベルト 固定 | C51: 自C-2530 | D51: すくすくターン | E51: (株)カーメイト | F51: 07 | G51: 2000年 1月施行 国内基準 | P51: 普通 | Q51: ◎ | R51: ○ | S51: 61 | T51: ◎ | U51: ○ | V51: 66.81 | W51: なし | X51: 普通 | Y51: ○ | Z51: ○ | AA51: 583 | AB51: ◎ | AC51: 62.99 | AD51: ◎ | AE51: 45.16 | AF51: なし | AL51: 4.5 | AM51: 4.8 | AN51: 3.8 | AO51: 5 | AP51: 4.8 | AQ51: 4.5 | AR51: 4.8 | AS51: 3.8 | AT51: 4.5 | AU51: 4.4
A52: 乳児用・幼児用 （兼用タイプ） | B52: ベルト 固定 | C52: 自C-2512 | D52: ニューボーンベッドワイド＆ロング | E52: アップリカ葛西(株) | F52: 05 | G52: 2000年 1月施行 国内基準 | H52: 推奨 せず | I52: ◎ (※) | J52: × | K52: ◎ | L52: 560 | M52: ○ | N52: 70.39 | O52: なし | P52: 普通 | Q52: ○ (※) | R52: ◎ | S52: 53 | T52: ◎ | U52: ○ | V52: 57.58 | W52: なし | X52: 普通 | Y52: ○ (※) | Z52: ○ | AA52: 588 | AB52: ◎ | AC52: 70.32 | AD52: ◎ | AE52: 51.96 | AF52: なし | AG52: 3.2 | AH52: 3 | AI52: 2.5 | AJ52: 3.5 | AK52: 3.4 | AL52: 3.2 | AM52: 3 | AN52: 2.5 | AO52: 2.5 | AP52: 3.4 | AQ52: 3.2 | AR52: 3 | AS52: 2.5 | AT52: 3.5 | AU52: 3.4 | AV52: ※ ベルトガイド周辺の樹脂カバーに割れが発生したが、それは衝撃吸収構造の作動によるものである。
A53: 乳児用・幼児用 （兼用タイプ） | B53: ベルト 固定 | C53: 自C-1001,自C-101 | D53: ネオシスファースト2.5S | E53: コンビ(株) | F53: 01 | G53: 2000年 1月施行 国内基準 | P53: 普通 | Q53: ○ | R53: ◎ | S53: 47 | T53: ◎ | U53: ○ | V53: 55.31 | W53: なし | X53: 良 | Y53: ◎ | Z53: ○ | AA53: 657 | AB53: ◎ | AC53: 77.6 | AD53: ◎ | AE53: 40.64 | AF53: (※) | AL53: 3.5 | AM53: 4.7 | AN53: 3.7 | AO53: 3 | AP53: 3.8 | AQ53: 3.5 | AR53: 4.7 | AS53: 3.7 | AT53: 3.5 | AU53: 3.4 | AV53: ※ 骨盤拘束が弱く、腹部を圧迫しているが、それがパッド・ハーネスによってである。 希望試験機種
A54: 乳児用・幼児用 （兼用タイプ） | B54: ベルト 固定 | C54: E13 040068 | D54: ベッティーノSTD | E54: アップリカ・チルドレンズプロダクツ(株) | F54: 08 | G54: R44 04 | H54: 普通 | I54: ○ | J54: ◎ | K54: ◎ | L54: 571 | M54: ○ | N54: 58.81 | O54: なし | P54: 普通 | Q54: ○ | R54: ◎ | S54: 22 | T54: ◎ | U54: ○ | V54: 62.18 | W54: なし | X54: 普通 | Y54: ◎ | Z54: ○ | AA54: 600 | AB54: ○ | AC54: 80.17 | AD54: ○ | AE54: 63.69 | AF54: なし | AG54: 3 | AH54: 3.3 | AI54: 3.8 | AJ54: 3.8 | AK54: 3.8 | AL54: 3 | AM54: 3.3 | AN54: 3.8 | AO54: 2.8 | AP54: 3.4 | AQ54: 3 | AR54: 3.3 | AS54: 3.8 | AT54: 3.8 | AU54: 3.4
A55: 幼児専用 | B55: ベルト 固定 | C55: － | D55: NEWトラベルベスト | E55: (株)日本育児 | F55: 06 | G55: FMVSS No.213 | X55: 普通 | Y55: ○ | Z55: ○ | AA55: 603 | AB55: ◎ | AC55: 60.41 | AD55: ◎ | AE55: 46.31 | AF55: なし | AQ55: 2.5 | AR55: 3 | AS55: 3 | AT55: 2.5 | AU55: 2
A56: 幼児専用 | B56: ベルト 固定 | C56: 自C-1011,自C-147 | D56: PAOPAO チャイルドフォービー | E56: (株)東海理化電機製作所 | F56: 01 | G56: 2000年 1月施行 国内基準 | X56: 良 | Y56: ◎ (※) | Z56: ○ | AA56: 638 | AB56: ◎ | AC56: 66.9 | AD56: ◎ | AE56: 45.96 | AF56: なし | AQ56: 3.2 | AR56: 3 | AS56: 1.7 | AT56: 4 | AU56: 4 | AV56: ※ サポートレッグに変形が発生したが、それは衝撃吸収機構の作動によるものである。
A57: 幼児専用 | B57: ベルト 固定 | C57: E4 04443614 | D57: RECARO Start R1 | E57: レカロ(株) | F57: 07 | G57: R44 04 | X57: インパクトシールドタイプであるため評価は行わない。(※1) | Y57: ◎ | Z57: ○ | AA57: 595 | AB57: ◎ | AC57: 67.4 | AD57: ◎ | AE57: 38.04 | AF57: (※2) | AQ57: 3.7 | AR57: 3.3 | AS57: 4.5 | AT57: 5 | AU57: 3 | AV57: ※1 インパクトシールドタイプ（自動車のシートベルトにより、インパクトシールド（衝突試験時、子供の体が飛び出すことを防ぐ拘束装置）を介して、チャイルドシートと子供の体を一体的に拘束するタイプ）のチャイルドシートについては、インパクトシールドがダミー胸部や腹部に計測範囲を超える大きな変形を生じさせるため、腹部への圧力を正確に計測できないことがあり、腹部圧迫計測を開始した平成15年度以降の試験対象機種の前面衝突試験の総合的な評価を行っていない。平成19年度の試験結果についても、これらに加え、胸部の変形の評価方法及びインパクトシールドタイプの腹部への圧力の評価方法が確立していないことがあるため、評価を行わないこととした。 ※2 ダミーの肋骨が最大まで変位した。(現在、胸部の評価方法は確立していない。）
A58: 幼児専用 | B58: ベルト 固定 | C58: 自C-2055 | D58: エールベベ・さらっと３ステップ | E58: (株)カーメイト | F58: 05 | G58: 2000年 1月施行 国内基準 | X58: 計測範囲外の事象があったため、正しく評価できず（※) | Y58: ◎ | Z58: ○ | AA58: 590 | AB58: ◎ | AC58: 65.92 | AD58: ◎ | AE58: 35.82 | AF58: 計測範囲外 | AQ58: 3.3 | AR58: 3.2 | AS58: 2.5 | AT58: 5 | AU58: 3 | AV58: ※ 衝突試験時、体が飛び出すことを防ぐ拘束装置がダミー胸部と腹部に計測範囲を超える大きな変形を生じさせて、腹部への圧力について正確に計測できなかった。
A59: 幼児専用 | B59: ベルト 固定 | C59: 自C-2505 | D59: エールベベ・サラット３ステップⅡ/RECARO Start α1 | E59: カーメイト(株)/レカロ(株) | F59: 07 | G59: 2000年 1月施行 国内基準 | X59: インパクトシールドタイプであるため評価は行わない。(※1) | Y59: ◎ | Z59: ○ | AA59: 592 | AB59: ◎ | AC59: 66.64 | AD59: ◎ | AE59: 40.57 | AF59: (※2) | AQ59: 3.5 | AR59: 3.2 | AS59: 4.5 | AT59: 5 | AU59: 3 | AV59: ※1 インパクトシールドタイプ（自動車のシートベルトにより、インパクトシールド（衝突試験時、子供の体が飛び出すことを防ぐ拘束装置）を介して、チャイルドシートと子供の体を一体的に拘束するタイプ）のチャイルドシートについては、インパクトシールドがダミー胸部や腹部に計測範囲を超える大きな変形を生じさせるため、腹部への圧力を正確に計測できないことがあり、腹部圧迫計測を開始した平成15年度以降の試験対象機種の前面衝突試験の総合的な評価を行っていない。平成19年度の試験結果についても、これらに加え、胸部の変形の評価方法及びインパクトシールドタイプの腹部への圧力の評価方法が確立していないことがあるため、評価を行わないこととした。 ※2 ダミーの肋骨が最大まで変位した。(現在、胸部の評価方法は確立していない。）
A60: 幼児専用 | B60: ベルト 固定 | C60: 自C-1011,自C-147 | D60: エールべべ・プレシールド | E60: (株)カーメイト | F60: 01 | G60: 2000年 1月施行 国内基準 | X60: 普通 | Y60: ◎ | Z60: ○ | AA60: 576 | AB60: ◎ | AC60: 62.78 | AD60: ◎ | AE60: 41.75 | AF60: (※) | AQ60: 4.2 | AR60: 3.7 | AS60: 3.5 | AT60: 3.5 | AU60: 3 | AV60: ※ 骨盤拘束が弱く、腹部を圧迫しているが、それがシールドによってである。 希望試験機種
A61: 幼児専用 | B61: ベルト 固定 | C61: 自C-2519 | D61: チャイルド＆ジュニアシートムービングサポート | E61: アップリカ葛西(株) | F61: 07 | G61: 2000年 1月施行 国内基準 | X61: インパクトシールドタイプであるため評価は行わない。(※1) | Y61: ◎ | Z61: ◎ | AA61: 520 | AB61: ◎ | AC61: 66.52 | AD61: ◎ | AE61: 42.02 | AF61: (※2) | AQ61: 4 | AR61: 3.2 | AS61: 2 | AT61: 4.3 | AU61: 1 | AV61: ※1 インパクトシールドタイプ（自動車のシートベルトにより、インパクトシールド（衝突試験時、子供の体が飛び出すことを防ぐ拘束装置）を介して、チャイルドシートと子供の体を一体的に拘束するタイプ）のチャイルドシートについては、インパクトシールドがダミー胸部や腹部に計測範囲を超える大きな変形を生じさせるため、腹部への圧力を正確に計測できないことがあり、腹部圧迫計測を開始した平成15年度以降の試験対象機種の前面衝突試験の総合的な評価を行っていない。平成19年度の試験結果についても、これらに加え、胸部の変形の評価方法及びインパクトシールドタイプの腹部への圧力の評価方法が確立していないことがあるため、評価を行わないこととした。 ※2 ダミーの肋骨が最大まで変位した。(現在、胸部の評価方法は確立していない。）
A62: 幼児専用 | B62: ベルト 固定 | C62: － | D62: トラベルベスト | E62: (株)日本育児 | F62: 04 | G62: FMVSS No.213 | X62: 推奨 せず | Y62: × (※1,2) | Z62: ○ | AA62: 612 | AB62: ◎ | AC62: 65.05 | AD62: ◎ | AE62: 47.9 | AF62: × (※3) | AQ62: 2.3 | AR62: 1.3 | AS62: 2 | AT62: 1.3 | AU62: 2 | AV62: ※1 シートベルトの切り裂きが発生した。 ※2 背中部の強度保持板が破損した。 ※3 腹部を圧迫し、幼児の身体に傷害を与える恐れがあった。
A63: 幼児専用 | B63: ベルト 固定 | C63: E4 04443710 | D63: ハーネスフィットロング | E63: コンビ(株) | F63: 07 | G63: R44 04 | X63: 良 | Y63: ◎ | Z63: ○ | AA63: 620 | AB63: ◎ | AC63: 73.21 | AD63: ◎ | AE63: 43.67 | AF63: なし | AQ63: 4.3 | AR63: 3.7 | AS63: 4.5 | AT63: 4 | AU63: 4.6
A64: 幼児専用 | B64: ベルト 固定 | C64: 自C-2014 | D64: ハイパーベスト | E64: 全国防災事業協業組合 | F64: 03 | G64: 2000年 1月施行 国内基準 | X64: (※1) | Y64: ◎ (※2) | Z64: ◎ | AA64: 549 | AB64: ◎ | AC64: 79.48 | AD64: ◎ | AE64: 56.1 | AF64: × | AQ64: 3 | AR64: 2.5 | AS64: 1 | AT64: 1 | AU64: 1.7 | AV64: ※1 チャイルドシートの腰ベルトが、取扱説明書の使用方法通りにはダミーの腰骨部位を充分におおう位置に装着できないものであったため、各項目の結果のみを記載し、全体の評価は行わないこととした。 ※2 腰ベルト位置決めテープが破損したが、それは衝撃吸収機構の作動によるものである。
A65: 幼児専用 | B65: ベルト 固定 | C65: － | D65: ハイバックブースター | E65: (株)日本育児 | F65: 04 | G65: FMVSS No.213 | X65: 良 | Y65: ◎ | Z65: ○ | AA65: 616 | AB65: ◎ | AC65: 69.31 | AD65: ◎ | AE65: 43.38 | AF65: なし | AQ65: 2.2 | AR65: 2.3 | AS65: 3 | AT65: 3.5 | AU65: 4
A66: 幼児専用 | B66: ベルト 固定 | C66: 自C-2026 | D66: パワーベスト | E66: エムズジンティック(株) | F66: 04 | G66: 2000年 1月施行 国内基準 | X66: (※) | Y66: ◎ | Z66: ○ | AA66: 597 | AB66: ◎ | AC66: 75.74 | AD66: ◎ | AE66: 44.21 | AF66: (※) | AQ66: 2.2 | AR66: 2.2 | AS66: 1 | AT66: 1 | AU66: 1 | AV66: ※ 衝突試験時にダミーが大きく前屈し、面圧計がダミー腹部に挟まれる現象により大きな圧力が測定された。この圧力と拘束装置による腹部圧迫の圧力を明確に区分できず、腹部圧迫の程度を評価できないため、全体評価は行わないこととした。
A67: 幼児専用 | B67: ベルト 固定 | C67: － | D67: ピジョンコンコルドフィックスマックス | E67: ピジョン(株) | F67: 01 | G67: R44 03 | X67: 良 | Y67: ◎ | Z67: ○ | AA67: 566 | AB67: ◎ | AC67: 67.22 | AD67: ◎ | AE67: 45.32 | AF67: なし | AQ67: 1.8 | AR67: 2.5 | AS67: 3.2 | AT67: 4.8 | AU67: 4.4
A68: 幼児専用 | B68: ベルト 固定 | C68: 自C-1006,自C-174 | D68: ファンキッズ | E68: (株)ミクニ | F68: 02 | G68: 2000年 1月施行 国内基準 | X68: 良 | Y68: ○ | Z68: ◎ | AA68: 466 | AB68: ◎ | AC68: 68.64 | AD68: ◎ | AE68: 38.41 | AF68: (※) | AQ68: 2.2 | AR68: 3.2 | AS68: 2 | AT68: 2.7 | AU68: 3 | AV68: ※ 骨盤拘束が弱く、腹部を圧迫しているが、それがシールドによってである。
A69: 幼児専用 | B69: ベルト 固定 | C69: 自C-2064 | D69: ブオンキッズEG | E69: コンビ(株) | F69: 05 | G69: 2000年 1月施行 国内基準 | X69: 普通 | Y69: ○ | Z69: ○ | AA69: 648 | AB69: ◎ | AC69: 74.58 | AD69: ◎ | AE69: 44.92 | AF69: なし | AQ69: 3.3 | AR69: 2.8 | AS69: 2.7 | AT69: 2.8 | AU69: 5
A70: 幼児専用 | B70: ベルト 固定 | C70: － | D70: プリオリXP | E70: コンビ(株) | F70: 06 | G70: R44 03 | X70: 普通 | Y70: ◎ | Z70: ○ | AA70: 685 | AB70: ○ | AC70: 81.47 | AD70: ◎ | AE70: 42.62 | AF70: なし | AQ70: 3.8 | AR70: 2.5 | AS70: 2.3 | AT70: 5 | AU70: 4.6
A71: 幼児専用 | B71: ベルト 固定 | C71: 自C-1011,自C-147 | D71: プリムキッズ | E71: コンビ(株) | F71: 02 | G71: 2000年 1月施行 国内基準 | X71: 良 | Y71: ◎ | Z71: ○ | AA71: 579 | AB71: ◎ | AC71: 61.45 | AD71: ◎ | AE71: 39.72 | AF71: なし | AQ71: 4.2 | AR71: 4.5 | AS71: 4 | AT71: 3.5 | AU71: 3
A72: 幼児専用 | B72: ベルト 固定 | C72: － | D72: マキシコシチャイルド | E72: コンビ(株) | F72: 03 | G72: R44 03 | X72: 普通 | Y72: ◎ | Z72: ○ | AA72: 673 | AB72: ○ | AC72: 96.23 | AD72: ◎ | AE72: 45.31 | AF72: なし | AQ72: 4 | AR72: 3.8 | AS72: 3.7 | AT72: 4.8 | AU72: 4.2
A73: 幼児専用 | B73: ベルト 固定 | C73: 自C-2502 | D73: マシュマロエアーインパクトⅡ | E73: アップリカ葛西(株) | F73: 05 | G73: 2000年 1月施行 国内基準 | X73: 計測範囲外の事象があったため、正しく評価できず（※) | Y73: ◎ | Z73: ○ | AA73: 611 | AB73: ◎ | AC73: 54.96 | AD73: ◎ | AE73: 39.87 | AF73: 計測範囲外 | AQ73: 3.2 | AR73: 2.8 | AS73: 3.5 | AT73: 4 | AU73: 3 | AV73: ※ 衝突試験時、体が飛び出すことを防ぐ拘束装置がダミー胸部と腹部に計測範囲を超える大きな変形を生じさせて、腹部への圧力について正確に計測できなかった。
A74: 幼児専用 | B74: ベルト 固定 | C74: 自C-2048 | D74: マシュマロジュニアエアー8 サポート/インパクトシールド | E74: アップリカ葛西(株) | F74: 04 | G74: 2000年 1月施行 国内基準 | X74: 計測範囲外の事象があったため、正しく評価できず（※) | Y74: ◎ | Z74: ◎ | AA74: 535 | AB74: ◎ | AC74: 64.82 | AD74: ◎ | AE74: 39.69 | AF74: 計測範囲外 | AQ74: 3.2 | AR74: 2.8 | AS74: 3.5 | AT74: 4 | AU74: 1 | AV74: ※ 衝突試験時、体が飛び出すことを防ぐ拘束装置がダミー胸部と腹部に計測範囲を超える大きな変形を生じさせて、腹部への圧力について正確に計測できなかった。
A75: 幼児専用 | B75: ベルト 固定 | C75: 自C-2020 | D75: マシュマロフィッツV シールド | E75: アップリカ葛西(株) | F75: 03 | G75: 2000年 1月施行 国内基準 | X75: 推奨 せず | Y75: × (※) | Z75: ○ | AA75: 648 | AB75: ◎ | AC75: 59.77 | AD75: ◎ | AE75: 42.67 | AF75: なし | AQ75: 3.7 | AR75: 2.7 | AS75: 2.7 | AT75: 3.5 | AU75: 3 | AV75: ※ 幼児の身体に傷害を与える恐れのあるフレームの破損が発生した。
A76: 幼児専用 | B76: ベルト 固定 | C76: E13 040067 | D76: ユーロジュニア | E76: アップリカ葛西(株) | F76: 07 | G76: R44 04 | X76: インパクトシールドタイプであるため評価は行わない。(※1) | Y76: ◎ | Z76: ○ | AA76: 555 | AB76: ◎ | AC76: 67.65 | AD76: ◎ | AE76: 42.27 | AF76: (※2) | AQ76: 2.8 | AR76: 2.7 | AS76: 2 | AT76: 4 | AU76: 1 | AV76: ※1 インパクトシールドタイプ（自動車のシートベルトにより、インパクトシールド（衝突試験時、子供の体が飛び出すことを防ぐ拘束装置）を介して、チャイルドシートと子供の体を一体的に拘束するタイプ）のチャイルドシートについては、インパクトシールドがダミー胸部や腹部に計測範囲を超える大きな変形を生じさせるため、腹部への圧力を正確に計測できないことがあり、腹部圧迫計測を開始した平成15年度以降の試験対象機種の前面衝突試験の総合的な評価を行っていない。平成19年度の試験結果についても、これらに加え、胸部の変形の評価方法及びインパクトシールドタイプの腹部への圧力の評価方法が確立していないことがあるため、評価を行わないこととした。 ※2 ダミーの肋骨が最大まで変位した。(現在、胸部の評価方法は確立していない。）
A77: 幼児専用 | B77: ベルト 固定 | C77: － | D77: レーマー・キング | E77: (株)ウェスタンコーポレーション | F77: 01 | G77: R44 03 | X77: 普通 | Y77: ◎ | Z77: ○ | AA77: 675 | AB77: ◎ | AC77: 71.91 | AD77: ◎ | AE77: 41.7 | AF77: なし | AQ77: 3.3 | AR77: 3.2 | AS77: 3.3 | AT77: 4.8 | AU77: 3.6
A78: 幼児専用 | B78: ベルト 固定 | C78: － | D78: レーマー・ロード | E78: (株)ヤナセ | F78: 02 | G78: R44 03 | X78: 良 | Y78: ◎ (※) | Z78: ○ | AA78: 607 | AB78: ◎ | AC78: 72.09 | AD78: ◎ | AE78: 50.03 | AF78: なし | AQ78: 4.3 | AR78: 3 | AS78: 3.7 | AT78: 5 | AU78: 4.6 | AV78: ※ 肩用パッドの破損が発生したが、それは衝撃吸収機構の作動によるものである。
A79: 幼児専用 | B79: ベルト 固定 | C79: － | D79: レーマーキングＴＳプラス | E79: (株)ヤナセ | F79: 04 | G79: R44 03 | X79: 普通 | Y79: ◎ | Z79: ○ | AA79: 602 | AB79: ◎ | AC79: 68.01 | AD79: ○ | AE79: 60.28 | AF79: なし | AQ79: 5 | AR79: 3.8 | AS79: 3.7 | AT79: 5 | AU79: 4.6 | AV79: 希望試験機種
